From mboxrd@z Thu Jan 1 00:00:00 1970 Return-Path: Received: from mails.dpdk.org (mails.dpdk.org [217.70.189.124]) by inbox.dpdk.org (Postfix) with ESMTP id 9C5AA461C0 for ; Fri, 7 Feb 2025 23:22:09 +0100 (CET) Received: from mails.dpdk.org (localhost [127.0.0.1]) by mails.dpdk.org (Postfix) with ESMTP id 791DF40280; Fri, 7 Feb 2025 23:22:09 +0100 (CET) Received: from mail-pj1-f99.google.com (mail-pj1-f99.google.com [209.85.216.99]) by mails.dpdk.org (Postfix) with ESMTP id 97F9A40270 for ; Fri, 7 Feb 2025 23:22:07 +0100 (CET) Received: by mail-pj1-f99.google.com with SMTP id 98e67ed59e1d1-2fa286ea7e8so1709442a91.2 for ; Fri, 07 Feb 2025 14:22:07 -0800 (PST) DKIM-Signature: v=1; a=rsa-sha256; c=relaxed/relaxed; d=iol.unh.edu; s=unh-iol; t=1738966927; x=1739571727; darn=dpdk.org; h=references:in-reply-to:cc:to:from:subject:message-id:date:from:to :cc:subject:date:message-id:reply-to; bh=+7SCoWLZeCx5ZhAOW9TuACkF16A0JL+rAj6FYyIwdoo=; b=cFD6zIvHitMkvpgVa9nQKMV8EQywh8pTVrEgrytav7mGMsnge1G4Zy9LUJOuCg/dWM yH9UQQEyscJkOHM0e/Oivcir80T/OWSg52s7cd+2dl2QrCFvOqqPUDfUfyXxa7Lj85IT 4oit7Su99vUD8paCFMN6qRPx9Xy08TkNuo+Gw= X-Google-DKIM-Signature: v=1; a=rsa-sha256; c=relaxed/relaxed; d=1e100.net; s=20230601; t=1738966927; x=1739571727; h=references:in-reply-to:cc:to:from:subject:message-id:date :x-gm-message-state:from:to:cc:subject:date:message-id:reply-to; bh=+7SCoWLZeCx5ZhAOW9TuACkF16A0JL+rAj6FYyIwdoo=; b=kAidupKVXeAeh7KeFAbHumpcHp+mx2hqFKGd09AFvbgIX5w1G9SK8W0PpdgpRHae/N 8k6wBSQYJfpMb0HF+W5j5WqXHQXv8u0q9qCX9lWRZCu5P/ednJsJwej/0hY7FlM32zHm 122nLRwbM+aFIrADLsNReXk+NmNjzvSfoIwkg1+HSDd8OG6jJJttgJqtsAi/Duj8SqB+ 0L3pf4ACpIS4uvshbpsG1mW0jhxaSGhxokZeDvaQN/JFm53qmRmPAuyN4RcpaU8cmDUS oxuWdcf5IH519abpYM1TD/SZyht2PU8Iglc291ygxdBKauUp+hJlIG3cfBkLN4lYbn31 mW4w== X-Gm-Message-State: AOJu0YyMga83lktLJFNhEMqBSV/DG9b9S1q+7n+Bn461APBa7322DO0g feNSGXoEI9PbeW77urEAEDjPYFRwHPyT6QQ6ECK5wK146qNVS29vnGJvjB5ek5IBl5mWWL74HB8 J+ugKQX4W6ZGLA39XvCc5LTcatzeiGVatqC3U8V3U X-Gm-Gg: ASbGncscDLMGAHqKxNmfItYlLNrrC92vbOFVPm2fB0YVLiO9gafBWF524+EYsjaqnUG wAHV0yFkIRCfjqpqAcApzfKUL0fHxT3z3HD2PJGgm8AgUC0/xBsUcMEybUiYjYd4S5Owe+tw/Pe VFO8Sv3H5Z7MZCjrpONXMgV9IfCeYY7xVwHy5n4JqMvrZFpcTMq/Rn4860A8M2ZAa9AYsCZ+cfJ 3e+YkLjZ+jSJoIM45/LFOyJ1ynuuxTwo8yk1ckTMoj4i0e/tJ4hb+9L5pcV83T5OT1idjD5gkbP eR/dNRD2LV/yQqxCkxw8EW6ScZK8Pw== X-Google-Smtp-Source: AGHT+IH+7xdJIfKCdhEJAiw+31Cy3ELD1zzjqBw0PxzoABRqzG3Vb9PZ+auSLq/nadGbbErn/MNKARBzfPpz X-Received: by 2002:a17:90b:1d52:b0:2ee:aa28:79aa with SMTP id 98e67ed59e1d1-2fa23f423e4mr5904682a91.6.1738966926724; Fri, 07 Feb 2025 14:22:06 -0800 (PST) Received: from postal.iol.unh.edu (postal.iol.unh.edu. [132.177.123.84]) by smtp-relay.gmail.com with ESMTPS id d9443c01a7336-21f3650c4e5sm2469685ad.2.2025.02.07.14.22.06 (version=TLS1_2 cipher=ECDHE-ECDSA-AES128-GCM-SHA256 bits=128/128); Fri, 07 Feb 2025 14:22:06 -0800 (PST) X-Relaying-Domain: iol.unh.edu Date: Fri, 07 Feb 2025 14:22:06 -0800 (PST) Message-ID: <67a6878e.170a0220.954f0.d281SMTPIN_ADDED_MISSING@mx.google.com> Received: from [172.21.0.5] (unknown [172.18.0.240]) by postal.iol.unh.edu (Postfix) with ESMTP id EAF8D6052471; Fri, 7 Feb 2025 17:22:05 -0500 (EST) Subject: |SUCCESS| pw151128 [PATCH] examples/ipsec-secgw: fix iv len in ctr 1 From: dpdklab@iol.unh.edu To: Test Report Cc: dpdk-test-reports@iol.unh.edu In-Reply-To: <20250207134545.63820-1-nkaithakadan@marvell.com> References: <20250207134545.63820-1-nkaithakadan@marvell.com> Content-Type: text/plain X-BeenThere: test-report@dpdk.org X-Mailman-Version: 2.1.29 Precedence: list List-Id: automatic DPDK test reports List-Unsubscribe: , List-Archive: List-Post: List-Help: List-Subscribe: , Errors-To: test-report-bounces@dpdk.org Test-Label: iol-unit-amd64-testing Test-Status: SUCCESS http://dpdk.org/patch/151128 _Testing PASS_ Submitter: Nithinsen Kaithakadan Date: Friday, February 07 2025 13:45:43 DPDK git baseline: Repo:dpdk Branch: master CommitID:388b1abe291544106e406cb0a200b5b0c96fe599 151128 --> testing pass Upstream job id: Generic-Unit-Test-DPDK#312895 Test environment and result as below: +---------------------+----------------+ | Environment | dpdk_unit_test | +=====================+================+ | CentOS Stream 9 | PASS | +---------------------+----------------+ | Debian 12 | PASS | +---------------------+----------------+ | Debian Bullseye | PASS | +---------------------+----------------+ | Fedora 40 | PASS | +---------------------+----------------+ | Fedora 41 | PASS | +---------------------+----------------+ | RHEL9 | PASS | +---------------------+----------------+ | RHEL8 | PASS | +---------------------+----------------+ | Fedora 40 (Clang) | PASS | +---------------------+----------------+ | Fedora 41 (Clang) | PASS | +---------------------+----------------+ | Ubuntu 20.04 | PASS | +---------------------+----------------+ | Ubuntu 24.04 | PASS | +---------------------+----------------+ | Ubuntu 22.04 | PASS | +---------------------+----------------+ | Windows Server 2022 | PASS | +---------------------+----------------+ CentOS Stream 9 Kernel: Depends on container host Compiler: gcc 11.5.0 20240719 (Red Hat 11.5.0-2) Debian 12 Kernel: Depends on container host Compiler: gcc (Debian 12.2.0-14) 12.2.0 Debian Bullseye Kernel: Depends on container host Compiler: gcc (Debian 10.2.1-6) 10.2.1 20210110 Fedora 40 Kernel: Depends on container host Compiler: gcc 14.2.1 20240912 (Red Hat 14.2.1-3) Fedora 41 Kernel: Depends on container host Compiler: gcc 14.2.1 20240912 (Red Hat 14.2.1-3) RHEL9 Kernel: Depends on container host Compiler: gcc 11.5.0 20240719 (Red Hat 11.5.0-2) RHEL8 Kernel: Depends on container host Compiler: gcc 8.5.0 20210514 (Red Hat 8.5.0-22) Fedora 40 (Clang) Kernel: Depends on container host Compiler: clang 18.1.8 (Fedora 18.1.8-1.fc40) Fedora 41 (Clang) Kernel: Depends on container host Compiler: clang 19.1.5 (Fedora 19.1.5-1.fc41) Ubuntu 20.04 Kernel: Depends on container host Compiler: gcc (Ubuntu 9.4.0-1ubuntu1~20.04.2) 9.4.0 Ubuntu 24.04 Kernel: Depends on container host Compiler: gcc (Ubuntu 13.3.0-6ubuntu2~24.04) 13.3.0 Ubuntu 22.04 Kernel: Depends on container host Compiler: gcc (Ubuntu 11.4.0-1ubuntu1~22.04) 11.4.0 Windows Server 2022 Kernel: 10.0.20348.2031 Compiler: clang 15.0.7, gcc 14.1.0 (MinGW), and MSVC VS 19.39.33521 To view detailed results, visit: https://lab.dpdk.org/results/dashboard/patchsets/32524/ UNH-IOL DPDK Community Lab To manage your email subscriptions, visit: https://lab.dpdk.org/results/dashboard/preferences/subscriptions/