From mboxrd@z Thu Jan 1 00:00:00 1970 Return-Path: Received: from mails.dpdk.org (mails.dpdk.org [217.70.189.124]) by inbox.dpdk.org (Postfix) with ESMTP id B4572461C0 for ; Fri, 7 Feb 2025 23:34:14 +0100 (CET) Received: from mails.dpdk.org (localhost [127.0.0.1]) by mails.dpdk.org (Postfix) with ESMTP id 8BB8B40280; Fri, 7 Feb 2025 23:34:14 +0100 (CET) Received: from mail-pl1-f225.google.com (mail-pl1-f225.google.com [209.85.214.225]) by mails.dpdk.org (Postfix) with ESMTP id 05D4C40270 for ; Fri, 7 Feb 2025 23:34:13 +0100 (CET) Received: by mail-pl1-f225.google.com with SMTP id d9443c01a7336-21f62cc4088so11803145ad.3 for ; Fri, 07 Feb 2025 14:34:13 -0800 (PST) DKIM-Signature: v=1; a=rsa-sha256; c=relaxed/relaxed; d=iol.unh.edu; s=unh-iol; t=1738967653; x=1739572453; darn=dpdk.org; h=references:in-reply-to:cc:to:from:subject:message-id:date:from:to :cc:subject:date:message-id:reply-to; bh=S1EqaM3w8rohaaUxg3k4jGf5txZ9vNnAO0N/JYJchLc=; b=Ci94YGalbjYiTo7j934ySUSbtjFlwT+mnGkzqil7TFEquMzSgvu2u0w+pivs9HLjjh RAeMR2LlX1S2StAroFqYHSEnygXlaya2sDUZk6/eCe+y+7n8H7ZtJe9/P7jhm4nVwqMg JNHih/VS5BTrT3qj8nrX/V7jOZMRDzgtYzJsU= X-Google-DKIM-Signature: v=1; a=rsa-sha256; c=relaxed/relaxed; d=1e100.net; s=20230601; t=1738967653; x=1739572453; h=references:in-reply-to:cc:to:from:subject:message-id:date :x-gm-message-state:from:to:cc:subject:date:message-id:reply-to; bh=S1EqaM3w8rohaaUxg3k4jGf5txZ9vNnAO0N/JYJchLc=; b=PBoReDT3sPTjnaWQmE5NvJYzEL/4hhjF2Zy0FfjZUGRfiF7HZlzCyuzF2k1G1fFwj5 ZoLFSq/NP1t6xR6D2r3ReOhRE1KjR/XNEki7WxHZJIDgtFNmCsj8VPwUg89CYRafUKtB BZePm5YfxbtPYA2SB5s5VCl5kiFEBDSnxVDN7rwkgf4DJZSwirjrkT6SOZsj0hIHDtND dswpGGx/st08ODpMDEtF5mBxXiTD3euYKL6Ez4mmplIcAnlUTWOr7m0t6Gg8q5Wzt4Iu 1RrjFqDV8cNZclvW/yP+GC5Y0mctOEg/GQd6ihOkgs25U374urErDSJKff+PS3KUGXjf nMqA== X-Gm-Message-State: AOJu0Yyto1zMtNsZIBS7mxqecqlRoVYA2H5Be2x5aVvvRcesri0MZoOC NIn4UptIrlpNAaf4fqh/jdyBTbGp5fbo1eBZsj1JzAoaX2uvUWogU0mK0Len485RHSdpIirFMWy CuyCmH/b6cID+k5SSQJNYq0dRsWXgzw4upLzs/Zwh X-Gm-Gg: ASbGnctetd/yUMqE5qny63fefmY5XYQ7eZOUAWQkI+DwyrBcQFyqBEe9UDNWsmVJuRL RwWflHH4WY7Zj0f3D1xf/iIpETz//MDJJj4a9Cu/XZQKc6gVdMex8Icuv5JvG3NVdU+lY7vEEsP 5IPhxe/HSjLeLZePUV71YY7aKSkBn0bdl2ghju6YC4T2SoTZ+RlgwN4/mkYWciBlQqYaujN/2n1 ACjcj6VXxLJXN8AivwyfgQWNL4D5XREtEmEc5PZ9cUyc8bCl5C+sovAQZxI4uQNsuGDJELtab7B GVOEf84ioJQ7tP2R0uliQ53Jioag0Q== X-Google-Smtp-Source: AGHT+IEsFACVp+xs4orWd2/R73w/3ySQ3XhYNITVZt906ekwiGMGHJckqQOQy07ul7XxY8yICyQTeHpF7h71 X-Received: by 2002:a17:903:1a04:b0:21a:8dec:e596 with SMTP id d9443c01a7336-21f4e73b547mr94528785ad.35.1738967651583; Fri, 07 Feb 2025 14:34:11 -0800 (PST) Received: from postal.iol.unh.edu (postal.iol.unh.edu. [132.177.123.84]) by smtp-relay.gmail.com with ESMTPS id d9443c01a7336-21f3656138csm2420885ad.51.2025.02.07.14.34.11 (version=TLS1_2 cipher=ECDHE-ECDSA-AES128-GCM-SHA256 bits=128/128); Fri, 07 Feb 2025 14:34:11 -0800 (PST) X-Relaying-Domain: iol.unh.edu Date: Fri, 07 Feb 2025 14:34:11 -0800 (PST) Message-ID: <67a68a63.170a0220.399406.c40aSMTPIN_ADDED_MISSING@mx.google.com> Received: from [172.21.0.5] (unknown [172.18.0.240]) by postal.iol.unh.edu (Postfix) with ESMTP id AD9036052471; Fri, 7 Feb 2025 17:34:10 -0500 (EST) Subject: |SUCCESS| pw151129-151131 [PATCH] [3/3] test/event: unit test to bur From: dpdklab@iol.unh.edu To: Test Report Cc: dpdk-test-reports@iol.unh.edu In-Reply-To: <20250207140910.721374-4-sthotton@marvell.com> References: <20250207140910.721374-4-sthotton@marvell.com> Content-Type: text/plain X-BeenThere: test-report@dpdk.org X-Mailman-Version: 2.1.29 Precedence: list List-Id: automatic DPDK test reports List-Unsubscribe: , List-Archive: List-Post: List-Help: List-Subscribe: , Errors-To: test-report-bounces@dpdk.org Test-Label: iol-compile-amd64-testing Test-Status: SUCCESS http://dpdk.org/patch/151131 _Testing PASS_ Submitter: Shijith Thotton Date: Friday, February 07 2025 14:09:10 DPDK git baseline: Repo:dpdk Branch: master CommitID:32c18e7364e30a8e43cc7cc6709a7ce606fa285e 151129-151131 --> testing pass Upstream job id: Generic-DPDK-Compile-Meson#359210 Test environment and result as below: +---------------------+-------------------+--------------------+-------------------------+------------------+-------------------+----------------------+ | Environment | dpdk_msvc_compile | dpdk_meson_compile | dpdk_llvm_clang_compile | dpdk_compile_ovs | dpdk_compile_spdk | dpdk_mingw64_compile | +=====================+===================+====================+=========================+==================+===================+======================+ | Windows Server 2022 | PASS | SKIPPED | PASS | SKIPPED | SKIPPED | PASS | +---------------------+-------------------+--------------------+-------------------------+------------------+-------------------+----------------------+ | FreeBSD 13.4 | SKIPPED | PASS | SKIPPED | SKIPPED | SKIPPED | SKIPPED | +---------------------+-------------------+--------------------+-------------------------+------------------+-------------------+----------------------+ | CentOS Stream 9 | SKIPPED | PASS | SKIPPED | PASS | PASS | SKIPPED | +---------------------+-------------------+--------------------+-------------------------+------------------+-------------------+----------------------+ | Debian Bullseye | SKIPPED | PASS | SKIPPED | PASS | PASS | SKIPPED | +---------------------+-------------------+--------------------+-------------------------+------------------+-------------------+----------------------+ | Debian 12 | SKIPPED | PASS | SKIPPED | PASS | PASS | SKIPPED | +---------------------+-------------------+--------------------+-------------------------+------------------+-------------------+----------------------+ | Fedora 40 (Clang) | SKIPPED | PASS | SKIPPED | PASS | PASS | SKIPPED | +---------------------+-------------------+--------------------+-------------------------+------------------+-------------------+----------------------+ | Fedora 40 | SKIPPED | PASS | SKIPPED | PASS | PASS | SKIPPED | +---------------------+-------------------+--------------------+-------------------------+------------------+-------------------+----------------------+ | Fedora 41 (Clang) | SKIPPED | PASS | SKIPPED | PASS | PASS | SKIPPED | +---------------------+-------------------+--------------------+-------------------------+------------------+-------------------+----------------------+ | Fedora 41 | SKIPPED | PASS | SKIPPED | PASS | PASS | SKIPPED | +---------------------+-------------------+--------------------+-------------------------+------------------+-------------------+----------------------+ | openSUSE Leap 15 | SKIPPED | PASS | SKIPPED | SKIPPED | SKIPPED | SKIPPED | +---------------------+-------------------+--------------------+-------------------------+------------------+-------------------+----------------------+ | RHEL8 | SKIPPED | PASS | SKIPPED | PASS | SKIPPED | SKIPPED | +---------------------+-------------------+--------------------+-------------------------+------------------+-------------------+----------------------+ | RHEL9 | SKIPPED | PASS | SKIPPED | PASS | SKIPPED | SKIPPED | +---------------------+-------------------+--------------------+-------------------------+------------------+-------------------+----------------------+ | Ubuntu 20.04 | SKIPPED | PASS | SKIPPED | SKIPPED | SKIPPED | SKIPPED | +---------------------+-------------------+--------------------+-------------------------+------------------+-------------------+----------------------+ | Ubuntu 22.04 | SKIPPED | PASS | SKIPPED | PASS | PASS | SKIPPED | +---------------------+-------------------+--------------------+-------------------------+------------------+-------------------+----------------------+ | Ubuntu 24.04 | SKIPPED | PASS | SKIPPED | PASS | PASS | SKIPPED | +---------------------+-------------------+--------------------+-------------------------+------------------+-------------------+----------------------+ | Alpine | SKIPPED | PASS | SKIPPED | PASS | SKIPPED | SKIPPED | +---------------------+-------------------+--------------------+-------------------------+------------------+-------------------+----------------------+ Windows Server 2022 Kernel: 10.0.20348.2031 Compiler: clang 15.0.7, gcc 14.1.0 (MinGW), and MSVC VS 19.39.33521 FreeBSD 13.4 Kernel: 13.4-RELEASE-p1 Compiler: clang 18.1.6 CentOS Stream 9 Kernel: Depends on container host Compiler: gcc 11.5.0 20240719 (Red Hat 11.5.0-2) Debian Bullseye Kernel: Depends on container host Compiler: gcc (Debian 10.2.1-6) 10.2.1 20210110 Debian 12 Kernel: Depends on container host Compiler: gcc (Debian 12.2.0-14) 12.2.0 Fedora 40 (Clang) Kernel: Depends on container host Compiler: clang 18.1.8 (Fedora 18.1.8-1.fc40) Fedora 40 Kernel: Depends on container host Compiler: gcc 14.2.1 20240912 (Red Hat 14.2.1-3) Fedora 41 (Clang) Kernel: Depends on container host Compiler: clang 19.1.5 (Fedora 19.1.5-1.fc41) Fedora 41 Kernel: Depends on container host Compiler: gcc 14.2.1 20240912 (Red Hat 14.2.1-3) openSUSE Leap 15 Kernel: Depends on container host Compiler: gcc (SUSE Linux) 7.5.0 RHEL8 Kernel: Depends on container host Compiler: gcc 8.5.0 20210514 (Red Hat 8.5.0-22) RHEL9 Kernel: Depends on container host Compiler: gcc 11.5.0 20240719 (Red Hat 11.5.0-2) Ubuntu 20.04 Kernel: Depends on container host Compiler: gcc (Ubuntu 9.4.0-1ubuntu1~20.04.2) 9.4.0 Ubuntu 22.04 Kernel: Depends on container host Compiler: gcc (Ubuntu 11.4.0-1ubuntu1~22.04) 11.4.0 Ubuntu 24.04 Kernel: Depends on container host Compiler: gcc (Ubuntu 13.3.0-6ubuntu2~24.04) 13.3.0 Alpine Kernel: Depends on container host Compiler: gcc (Alpine 14.2.0) 14.2.0 To view detailed results, visit: https://lab.dpdk.org/results/dashboard/patchsets/32525/ UNH-IOL DPDK Community Lab To manage your email subscriptions, visit: https://lab.dpdk.org/results/dashboard/preferences/subscriptions/