From mboxrd@z Thu Jan 1 00:00:00 1970 Return-Path: Received: from mails.dpdk.org (mails.dpdk.org [217.70.189.124]) by inbox.dpdk.org (Postfix) with ESMTP id C37AC461C0 for ; Fri, 7 Feb 2025 23:34:47 +0100 (CET) Received: from mails.dpdk.org (localhost [127.0.0.1]) by mails.dpdk.org (Postfix) with ESMTP id B187B40280; Fri, 7 Feb 2025 23:34:47 +0100 (CET) Received: from mail-io1-f100.google.com (mail-io1-f100.google.com [209.85.166.100]) by mails.dpdk.org (Postfix) with ESMTP id 130D140270 for ; Fri, 7 Feb 2025 23:34:47 +0100 (CET) Received: by mail-io1-f100.google.com with SMTP id ca18e2360f4ac-854a682d2b6so179086939f.0 for ; Fri, 07 Feb 2025 14:34:47 -0800 (PST) DKIM-Signature: v=1; a=rsa-sha256; c=relaxed/relaxed; d=iol.unh.edu; s=unh-iol; t=1738967686; x=1739572486; darn=dpdk.org; h=references:in-reply-to:cc:to:from:subject:message-id:date:from:to :cc:subject:date:message-id:reply-to; bh=xo423pW90yY3rb/CbYaWRkgsQm939fOrwwIgr/rsJr0=; b=ArUysg/YaleA9u2/Kx+JPFa2em4KxwAqnctc/EPOMqqCu4pyhS2M8yaDZ0k6gsjV15 +QhHBfcwKbVzCn1PgiC8W6Jwv1JYy2f7t2gcXGVBvke5EaC7zTQw4r2oZ1o0rK0zdA+l tXkUGNRHAWnRPg+pMq2nAxop0vrvqHfKL03cQ= X-Google-DKIM-Signature: v=1; a=rsa-sha256; c=relaxed/relaxed; d=1e100.net; s=20230601; t=1738967686; x=1739572486; h=references:in-reply-to:cc:to:from:subject:message-id:date :x-gm-message-state:from:to:cc:subject:date:message-id:reply-to; bh=xo423pW90yY3rb/CbYaWRkgsQm939fOrwwIgr/rsJr0=; b=GnnhU/7bOjY9bScu2uuNCPrlDnX8ZQ/DxifaMySUUb4r8oqgkIi8QEznsn2UaljbvS 5fATkLbpez9K3PPvtAU60c8IuJm1YGOalMSAaXsSh0pbVkN3vDrZRK9Jz8GQMatTSFYg ur5RHed1xs0h4bBNpifIl3rJys2p1OA3/LY0iHwbDCRWOUjRYlmAysf7+q4uTkmFQ4Sl qZ7fVZ6wGakD+XIEC2I7Ye1MF60YA3Q82baeTvvXAoUr7g176u/WsGTo6/7xcn4pygbj aMpIx8iPlNGY3lAxnQbQWw8vTq+06VdYDyN/fzoGijmy5fJnP0iP85CKGY5Md/tj1phs rFiQ== X-Gm-Message-State: AOJu0Yx1KD+cDgI75i/DApw21GzCN68GKm75Ofvom6fp+wzzEALhS9/A /gwIo+j22UQ8fmF6kzjzGPiEBnkZtMewuEgsoKPHWDmkoRVY6Zl74dVK0QzHTzHQVZdH5nCciXh +AL/46fFoe+D0emOfzAmM4uwTp00fV2cAWvD0pIXB X-Gm-Gg: ASbGncsY7gRF5/ULPrrZo4fRb/AhRBJMb8LGiSCoTZ3RjEhAX1obFPKlXFLB3tIiUWH EVPY4Z5LjKOeZVyA0IToY2SeCFgq5qONOuYxpSLEWP8g8ob3a1j73bBbeBhclw8Z4wJBNFrW5zX s+ih1YuroFTSgKuoIjmYPMd4ZXRbbSjgCafHteNbu3l1GxdksHLOtkdyh1WcuLWD2jU5dgqVuHU Z5liPOG74F0S36N61rerK3MoGZN0DLjka1tO5vuEjdhsUqAXiI8BydSxuYWLfxDgU2tXFfrCR4y dvKK83hHjkxUULX+gEp7TipIiV6NJw== X-Google-Smtp-Source: AGHT+IFjEyqw9S0FO549y4bu2lpqLMlMFddyNsFrbqV6io0Vmf0tqiF9K+aoMNezP68AqMLesNYl6xGRCZiJ X-Received: by 2002:a05:6602:298b:b0:844:c76a:354d with SMTP id ca18e2360f4ac-854fd87faaemr547566839f.2.1738967686322; Fri, 07 Feb 2025 14:34:46 -0800 (PST) Received: from postal.iol.unh.edu (postal.iol.unh.edu. [132.177.123.84]) by smtp-relay.gmail.com with ESMTPS id ca18e2360f4ac-854f675aeb7sm25045139f.25.2025.02.07.14.34.46 (version=TLS1_2 cipher=ECDHE-ECDSA-AES128-GCM-SHA256 bits=128/128); Fri, 07 Feb 2025 14:34:46 -0800 (PST) X-Relaying-Domain: iol.unh.edu Date: Fri, 07 Feb 2025 14:34:46 -0800 (PST) Message-ID: <67a68a86.050a0220.c9b8f.d1b4SMTPIN_ADDED_MISSING@mx.google.com> Received: from [172.21.0.8] (unknown [172.18.0.240]) by postal.iol.unh.edu (Postfix) with ESMTP id D2C316052471; Fri, 7 Feb 2025 17:34:15 -0500 (EST) Subject: |SUCCESS| pw151128 [PATCH] examples/ipsec-secgw: fix iv len in ctr 1 From: dpdklab@iol.unh.edu To: Test Report Cc: dpdk-test-reports@iol.unh.edu In-Reply-To: <20250207134545.63820-1-nkaithakadan@marvell.com> References: <20250207134545.63820-1-nkaithakadan@marvell.com> Content-Type: text/plain X-BeenThere: test-report@dpdk.org X-Mailman-Version: 2.1.29 Precedence: list List-Id: automatic DPDK test reports List-Unsubscribe: , List-Archive: List-Post: List-Help: List-Subscribe: , Errors-To: test-report-bounces@dpdk.org Test-Label: iol-abi-testing Test-Status: SUCCESS http://dpdk.org/patch/151128 _Testing PASS_ Submitter: Nithinsen Kaithakadan Date: Friday, February 07 2025 13:45:43 DPDK git baseline: Repo:dpdk Branch: master CommitID:388b1abe291544106e406cb0a200b5b0c96fe599 151128 --> testing pass Upstream job id: Generic-DPDK-Compile-ABI#115306 Test environment and result as below: +-------------------+----------+ | Environment | abi_test | +===================+==========+ | CentOS Stream 9 | PASS | +-------------------+----------+ | Debian Bullseye | PASS | +-------------------+----------+ | Debian 12 | PASS | +-------------------+----------+ | Fedora 41 (Clang) | PASS | +-------------------+----------+ | Fedora 40 | PASS | +-------------------+----------+ | Fedora 41 | PASS | +-------------------+----------+ | Fedora 40 (Clang) | PASS | +-------------------+----------+ | openSUSE Leap 15 | PASS | +-------------------+----------+ | RHEL8 | PASS | +-------------------+----------+ | RHEL9 | PASS | +-------------------+----------+ | Ubuntu 24.04 | PASS | +-------------------+----------+ | Ubuntu 22.04 | PASS | +-------------------+----------+ CentOS Stream 9 Kernel: Depends on container host Compiler: gcc 11.5.0 20240719 (Red Hat 11.5.0-2) Debian Bullseye Kernel: Depends on container host Compiler: gcc (Debian 10.2.1-6) 10.2.1 20210110 Debian 12 Kernel: Depends on container host Compiler: gcc (Debian 12.2.0-14) 12.2.0 Fedora 41 (Clang) Kernel: Depends on container host Compiler: clang 19.1.5 (Fedora 19.1.5-1.fc41) Fedora 40 Kernel: Depends on container host Compiler: gcc 14.2.1 20240912 (Red Hat 14.2.1-3) Fedora 41 Kernel: Depends on container host Compiler: gcc 14.2.1 20240912 (Red Hat 14.2.1-3) Fedora 40 (Clang) Kernel: Depends on container host Compiler: clang 18.1.8 (Fedora 18.1.8-1.fc40) openSUSE Leap 15 Kernel: Depends on container host Compiler: gcc (SUSE Linux) 7.5.0 RHEL8 Kernel: Depends on container host Compiler: gcc 8.5.0 20210514 (Red Hat 8.5.0-22) RHEL9 Kernel: Depends on container host Compiler: gcc 11.5.0 20240719 (Red Hat 11.5.0-2) Ubuntu 24.04 Kernel: Depends on container host Compiler: gcc (Ubuntu 13.3.0-6ubuntu2~24.04) 13.3.0 Ubuntu 22.04 Kernel: Depends on container host Compiler: gcc (Ubuntu 11.4.0-1ubuntu1~22.04) 11.4.0 To view detailed results, visit: https://lab.dpdk.org/results/dashboard/patchsets/32524/ UNH-IOL DPDK Community Lab To manage your email subscriptions, visit: https://lab.dpdk.org/results/dashboard/preferences/subscriptions/