From mboxrd@z Thu Jan 1 00:00:00 1970 Return-Path: Received: from mails.dpdk.org (mails.dpdk.org [217.70.189.124]) by inbox.dpdk.org (Postfix) with ESMTP id CE358461C0 for ; Fri, 7 Feb 2025 23:34:54 +0100 (CET) Received: from mails.dpdk.org (localhost [127.0.0.1]) by mails.dpdk.org (Postfix) with ESMTP id CB25840280; Fri, 7 Feb 2025 23:34:54 +0100 (CET) Received: from mail-pl1-f226.google.com (mail-pl1-f226.google.com [209.85.214.226]) by mails.dpdk.org (Postfix) with ESMTP id 4DD2D40270 for ; Fri, 7 Feb 2025 23:34:53 +0100 (CET) Received: by mail-pl1-f226.google.com with SMTP id d9443c01a7336-21c2f1b610dso64016745ad.0 for ; Fri, 07 Feb 2025 14:34:53 -0800 (PST) DKIM-Signature: v=1; a=rsa-sha256; c=relaxed/relaxed; d=iol.unh.edu; s=unh-iol; t=1738967692; x=1739572492; darn=dpdk.org; h=references:in-reply-to:cc:to:from:subject:message-id:date:from:to :cc:subject:date:message-id:reply-to; bh=xzt5FWP8Sp/9sHoFcbihcaQneyO88qPtJREf/klKAZs=; b=h7bzDPzEjV1ZYMgAAdFM6L3D/M0XpCOQO84xj57JYy4PwkMcKEQP/y5yjLJibJKsv+ /2FVN6E4dudbuTSRlNRITJzEc6BLZuY3GNfNKghZDFDCxNDaFTseqlF2vvIOCaQOAiES j6bZT+ga1KT1x7x4g3fWYBN8g/W5tN6T2zoWI= X-Google-DKIM-Signature: v=1; a=rsa-sha256; c=relaxed/relaxed; d=1e100.net; s=20230601; t=1738967692; x=1739572492; h=references:in-reply-to:cc:to:from:subject:message-id:date :x-gm-message-state:from:to:cc:subject:date:message-id:reply-to; bh=xzt5FWP8Sp/9sHoFcbihcaQneyO88qPtJREf/klKAZs=; b=Azs+5D6kqS75V7o02qp+8p/sjs454cCGUfJQa8jkb7v/emywZpupiFcw50bRt2Uehe 9/CeA9YD635i8iTCacaVWaU1plg3cRy531OYo+ze8rixyUjYAoS28lU82l3fZMU2fJBj 2SXB8OWYEOev5TNy/ypvMK1k+nDaXXMthbujlUT1PPdhCbiOYCI/19ll7FaRQnrw75z8 o04s4ZMilQZtCFXIPu5Av406FuObjcxVXPrR9lt8IFhyeloqn2GaJG1ahT707oPLaNmt w1iAmpibyioYNJSpOQR9xuVnFNLxx4jerdFaLKCbVgfOWrDNZkgvPOyRfSkmgMIfGVra qwSw== X-Gm-Message-State: AOJu0YwE5WUv+4N/M+cHnK3Q3KcnAspUQhOH2aOOTvnv5cCacgNKeydO Fx/KtHXyeW16Lne7t1HWmvhyo8Q6MQ9ZKtx4+2NDY25VHxw47riextpW6BUUg3DiHvy+8ipa+J7 yBc4x0UJlvVDPPNCFU+jzwRncJ7zamQCe7OCwPdMZ X-Gm-Gg: ASbGnctwyp8m2aZWvPh6BqzDVRGyPt8l+0AISbuAklb29ONVT8m5xxJqAL0HLYCpRqN aEpnYyZvyNZnBMr0NaoK9Q/vIMJMVQEOMrhfiKlGIpw2zH4gmLhUsXsTWjbFS+d8dgl3X8LOjt/ VuChwp9RNEtsn51pF0f8ScaI6qerZiHU0hfeQ1LJSYRD1ViOdHBH7D1EV53KSHrGUoGR9A3/Db4 ejZ/mxWN3mWNtaG2C80gWSasprMA8adeogbHKa+P1jN16gHmwEq0R5N6RA8AF6TPMO9rx7FspUa 3hKxtHYGthoVeGDmoa9ZkE1zl09y8w== X-Google-Smtp-Source: AGHT+IE7FS4lLNhhSxkvdDfYsiPAJzPwgoEv7zfAfzS7E20DyzAamA4vYDP73/Hqr63/QPV1Nua/WPDr0ZZQ X-Received: by 2002:a05:6a21:9211:b0:1ed:75f4:d285 with SMTP id adf61e73a8af0-1ee03a8dcbcmr8987396637.19.1738967692479; Fri, 07 Feb 2025 14:34:52 -0800 (PST) Received: from postal.iol.unh.edu (postal.iol.unh.edu. [132.177.123.84]) by smtp-relay.gmail.com with ESMTPS id d2e1a72fcca58-73048ad5480sm216320b3a.7.2025.02.07.14.34.52 (version=TLS1_2 cipher=ECDHE-ECDSA-AES128-GCM-SHA256 bits=128/128); Fri, 07 Feb 2025 14:34:52 -0800 (PST) X-Relaying-Domain: iol.unh.edu Date: Fri, 07 Feb 2025 14:34:52 -0800 (PST) Message-ID: <67a68a8c.050a0220.980eb.b30bSMTPIN_ADDED_MISSING@mx.google.com> Received: from [172.21.0.6] (unknown [172.18.0.240]) by postal.iol.unh.edu (Postfix) with ESMTP id A16CD6052471; Fri, 7 Feb 2025 17:34:51 -0500 (EST) Subject: |SUCCESS| pw151128 [PATCH] examples/ipsec-secgw: fix iv len in ctr 1 From: dpdklab@iol.unh.edu To: Test Report Cc: dpdk-test-reports@iol.unh.edu In-Reply-To: <20250207134545.63820-1-nkaithakadan@marvell.com> References: <20250207134545.63820-1-nkaithakadan@marvell.com> Content-Type: text/plain X-BeenThere: test-report@dpdk.org X-Mailman-Version: 2.1.29 Precedence: list List-Id: automatic DPDK test reports List-Unsubscribe: , List-Archive: List-Post: List-Help: List-Subscribe: , Errors-To: test-report-bounces@dpdk.org Test-Label: iol-abi-testing Test-Status: SUCCESS http://dpdk.org/patch/151128 _Testing PASS_ Submitter: Nithinsen Kaithakadan Date: Friday, February 07 2025 13:45:43 DPDK git baseline: Repo:dpdk Branch: master CommitID:388b1abe291544106e406cb0a200b5b0c96fe599 151128 --> testing pass Upstream job id: Generic-DPDK-Compile-ABI#115307 Test environment and result as below: +-------------------+----------+ | Environment | abi_test | +===================+==========+ | CentOS Stream 9 | PASS | +-------------------+----------+ | Debian Bullseye | PASS | +-------------------+----------+ | Debian 12 | PASS | +-------------------+----------+ | Fedora 41 (Clang) | PASS | +-------------------+----------+ | Fedora 40 | PASS | +-------------------+----------+ | Fedora 41 | PASS | +-------------------+----------+ | Fedora 40 (Clang) | PASS | +-------------------+----------+ | openSUSE Leap 15 | PASS | +-------------------+----------+ | RHEL8 | PASS | +-------------------+----------+ | RHEL9 | PASS | +-------------------+----------+ | Ubuntu 24.04 | PASS | +-------------------+----------+ | Ubuntu 22.04 | PASS | +-------------------+----------+ CentOS Stream 9 Kernel: Depends on container host Compiler: gcc 11.5.0 20240719 (Red Hat 11.5.0-2) Debian Bullseye Kernel: Depends on container host Compiler: gcc (Debian 10.2.1-6) 10.2.1 20210110 Debian 12 Kernel: Depends on container host Compiler: gcc (Debian 12.2.0-14) 12.2.0 Fedora 41 (Clang) Kernel: Depends on container host Compiler: clang 19.1.5 (Fedora 19.1.5-1.fc41) Fedora 40 Kernel: Depends on container host Compiler: gcc 14.2.1 20240912 (Red Hat 14.2.1-3) Fedora 41 Kernel: Depends on container host Compiler: gcc 14.2.1 20240912 (Red Hat 14.2.1-3) Fedora 40 (Clang) Kernel: Depends on container host Compiler: clang 18.1.8 (Fedora 18.1.8-1.fc40) openSUSE Leap 15 Kernel: Depends on container host Compiler: gcc (SUSE Linux) 7.5.0 RHEL8 Kernel: Depends on container host Compiler: gcc 8.5.0 20210514 (Red Hat 8.5.0-22) RHEL9 Kernel: Depends on container host Compiler: gcc 11.5.0 20240719 (Red Hat 11.5.0-2) Ubuntu 24.04 Kernel: Depends on container host Compiler: gcc (Ubuntu 13.3.0-6ubuntu2~24.04) 13.3.0 Ubuntu 22.04 Kernel: Depends on container host Compiler: gcc (Ubuntu 11.4.0-1ubuntu1~22.04) 11.4.0 To view detailed results, visit: https://lab.dpdk.org/results/dashboard/patchsets/32524/ UNH-IOL DPDK Community Lab To manage your email subscriptions, visit: https://lab.dpdk.org/results/dashboard/preferences/subscriptions/