From mboxrd@z Thu Jan 1 00:00:00 1970 Return-Path: Received: from mails.dpdk.org (mails.dpdk.org [217.70.189.124]) by inbox.dpdk.org (Postfix) with ESMTP id 0433F461C0 for ; Fri, 7 Feb 2025 23:47:35 +0100 (CET) Received: from mails.dpdk.org (localhost [127.0.0.1]) by mails.dpdk.org (Postfix) with ESMTP id D29FF40280; Fri, 7 Feb 2025 23:47:35 +0100 (CET) Received: from mail-yw1-f225.google.com (mail-yw1-f225.google.com [209.85.128.225]) by mails.dpdk.org (Postfix) with ESMTP id BBF1E40270 for ; Fri, 7 Feb 2025 23:47:34 +0100 (CET) Received: by mail-yw1-f225.google.com with SMTP id 00721157ae682-6f9cc6fefa8so914307b3.3 for ; Fri, 07 Feb 2025 14:47:34 -0800 (PST) DKIM-Signature: v=1; a=rsa-sha256; c=relaxed/relaxed; d=iol.unh.edu; s=unh-iol; t=1738968454; x=1739573254; darn=dpdk.org; h=references:in-reply-to:cc:to:from:subject:message-id:date:from:to :cc:subject:date:message-id:reply-to; bh=RoKxVbodU8gIcOVv6He7lKPes3GWrAXh9R1D0jzhZvQ=; b=fgKgEdM/dndHzwz/jt6rOa6mpGUNHxVbntenbuxHbwGV/etA+ozfQK2jsXkgMckq0l 7QbsFa+jgwQKaFxLrol51KCe63DScKPUoLqJBUqY5WGvJj7OKc/vyJp64L/Iff1O/PFJ 1/Aai15lgVfXcBwYNsliWs4pfZEi54FBM6YM4= X-Google-DKIM-Signature: v=1; a=rsa-sha256; c=relaxed/relaxed; d=1e100.net; s=20230601; t=1738968454; x=1739573254; h=references:in-reply-to:cc:to:from:subject:message-id:date :x-gm-message-state:from:to:cc:subject:date:message-id:reply-to; bh=RoKxVbodU8gIcOVv6He7lKPes3GWrAXh9R1D0jzhZvQ=; b=HNuk/yKQpneqfDP6yjRbVtgzmpd94Wzzdpd5a1yXE4IrjuOv5ZmcdJnYMTFYybxIuO ojEEm+N7wZbO+ZF6zHdfvHbykd3nYFfE+4ZLczY8tHTSPr5cpy5Zw8sYNnTcWnIa/hcy iQvAu5z9z0DpcvqzzH6Vfs68PzVEhh/UqlEZTZk9IsOiyPCAmjhUUGYKhkwhRPgHkHwl ECNIDq11MuaacLi4TNCnSZaAjpAZpr4RmY0uzx7gXmVHMRYEq9qmkPWx+pA6WYGpreKR bfboLaIzxb8HApUf/QZl6P8Tg83sJBvoyAHlDxonSDfCfOjcXHcJMkJX0rct2sdl7n+k bqnA== X-Gm-Message-State: AOJu0Yyxdf1HKTfxEQcQ8MskVeIaxMv96DsW0YNWqMdtR4xsLgMGbNCt tsqe+/A0CJSPiD90l91UjKvJjq2JjPsojgP8nbKyXxV09CweiWP9NEZTzTkSicRjBwnY/L7X2kL JqSZf75cRGsoQfu+Qz6e9EC/kRrUR4ODzLjoPaWRH X-Gm-Gg: ASbGnctMhp8gPRCrl+FptFFb2qi/wCzavWX4RTZ/crTFpO5M5YAc3Vmqyg00oGUhRf3 1vSSNtxOHuwMNR30y6bQ7y/9cVclmoIavoOd3GDAKEerK6Wi5XvGQYlHo1n03vbNjQHjeISY72Q 84Yd+sTWx0l7QJ0qRmtkbP2owHQBsy7MWuucYZQx8Cg75EChhzpfiQDqezcwI1AZXIRLkjPu2q/ nqygHkN48qYpB+nQSJrJJKwVwQ41Xs1zBvzUr52FaEuTBDOhf8aiZwmGQNl/EtwPUjnMuRHswpH mDlh6Nds1KMqI1TvbcGi0G8zx5+baw== X-Google-Smtp-Source: AGHT+IGBOUhinF7mEhyK4jKKpoSvBQb6dnsnQEOtBZ+o2eCP+vjgKv7QnGgDchS7uQj1lbklW9WCKHVW2x7U X-Received: by 2002:a05:690c:4986:b0:6f7:3e01:8a49 with SMTP id 00721157ae682-6f9b29e61c4mr51353817b3.26.1738968453918; Fri, 07 Feb 2025 14:47:33 -0800 (PST) Received: from postal.iol.unh.edu (postal.iol.unh.edu. [132.177.123.84]) by smtp-relay.gmail.com with ESMTPS id 00721157ae682-6f99fd304fasm703107b3.20.2025.02.07.14.47.33 (version=TLS1_2 cipher=ECDHE-ECDSA-AES128-GCM-SHA256 bits=128/128); Fri, 07 Feb 2025 14:47:33 -0800 (PST) X-Relaying-Domain: iol.unh.edu Date: Fri, 07 Feb 2025 14:47:33 -0800 (PST) Message-ID: <67a68d85.050a0220.1a2f58.3ab4SMTPIN_ADDED_MISSING@mx.google.com> Received: from [172.21.0.5] (unknown [172.18.0.240]) by postal.iol.unh.edu (Postfix) with ESMTP id 85AB36052471; Fri, 7 Feb 2025 17:47:03 -0500 (EST) Subject: |SUCCESS| pw151129-151131 [PATCH] [3/3] test/event: unit test to bur From: dpdklab@iol.unh.edu To: Test Report Cc: dpdk-test-reports@iol.unh.edu In-Reply-To: <20250207140910.721374-4-sthotton@marvell.com> References: <20250207140910.721374-4-sthotton@marvell.com> Content-Type: text/plain X-BeenThere: test-report@dpdk.org X-Mailman-Version: 2.1.29 Precedence: list List-Id: automatic DPDK test reports List-Unsubscribe: , List-Archive: List-Post: List-Help: List-Subscribe: , Errors-To: test-report-bounces@dpdk.org Test-Label: iol-compile-arm64-testing Test-Status: SUCCESS http://dpdk.org/patch/151131 _Testing PASS_ Submitter: Shijith Thotton Date: Friday, February 07 2025 14:09:10 DPDK git baseline: Repo:dpdk Branch: master CommitID:32c18e7364e30a8e43cc7cc6709a7ce606fa285e 151129-151131 --> testing pass Upstream job id: Generic-DPDK-Compile-Meson#359197 Test environment and result as below: +----------------------------------------+--------------------+ | Environment | dpdk_meson_compile | +========================================+====================+ | RHEL9 (ARM) | PASS | +----------------------------------------+--------------------+ | Ubuntu 20.04 ARM GCC Cross Compile | PASS | +----------------------------------------+--------------------+ | Ubuntu 20.04 ARM SVE | PASS | +----------------------------------------+--------------------+ | Debian 12 with MUSDK | PASS | +----------------------------------------+--------------------+ | Fedora 40 (ARM) | PASS | +----------------------------------------+--------------------+ | Fedora 40 (ARM Clang) | PASS | +----------------------------------------+--------------------+ | Fedora 41 (ARM Clang) | PASS | +----------------------------------------+--------------------+ | Ubuntu 20.04 (ARM) | PASS | +----------------------------------------+--------------------+ | Ubuntu 22.04 (ARM) | PASS | +----------------------------------------+--------------------+ | Ubuntu 24.04 (ARM) | PASS | +----------------------------------------+--------------------+ | CentOS Stream 9 (ARM) | PASS | +----------------------------------------+--------------------+ | Debian 11 (Buster) (ARM) | PASS | +----------------------------------------+--------------------+ | Debian 12 (arm) | PASS | +----------------------------------------+--------------------+ | Ubuntu 20.04 ARM Clang Cross Compile | PASS | +----------------------------------------+--------------------+ | Ubuntu 20.04 aarch32 GCC Cross Compile | PASS | +----------------------------------------+--------------------+ | Fedora 41 (ARM) | PASS | +----------------------------------------+--------------------+ RHEL9 (ARM) Kernel: Depends on container host Compiler: gcc 11.5.0 20240719 (Red Hat 11.5.0-2) Ubuntu 20.04 ARM GCC Cross Compile Kernel: Depends on container host Compiler: aarch64-linux-gnu-gcc (Ubuntu 9.4.0-1ubuntu1~20.04.2) 9.4.0 Ubuntu 20.04 ARM SVE Kernel: Depends on container host Compiler: gcc (Ubuntu 10.5.0-1ubuntu1~20.04) 10.5.0 Debian 12 with MUSDK Kernel: Depends on container host Compiler: gcc (Debian 12.2.0-14) 12.2.0 Fedora 40 (ARM) Kernel: Depends on container host Compiler: gcc 14.2.1 20240912 (Red Hat 14.2.1-3) Fedora 40 (ARM Clang) Kernel: Depends on container host Compiler: clang 18.1.8 (Fedora 18.1.8-1.fc40) Fedora 41 (ARM Clang) Kernel: Depends on container host Compiler: clang 19.1.5 (Fedora 19.1.5-1.fc41) Ubuntu 20.04 (ARM) Kernel: Depends on container host Compiler: gcc (Ubuntu 9.4.0-1ubuntu1~20.04.2) 9.4.0 Ubuntu 22.04 (ARM) Kernel: Depends on container host Compiler: gcc (Ubuntu 11.4.0-1ubuntu1~22.04) 11.4.0 Ubuntu 24.04 (ARM) Kernel: Depends on container host Compiler: gcc (Ubuntu 13.3.0-6ubuntu2~24.04) 13.3.0 CentOS Stream 9 (ARM) Kernel: Depends on container host Compiler: gcc 11.5.0 20240719 (Red Hat 11.5.0-2) Debian 11 (Buster) (ARM) Kernel: Depends on container host Compiler: gcc (Debian 10.2.1-6) 10.2.1 20210110 Debian 12 (arm) Kernel: Depends on container host Compiler: gcc (Debian 12.2.0-14) 12.2.0 Ubuntu 20.04 ARM Clang Cross Compile Kernel: Depends on container host Compiler: clang 10.0.0-4ubuntu1 Ubuntu 20.04 aarch32 GCC Cross Compile Kernel: Depends on container host Compiler: gcc 9.4.0 Fedora 41 (ARM) Kernel: Depends on container host Compiler: gcc 14.2.1 20240912 (Red Hat 14.2.1-3) To view detailed results, visit: https://lab.dpdk.org/results/dashboard/patchsets/32525/ UNH-IOL DPDK Community Lab To manage your email subscriptions, visit: https://lab.dpdk.org/results/dashboard/preferences/subscriptions/