From: dpdklab@iol.unh.edu
To: Test Report <test-report@dpdk.org>
Cc: dpdk-test-reports@iol.unh.edu
Subject: |SUCCESS| pw151134 [PATCH] [v6] eal: define __SIZEOF_LONG__ when usi
Date: Fri, 07 Feb 2025 15:04:44 -0800 (PST) [thread overview]
Message-ID: <67a6918c.170a0220.2a8ff0.c8c6SMTPIN_ADDED_MISSING@mx.google.com> (raw)
In-Reply-To: <1738940668-21653-1-git-send-email-andremue@linux.microsoft.com>
Test-Label: iol-compile-amd64-testing
Test-Status: SUCCESS
http://dpdk.org/patch/151134
_Testing PASS_
Submitter: Andre Muezerie <andremue@linux.microsoft.com>
Date: Friday, February 07 2025 15:04:28
DPDK git baseline: Repo:dpdk
Branch: master
CommitID:388b1abe291544106e406cb0a200b5b0c96fe599
151134 --> testing pass
Upstream job id: Windows-Compile-DPDK-VS#4861
Test environment and result as below:
+---------------------+--------------------+-------------------+
| Environment | dpdk_meson_compile | dpdk_msvc_compile |
+=====================+====================+===================+
| FreeBSD 13.4 | PASS | SKIPPED |
+---------------------+--------------------+-------------------+
| FreeBSD 14.2 | PASS | SKIPPED |
+---------------------+--------------------+-------------------+
| Windows Server 2022 | SKIPPED | PASS |
+---------------------+--------------------+-------------------+
FreeBSD 13.4
Kernel: 13.4-RELEASE-p1
Compiler: clang 18.1.6
FreeBSD 14.2
Kernel: 14.2-RELEASE
Compiler: clang 18.1.6
Windows Server 2022
Kernel: 10.0.20348.2031
Compiler: clang 15.0.7, gcc 14.1.0 (MinGW), and MSVC VS 19.39.33521
To view detailed results, visit:
https://lab.dpdk.org/results/dashboard/patchsets/32528/
UNH-IOL DPDK Community Lab
To manage your email subscriptions, visit:
https://lab.dpdk.org/results/dashboard/preferences/subscriptions/
next prev parent reply other threads:[~2025-02-07 23:04 UTC|newest]
Thread overview: 28+ messages / expand[flat|nested] mbox.gz Atom feed top
[not found] <1738940668-21653-1-git-send-email-andremue@linux.microsoft.com>
2025-02-07 14:34 ` |SUCCESS| pw151134 [PATCH v6] eal: define __SIZEOF_LONG__ when using MSVC qemudev
2025-02-07 14:38 ` qemudev
2025-02-07 15:04 ` checkpatch
2025-02-07 20:24 ` 0-day Robot
2025-02-07 21:39 ` |SUCCESS| pw151134 [PATCH] [v6] eal: define __SIZEOF_LONG__ when usi dpdklab
2025-02-07 21:53 ` dpdklab
2025-02-07 21:56 ` dpdklab
2025-02-07 21:57 ` dpdklab
2025-02-07 22:15 ` dpdklab
2025-02-07 22:34 ` dpdklab
2025-02-07 22:37 ` dpdklab
2025-02-07 22:47 ` dpdklab
2025-02-07 22:51 ` dpdklab
2025-02-07 22:57 ` |PENDING| " dpdklab
2025-02-07 23:03 ` |SUCCESS| " dpdklab
2025-02-07 23:04 ` dpdklab [this message]
2025-02-07 23:05 ` |PENDING| " dpdklab
2025-02-07 23:06 ` |SUCCESS| " dpdklab
2025-02-07 23:29 ` |PENDING| " dpdklab
2025-02-07 23:39 ` dpdklab
2025-02-07 23:42 ` dpdklab
2025-02-07 23:48 ` dpdklab
2025-02-07 23:50 ` |SUCCESS| " dpdklab
2025-02-07 23:50 ` dpdklab
2025-02-08 1:07 ` |PENDING| " dpdklab
2025-02-08 1:41 ` dpdklab
2025-02-08 2:00 ` |SUCCESS| " dpdklab
2025-02-08 2:00 ` dpdklab
Reply instructions:
You may reply publicly to this message via plain-text email
using any one of the following methods:
* Save the following mbox file, import it into your mail client,
and reply-to-all from there: mbox
Avoid top-posting and favor interleaved quoting:
https://en.wikipedia.org/wiki/Posting_style#Interleaved_style
* Reply using the --to, --cc, and --in-reply-to
switches of git-send-email(1):
git send-email \
--in-reply-to=67a6918c.170a0220.2a8ff0.c8c6SMTPIN_ADDED_MISSING@mx.google.com \
--to=dpdklab@iol.unh.edu \
--cc=dpdk-test-reports@iol.unh.edu \
--cc=test-report@dpdk.org \
/path/to/YOUR_REPLY
https://kernel.org/pub/software/scm/git/docs/git-send-email.html
* If your mail client supports setting the In-Reply-To header
via mailto: links, try the mailto: link
Be sure your reply has a Subject: header at the top and a blank line
before the message body.
This is a public inbox, see mirroring instructions
for how to clone and mirror all data and code used for this inbox;
as well as URLs for NNTP newsgroup(s).