From mboxrd@z Thu Jan 1 00:00:00 1970 Return-Path: Received: from mails.dpdk.org (mails.dpdk.org [217.70.189.124]) by inbox.dpdk.org (Postfix) with ESMTP id 52349461C0 for ; Sat, 8 Feb 2025 00:04:46 +0100 (CET) Received: from mails.dpdk.org (localhost [127.0.0.1]) by mails.dpdk.org (Postfix) with ESMTP id 3F22F40280; Sat, 8 Feb 2025 00:04:46 +0100 (CET) Received: from mail-pl1-f227.google.com (mail-pl1-f227.google.com [209.85.214.227]) by mails.dpdk.org (Postfix) with ESMTP id 4E6CD40270 for ; Sat, 8 Feb 2025 00:04:45 +0100 (CET) Received: by mail-pl1-f227.google.com with SMTP id d9443c01a7336-21f50895565so18690385ad.2 for ; Fri, 07 Feb 2025 15:04:45 -0800 (PST) DKIM-Signature: v=1; a=rsa-sha256; c=relaxed/relaxed; d=iol.unh.edu; s=unh-iol; t=1738969484; x=1739574284; darn=dpdk.org; h=references:in-reply-to:cc:to:from:subject:message-id:date:from:to :cc:subject:date:message-id:reply-to; bh=Q9RPAyCCPC1ZDG3Y5WAYkNfHqCz9ag03zI63WJMxDpk=; b=R5TCUneDcAACNxtCQbNKVyYKI8N8xjczSgbBNpynVChJTOI4+m6sB68WUN5cVhrkoW OynPi479L5oK1ZhksUYvZJl/H9F0+j10XlXEJlcTHYegMi5sIPqU+fgTYQJjJDb+4YE4 AwP1/myHsQoKQ9NVlwhHq/k2esdrQEdelglXA= X-Google-DKIM-Signature: v=1; a=rsa-sha256; c=relaxed/relaxed; d=1e100.net; s=20230601; t=1738969484; x=1739574284; h=references:in-reply-to:cc:to:from:subject:message-id:date :x-gm-message-state:from:to:cc:subject:date:message-id:reply-to; bh=Q9RPAyCCPC1ZDG3Y5WAYkNfHqCz9ag03zI63WJMxDpk=; b=BfveazjIK3BD5nvx6COMGVqejRcUBsjOC04NYRExuJ0aBRS4JOFWoZ2aKFiHwYr+FJ qImlSu4BJHYaG5j2SE0qi6bieeVSt8/7DW1K6mRvKFCQkuu9WQWx6AvYm5a+AokGFfGZ sMs06wO2QKtlYLMTkWZUoTEOHOQbUTEx9Cv+yVK94abLJOTFZi80GfyHK6D1tCh6osA4 4jJhH/CdZujW1CO9NyNUWCmeB18VgGmwqRAmQ8inugtmadZfrF8DQqvJtikVJ7BynoVX 8jVW7Bwbj+WLT1gcjJbBT83XHlAIPGUXTJG0fOd/yaWyEHvDooyFBwgvqjpXSOtA44/Q +q4A== X-Gm-Message-State: AOJu0Ywmyw7tCUGSa3JHBbLoue7uN4XkwZMBBEvuvU4D5LldluOebxFA 9+EcWr1UZyDKvvz8ctDKtMLYMzxKzthP6A8BUJI4+qM7wt7hSha6y6rB+jvKVLNX8Km65/W2d9d nYAuK0eH0/deJHRXHa55mnrGq4NnSAqM035KQiVW2 X-Gm-Gg: ASbGncuWcLnyNYraKX5/FQ31qR4wmHpb9ICAT+pvLof/qVvTehebo2xTsMXO3i5pUav GDEw4Ix5LIYE8jVCIgj0h6a+9gwmiZuDm7uhOOPDZs2xHFVL/iF5HS0x4gcjcIzeDAS5u990h5r /O9vhySDk4lwRxSsJrVY8tkO+j3K57iH1WtEkhAq18QfI0txLLxv42CBmi9ttOHrOQn0jCCwoS6 lKvIu8/QZ4xKkK7piEY0CmnMbC1cViX5S/5Gg17j9CBryOXc61aOXarjhTFWOWfcCJZ2zb+F3mq 6i0Np3Vc/r4Qm0q9bHqzFxN6BsGrrg== X-Google-Smtp-Source: AGHT+IG862j6OokoimC6ichF6TZ3c+5SU+6zfqtbBMweXCiiFu+Qu/ixAWVI5O6BS7XBlC5J5u9RLhzx9yNV X-Received: by 2002:a17:903:285:b0:216:2bd7:1c27 with SMTP id d9443c01a7336-21f4e746605mr75096535ad.33.1738969484274; Fri, 07 Feb 2025 15:04:44 -0800 (PST) Received: from postal.iol.unh.edu (postal.iol.unh.edu. [132.177.123.84]) by smtp-relay.gmail.com with ESMTPS id d9443c01a7336-21f3650cd03sm2387995ad.7.2025.02.07.15.04.44 (version=TLS1_2 cipher=ECDHE-ECDSA-AES128-GCM-SHA256 bits=128/128); Fri, 07 Feb 2025 15:04:44 -0800 (PST) X-Relaying-Domain: iol.unh.edu Date: Fri, 07 Feb 2025 15:04:44 -0800 (PST) Message-ID: <67a6918c.170a0220.2a8ff0.c8c6SMTPIN_ADDED_MISSING@mx.google.com> Received: from [172.21.0.9] (unknown [172.18.0.240]) by postal.iol.unh.edu (Postfix) with ESMTP id B2F6E6052472; Fri, 7 Feb 2025 18:04:43 -0500 (EST) Subject: |SUCCESS| pw151134 [PATCH] [v6] eal: define __SIZEOF_LONG__ when usi From: dpdklab@iol.unh.edu To: Test Report Cc: dpdk-test-reports@iol.unh.edu In-Reply-To: <1738940668-21653-1-git-send-email-andremue@linux.microsoft.com> References: <1738940668-21653-1-git-send-email-andremue@linux.microsoft.com> Content-Type: text/plain X-BeenThere: test-report@dpdk.org X-Mailman-Version: 2.1.29 Precedence: list List-Id: automatic DPDK test reports List-Unsubscribe: , List-Archive: List-Post: List-Help: List-Subscribe: , Errors-To: test-report-bounces@dpdk.org Test-Label: iol-compile-amd64-testing Test-Status: SUCCESS http://dpdk.org/patch/151134 _Testing PASS_ Submitter: Andre Muezerie Date: Friday, February 07 2025 15:04:28 DPDK git baseline: Repo:dpdk Branch: master CommitID:388b1abe291544106e406cb0a200b5b0c96fe599 151134 --> testing pass Upstream job id: Windows-Compile-DPDK-VS#4861 Test environment and result as below: +---------------------+--------------------+-------------------+ | Environment | dpdk_meson_compile | dpdk_msvc_compile | +=====================+====================+===================+ | FreeBSD 13.4 | PASS | SKIPPED | +---------------------+--------------------+-------------------+ | FreeBSD 14.2 | PASS | SKIPPED | +---------------------+--------------------+-------------------+ | Windows Server 2022 | SKIPPED | PASS | +---------------------+--------------------+-------------------+ FreeBSD 13.4 Kernel: 13.4-RELEASE-p1 Compiler: clang 18.1.6 FreeBSD 14.2 Kernel: 14.2-RELEASE Compiler: clang 18.1.6 Windows Server 2022 Kernel: 10.0.20348.2031 Compiler: clang 15.0.7, gcc 14.1.0 (MinGW), and MSVC VS 19.39.33521 To view detailed results, visit: https://lab.dpdk.org/results/dashboard/patchsets/32528/ UNH-IOL DPDK Community Lab To manage your email subscriptions, visit: https://lab.dpdk.org/results/dashboard/preferences/subscriptions/