From mboxrd@z Thu Jan 1 00:00:00 1970 Return-Path: Received: from mails.dpdk.org (mails.dpdk.org [217.70.189.124]) by inbox.dpdk.org (Postfix) with ESMTP id D6D1A461C0 for ; Sat, 8 Feb 2025 00:25:59 +0100 (CET) Received: from mails.dpdk.org (localhost [127.0.0.1]) by mails.dpdk.org (Postfix) with ESMTP id CE8DB40280; Sat, 8 Feb 2025 00:25:59 +0100 (CET) Received: from mail-pl1-f225.google.com (mail-pl1-f225.google.com [209.85.214.225]) by mails.dpdk.org (Postfix) with ESMTP id EFA2640270 for ; Sat, 8 Feb 2025 00:25:58 +0100 (CET) Received: by mail-pl1-f225.google.com with SMTP id d9443c01a7336-21f44e7eae4so36885025ad.2 for ; Fri, 07 Feb 2025 15:25:58 -0800 (PST) DKIM-Signature: v=1; a=rsa-sha256; c=relaxed/relaxed; d=iol.unh.edu; s=unh-iol; t=1738970758; x=1739575558; darn=dpdk.org; h=references:in-reply-to:cc:to:from:subject:message-id:date:from:to :cc:subject:date:message-id:reply-to; bh=eS2oogCKd45P8TXVzJBt3gp1t4gOX2eGONwLaQlYtyY=; b=IofzMzP6vgrCyzJ5UmYbkElxo+MseWibrraD3r/kC3tTzKdz2oupy1F/OhBwT1fE13 dut2oRarwigBCVOaY5+C6jVmAD13LCcyd6gK41O9UIDaussVuPACetCj2i2lROiQ4578 4Ytzk9TJQrPxfnMi8/UdRTOtexFzaIoWcBFxA= X-Google-DKIM-Signature: v=1; a=rsa-sha256; c=relaxed/relaxed; d=1e100.net; s=20230601; t=1738970758; x=1739575558; h=references:in-reply-to:cc:to:from:subject:message-id:date :x-gm-message-state:from:to:cc:subject:date:message-id:reply-to; bh=eS2oogCKd45P8TXVzJBt3gp1t4gOX2eGONwLaQlYtyY=; b=jP/eLdLN49RltFGiNVkPiyRBE/CCilusItl2qjH+RrJcGq0hB1WQ8dlR3dFxnEBoQx VcRrSakTojNS0Kn7+l7NrR5IkR4OEB03OMKpdY3+y8oGxvKFKipOWBBdQBbqKV0gsKuX 5f5NjdrMYTh18pUjpj9kOLC/WUV4d46P8TNCENOCOBDIk/w+XDWRPmUqHZOivumKMQT+ KC+UUiemJch82nxx6pKc5LXM+/GqFV5/wU8OJBITVElBpHnOxUcd7yOa+rx16QslEE9J LjSyYfvhuTsMvXFBrbDylaCiEfy9x4RJnNzCo00dxsXnIZtVjZKMtqjnZcMIDcf4wsYj dhDw== X-Gm-Message-State: AOJu0YygT7Pm62klWtfOykb8suvytBr4xMqe+WuvfqN5a1MC1wCMhJWx uc/4oWaJPynQNRJUjdbQSp5Eok3Uve0xNI1/tGsdzLFyUuR4St1zkeF8u9Grz5oVYgUjqq3xm+w G/Y9pwXxRaUHbWrQVuPrUBHrN9hlP3o65EdpClGio X-Gm-Gg: ASbGncu1jNKww3B9s6f6211g9zC13gK6WDCCdskkCfOip+tOyiDpp+eUAF2s3+/HZ9K UZUkWiVleLyLmcDx0rHMyvPKoSi09V2bYpJX+4Lt0/RI57vWfo5Rwt2K+3C9uAZts4seC7jIkDO fHaXUuhFtZx0Oa8CsS3IoU/xOlLnWmIbKC1MPr67IAno1033gA1P6Vwrg+evu+XRpjqgYWUrHon OitZ1jwjIKz/rMNlBCteYk7UwQeyFtVKAr79Vb+tBcs3lDyVPziwaHAYPtCV83HGNyw6r58MUEe gcPUXmuusGXdQ88DGbUwwqoyH0WMWA== X-Google-Smtp-Source: AGHT+IHTUbR0qjrl1CAFbA1JuhZ2Zp66XhwnPiF9XGFzQs8EhgZEAuxcZKhJ9QlOb3aWGReg9Qf1EXIRqzP5 X-Received: by 2002:a17:902:f60d:b0:21a:8dec:e59f with SMTP id d9443c01a7336-21f4e7637d1mr68067375ad.39.1738970758126; Fri, 07 Feb 2025 15:25:58 -0800 (PST) Received: from postal.iol.unh.edu (postal.iol.unh.edu. [132.177.123.84]) by smtp-relay.gmail.com with ESMTPS id d9443c01a7336-21f3653ce2esm2305385ad.42.2025.02.07.15.25.58 (version=TLS1_2 cipher=ECDHE-ECDSA-AES128-GCM-SHA256 bits=128/128); Fri, 07 Feb 2025 15:25:58 -0800 (PST) X-Relaying-Domain: iol.unh.edu Date: Fri, 07 Feb 2025 15:25:58 -0800 (PST) Message-ID: <67a69686.170a0220.5a630.bf38SMTPIN_ADDED_MISSING@mx.google.com> Received: from [172.21.0.5] (unknown [172.18.0.240]) by postal.iol.unh.edu (Postfix) with ESMTP id 413DB6052471; Fri, 7 Feb 2025 18:25:27 -0500 (EST) Subject: |SUCCESS| pw151090-151091 [PATCH] [v9,2/2] net/af_xdp: Refactor af_x From: dpdklab@iol.unh.edu To: Test Report Cc: dpdk-test-reports@iol.unh.edu In-Reply-To: <20250207104552.1663519-3-ariel.otilibili@6wind.com> References: <20250207104552.1663519-3-ariel.otilibili@6wind.com> Content-Type: text/plain X-BeenThere: test-report@dpdk.org X-Mailman-Version: 2.1.29 Precedence: list List-Id: automatic DPDK test reports List-Unsubscribe: , List-Archive: List-Post: List-Help: List-Subscribe: , Errors-To: test-report-bounces@dpdk.org Test-Label: iol-compile-amd64-testing Test-Status: SUCCESS http://dpdk.org/patch/151091 _Testing PASS_ Submitter: Ariel Otilibili Date: Friday, February 07 2025 10:45:52 DPDK git baseline: Repo:dpdk Branch: master CommitID:e5ece9ae686535f29ae72c03fec26dc16ff7a925 151090-151091 --> testing pass Upstream job id: Generic-DPDK-Compile-Meson#359175 Test environment and result as below: +---------------------+-------------------------+--------------------+-------------------+----------------------+------------------+-------------------+ | Environment | dpdk_llvm_clang_compile | dpdk_meson_compile | dpdk_msvc_compile | dpdk_mingw64_compile | dpdk_compile_ovs | dpdk_compile_spdk | +=====================+=========================+====================+===================+======================+==================+===================+ | Windows Server 2022 | PASS | SKIPPED | PASS | PASS | SKIPPED | SKIPPED | +---------------------+-------------------------+--------------------+-------------------+----------------------+------------------+-------------------+ | FreeBSD 13.4 | SKIPPED | PASS | SKIPPED | SKIPPED | SKIPPED | SKIPPED | +---------------------+-------------------------+--------------------+-------------------+----------------------+------------------+-------------------+ | FreeBSD 14.2 | SKIPPED | PASS | SKIPPED | SKIPPED | SKIPPED | SKIPPED | +---------------------+-------------------------+--------------------+-------------------+----------------------+------------------+-------------------+ | Fedora 40 (Clang) | SKIPPED | PASS | SKIPPED | SKIPPED | PASS | PASS | +---------------------+-------------------------+--------------------+-------------------+----------------------+------------------+-------------------+ | CentOS Stream 9 | SKIPPED | PASS | SKIPPED | SKIPPED | PASS | PASS | +---------------------+-------------------------+--------------------+-------------------+----------------------+------------------+-------------------+ | Fedora 40 | SKIPPED | PASS | SKIPPED | SKIPPED | PASS | PASS | +---------------------+-------------------------+--------------------+-------------------+----------------------+------------------+-------------------+ | Fedora 41 (Clang) | SKIPPED | PASS | SKIPPED | SKIPPED | PASS | PASS | +---------------------+-------------------------+--------------------+-------------------+----------------------+------------------+-------------------+ | Fedora 41 | SKIPPED | PASS | SKIPPED | SKIPPED | PASS | PASS | +---------------------+-------------------------+--------------------+-------------------+----------------------+------------------+-------------------+ | openSUSE Leap 15 | SKIPPED | PASS | SKIPPED | SKIPPED | SKIPPED | SKIPPED | +---------------------+-------------------------+--------------------+-------------------+----------------------+------------------+-------------------+ | RHEL8 | SKIPPED | PASS | SKIPPED | SKIPPED | PASS | SKIPPED | +---------------------+-------------------------+--------------------+-------------------+----------------------+------------------+-------------------+ | RHEL9 | SKIPPED | PASS | SKIPPED | SKIPPED | PASS | SKIPPED | +---------------------+-------------------------+--------------------+-------------------+----------------------+------------------+-------------------+ | Ubuntu 20.04 | SKIPPED | PASS | SKIPPED | SKIPPED | SKIPPED | SKIPPED | +---------------------+-------------------------+--------------------+-------------------+----------------------+------------------+-------------------+ | Ubuntu 22.04 | SKIPPED | PASS | SKIPPED | SKIPPED | PASS | PASS | +---------------------+-------------------------+--------------------+-------------------+----------------------+------------------+-------------------+ | Ubuntu 24.04 | SKIPPED | PASS | SKIPPED | SKIPPED | PASS | PASS | +---------------------+-------------------------+--------------------+-------------------+----------------------+------------------+-------------------+ | Alpine | SKIPPED | PASS | SKIPPED | SKIPPED | PASS | SKIPPED | +---------------------+-------------------------+--------------------+-------------------+----------------------+------------------+-------------------+ Windows Server 2022 Kernel: 10.0.20348.2031 Compiler: clang 15.0.7, gcc 14.1.0 (MinGW), and MSVC VS 19.39.33521 FreeBSD 13.4 Kernel: 13.4-RELEASE-p1 Compiler: clang 18.1.6 FreeBSD 14.2 Kernel: 14.2-RELEASE Compiler: clang 18.1.6 Fedora 40 (Clang) Kernel: Depends on container host Compiler: clang 18.1.8 (Fedora 18.1.8-1.fc40) CentOS Stream 9 Kernel: Depends on container host Compiler: gcc 11.5.0 20240719 (Red Hat 11.5.0-2) Fedora 40 Kernel: Depends on container host Compiler: gcc 14.2.1 20240912 (Red Hat 14.2.1-3) Fedora 41 (Clang) Kernel: Depends on container host Compiler: clang 19.1.5 (Fedora 19.1.5-1.fc41) Fedora 41 Kernel: Depends on container host Compiler: gcc 14.2.1 20240912 (Red Hat 14.2.1-3) openSUSE Leap 15 Kernel: Depends on container host Compiler: gcc (SUSE Linux) 7.5.0 RHEL8 Kernel: Depends on container host Compiler: gcc 8.5.0 20210514 (Red Hat 8.5.0-22) RHEL9 Kernel: Depends on container host Compiler: gcc 11.5.0 20240719 (Red Hat 11.5.0-2) Ubuntu 20.04 Kernel: Depends on container host Compiler: gcc (Ubuntu 9.4.0-1ubuntu1~20.04.2) 9.4.0 Ubuntu 22.04 Kernel: Depends on container host Compiler: gcc (Ubuntu 11.4.0-1ubuntu1~22.04) 11.4.0 Ubuntu 24.04 Kernel: Depends on container host Compiler: gcc (Ubuntu 13.3.0-6ubuntu2~24.04) 13.3.0 Alpine Kernel: Depends on container host Compiler: gcc (Alpine 14.2.0) 14.2.0 To view detailed results, visit: https://lab.dpdk.org/results/dashboard/patchsets/32522/ UNH-IOL DPDK Community Lab To manage your email subscriptions, visit: https://lab.dpdk.org/results/dashboard/preferences/subscriptions/