From mboxrd@z Thu Jan 1 00:00:00 1970 Return-Path: Received: from mails.dpdk.org (mails.dpdk.org [217.70.189.124]) by inbox.dpdk.org (Postfix) with ESMTP id 015E2461C0 for ; Sat, 8 Feb 2025 00:26:39 +0100 (CET) Received: from mails.dpdk.org (localhost [127.0.0.1]) by mails.dpdk.org (Postfix) with ESMTP id F24D440280; Sat, 8 Feb 2025 00:26:38 +0100 (CET) Received: from mail-il1-f226.google.com (mail-il1-f226.google.com [209.85.166.226]) by mails.dpdk.org (Postfix) with ESMTP id 1010640270 for ; Sat, 8 Feb 2025 00:26:38 +0100 (CET) Received: by mail-il1-f226.google.com with SMTP id e9e14a558f8ab-3d04d767d3aso20250765ab.2 for ; Fri, 07 Feb 2025 15:26:38 -0800 (PST) DKIM-Signature: v=1; a=rsa-sha256; c=relaxed/relaxed; d=iol.unh.edu; s=unh-iol; t=1738970797; x=1739575597; darn=dpdk.org; h=references:in-reply-to:cc:to:from:subject:message-id:date:from:to :cc:subject:date:message-id:reply-to; bh=143t8rnJ7NuoKxG0ph65FGZCPuSS2NivgL0Fv2VHkeE=; b=RUUgz4+jxyg0I7lbqepRcipUmiIUK/pR9jkXE1O40zNcE64TwYaAIKr8hLXXvT7/dg D+urk+jNA9bTOUmEyNChXgFSsCfBXpLlI34HL9oCyUW8aYflE9Ee4+oaBp2LmG1zjLRC I/zyApL6FGWTSuqXc8XQdRxFv4nCMR6BASfNo= X-Google-DKIM-Signature: v=1; a=rsa-sha256; c=relaxed/relaxed; d=1e100.net; s=20230601; t=1738970797; x=1739575597; h=references:in-reply-to:cc:to:from:subject:message-id:date :x-gm-message-state:from:to:cc:subject:date:message-id:reply-to; bh=143t8rnJ7NuoKxG0ph65FGZCPuSS2NivgL0Fv2VHkeE=; b=r60Wtl7QfuRo87QC2EahkGtUcUpCLf8GKLN8yEwvuON9bKgY0onlMuoyu1vl1VNbS7 GaUDjo/ZDH0Yzg7RbxiJ0O2+Weq0dVJdd4QrPEnKtnx9hkS8zLxTgiZGku8Z9ZnO5LdF CaA0g6WF3sL6P9Kg07vFOypN4hQO8UopbCSfkXW1Db9joezPld4siQXMnUkQ9/iCZKeP YhY8Lihg2RbxXEF7FrU54YVhZ4l9mo3bPfVLTXUuh57ygj+db4sLFcy8DsAkigDiWXUq +dQdhmNajEESxLTrRFpk7x4K4YD/VsUD+aJbkMQf/FXTnbFjJ2RBKKVRADNJ7P2hTCnW f3JQ== X-Gm-Message-State: AOJu0YxoqYZe1/fct1TvJvmDXBi4rzLgmvDiMsM921O7bL+1bNVZe/9o ZL91ANSbYdsdxpAcO2vV160zGn8NYadzOBREbtCKfH+tGVTem7hw6bbbr23CYWiyZ1G/Kijgxer uc9A2uEkgeKZJ9GJp5le3RmSmF2WKjN//C9DJ/SiN X-Gm-Gg: ASbGnct+vzdeHtzVH3pF4fDUccWX8IkzFebbX9eyM6bN7OPnScGek6MflqOSFrMQFi9 MM0Cq9gdPwVkheSBs1CsXRndDKYl7LtfOSlQIMp5emqAzcFvkCUL3EukJbXZ37xJcFdXr0Nj58c oUmlY8qr5Hjq0oxfKHsZcCuXPasZE4R4BBjR6e8a4MxjWxFsTg/ce5bM9fKxTtI2QisW7MOPIui oOTifa5MknNfAC37Y6er39GvXqAio7+f74NudYC+lyVxXH9Dc/9ADBeQeUzZ9inHAUeer6uMfJ/ LJRmuNeBDLxjFsVBQZOH9CYhODMmiA== X-Google-Smtp-Source: AGHT+IFkRFj5tAfA+6sYEXj/xPXJIqZXWilj0m2gblvWVJ4ffDRl66NTBXD3aZY3ZUQDTlTFnHUi0nhkAQlY X-Received: by 2002:a05:6e02:20e1:b0:3d0:123e:fbdd with SMTP id e9e14a558f8ab-3d13dee19d4mr37957825ab.11.1738970797429; Fri, 07 Feb 2025 15:26:37 -0800 (PST) Received: from postal.iol.unh.edu (postal.iol.unh.edu. [132.177.123.84]) by smtp-relay.gmail.com with ESMTPS id 8926c6da1cb9f-4ecdc4937f5sm147863173.22.2025.02.07.15.26.37 (version=TLS1_2 cipher=ECDHE-ECDSA-AES128-GCM-SHA256 bits=128/128); Fri, 07 Feb 2025 15:26:37 -0800 (PST) X-Relaying-Domain: iol.unh.edu Date: Fri, 07 Feb 2025 15:26:37 -0800 (PST) Message-ID: <67a696ad.050a0220.90469.7298SMTPIN_ADDED_MISSING@mx.google.com> Received: from [172.21.0.7] (unknown [172.18.0.240]) by postal.iol.unh.edu (Postfix) with ESMTP id EA0466052471; Fri, 7 Feb 2025 18:26:06 -0500 (EST) Subject: |SUCCESS| pw151129-151131 [PATCH] [3/3] test/event: unit test to bur From: dpdklab@iol.unh.edu To: Test Report Cc: dpdk-test-reports@iol.unh.edu In-Reply-To: <20250207140910.721374-4-sthotton@marvell.com> References: <20250207140910.721374-4-sthotton@marvell.com> Content-Type: text/plain X-BeenThere: test-report@dpdk.org X-Mailman-Version: 2.1.29 Precedence: list List-Id: automatic DPDK test reports List-Unsubscribe: , List-Archive: List-Post: List-Help: List-Subscribe: , Errors-To: test-report-bounces@dpdk.org Test-Label: iol-unit-arm64-testing Test-Status: SUCCESS http://dpdk.org/patch/151131 _Testing PASS_ Submitter: Shijith Thotton Date: Friday, February 07 2025 14:09:10 DPDK git baseline: Repo:dpdk Branch: master CommitID:32c18e7364e30a8e43cc7cc6709a7ce606fa285e 151129-151131 --> testing pass Upstream job id: Generic-Unit-Test-DPDK#312868 Test environment and result as below: +-----------------------------+----------------+--------------+------------------------------+---------------------------+ | Environment | dpdk_unit_test | lpm_autotest | cryptodev_sw_snow3g_autotest | cryptodev_sw_zuc_autotest | +=============================+================+==============+==============================+===========================+ | Debian 12 (arm) | PASS | SKIPPED | PASS | PASS | +-----------------------------+----------------+--------------+------------------------------+---------------------------+ | CentOS Stream 9 (ARM) | PASS | SKIPPED | SKIPPED | SKIPPED | +-----------------------------+----------------+--------------+------------------------------+---------------------------+ | Fedora 40 (ARM) | PASS | SKIPPED | SKIPPED | SKIPPED | +-----------------------------+----------------+--------------+------------------------------+---------------------------+ | Debian 11 (Buster) (ARM) | PASS | SKIPPED | SKIPPED | SKIPPED | +-----------------------------+----------------+--------------+------------------------------+---------------------------+ | Fedora 40 (ARM Clang) | PASS | SKIPPED | SKIPPED | SKIPPED | +-----------------------------+----------------+--------------+------------------------------+---------------------------+ | Fedora 41 (ARM) | PASS | SKIPPED | SKIPPED | SKIPPED | +-----------------------------+----------------+--------------+------------------------------+---------------------------+ | Fedora 41 (ARM Clang) | PASS | SKIPPED | SKIPPED | SKIPPED | +-----------------------------+----------------+--------------+------------------------------+---------------------------+ | RHEL9 (ARM) | PASS | SKIPPED | SKIPPED | SKIPPED | +-----------------------------+----------------+--------------+------------------------------+---------------------------+ | Ubuntu 24.04 (ARM) | PASS | SKIPPED | SKIPPED | SKIPPED | +-----------------------------+----------------+--------------+------------------------------+---------------------------+ | Ubuntu 22.04 (ARM) | PASS | SKIPPED | SKIPPED | SKIPPED | +-----------------------------+----------------+--------------+------------------------------+---------------------------+ | Ubuntu 20.04 (ARM) | PASS | SKIPPED | SKIPPED | SKIPPED | +-----------------------------+----------------+--------------+------------------------------+---------------------------+ | 32-bit Ubuntu 22.04.4 (ARM) | PASS | SKIPPED | SKIPPED | SKIPPED | +-----------------------------+----------------+--------------+------------------------------+---------------------------+ | Ubuntu 20.04 ARM SVE | SKIPPED | PASS | SKIPPED | SKIPPED | +-----------------------------+----------------+--------------+------------------------------+---------------------------+ Debian 12 (arm) Kernel: Depends on container host Compiler: gcc (Debian 12.2.0-14) 12.2.0 CentOS Stream 9 (ARM) Kernel: Depends on container host Compiler: gcc 11.5.0 20240719 (Red Hat 11.5.0-2) Fedora 40 (ARM) Kernel: Depends on container host Compiler: gcc 14.2.1 20240912 (Red Hat 14.2.1-3) Debian 11 (Buster) (ARM) Kernel: Depends on container host Compiler: gcc (Debian 10.2.1-6) 10.2.1 20210110 Fedora 40 (ARM Clang) Kernel: Depends on container host Compiler: clang 18.1.8 (Fedora 18.1.8-1.fc40) Fedora 41 (ARM) Kernel: Depends on container host Compiler: gcc 14.2.1 20240912 (Red Hat 14.2.1-3) Fedora 41 (ARM Clang) Kernel: Depends on container host Compiler: clang 19.1.5 (Fedora 19.1.5-1.fc41) RHEL9 (ARM) Kernel: Depends on container host Compiler: gcc 11.5.0 20240719 (Red Hat 11.5.0-2) Ubuntu 24.04 (ARM) Kernel: Depends on container host Compiler: gcc (Ubuntu 13.3.0-6ubuntu2~24.04) 13.3.0 Ubuntu 22.04 (ARM) Kernel: Depends on container host Compiler: gcc (Ubuntu 11.4.0-1ubuntu1~22.04) 11.4.0 Ubuntu 20.04 (ARM) Kernel: Depends on container host Compiler: gcc (Ubuntu 9.4.0-1ubuntu1~20.04.2) 9.4.0 32-bit Ubuntu 22.04.4 (ARM) Kernel: 5.15.83+ aarch64 Compiler: gcc (Ubuntu 11.4.0-1ubuntu1~22.04) 11.4.0 Ubuntu 20.04 ARM SVE Kernel: Depends on container host Compiler: gcc (Ubuntu 10.5.0-1ubuntu1~20.04) 10.5.0 To view detailed results, visit: https://lab.dpdk.org/results/dashboard/patchsets/32525/ UNH-IOL DPDK Community Lab To manage your email subscriptions, visit: https://lab.dpdk.org/results/dashboard/preferences/subscriptions/