From mboxrd@z Thu Jan 1 00:00:00 1970 Return-Path: Received: from mails.dpdk.org (mails.dpdk.org [217.70.189.124]) by inbox.dpdk.org (Postfix) with ESMTP id 9CA38461C0 for ; Sat, 8 Feb 2025 00:50:17 +0100 (CET) Received: from mails.dpdk.org (localhost [127.0.0.1]) by mails.dpdk.org (Postfix) with ESMTP id 9802440280; Sat, 8 Feb 2025 00:50:17 +0100 (CET) Received: from mail-qt1-f225.google.com (mail-qt1-f225.google.com [209.85.160.225]) by mails.dpdk.org (Postfix) with ESMTP id 3214E40270 for ; Sat, 8 Feb 2025 00:50:16 +0100 (CET) Received: by mail-qt1-f225.google.com with SMTP id d75a77b69052e-46c8474d8f6so21774661cf.3 for ; Fri, 07 Feb 2025 15:50:16 -0800 (PST) DKIM-Signature: v=1; a=rsa-sha256; c=relaxed/relaxed; d=iol.unh.edu; s=unh-iol; t=1738972215; x=1739577015; darn=dpdk.org; h=references:in-reply-to:cc:to:from:subject:message-id:date:from:to :cc:subject:date:message-id:reply-to; bh=iATB+ZCRTEAihRpMx43i2fpf3tScxoH+SIC8ps0j/dA=; b=iZ8meO/zps8laFH1oxBjeIN+7jRibz0lDc3uPaS72MTrSmD663XMyXR4wGX/kDgXPI EGlnH66c2J6QyQ6mZTqmZa/CIemJ+8c29/ioGbmjbHcTxi7XDifcxLLjgbBhoUOAfXjK g07xtQrjifzRbx4Kt9E4cPq+juCjiIgMnIjx4= X-Google-DKIM-Signature: v=1; a=rsa-sha256; c=relaxed/relaxed; d=1e100.net; s=20230601; t=1738972215; x=1739577015; h=references:in-reply-to:cc:to:from:subject:message-id:date :x-gm-message-state:from:to:cc:subject:date:message-id:reply-to; bh=iATB+ZCRTEAihRpMx43i2fpf3tScxoH+SIC8ps0j/dA=; b=vJEi0ynCieY7yibT+bIFOPDzeiFFdHg5+S1Wds6iOzzmCf//YN9ZW6Bw/76l6j6cuB J4o1nUaevAsK8k1X/enL0t8GQBkt1eeCB6WNF3To9TGI0VXBem8k6GQOIPCEGLFjGVGT MtdG//t+TbkFF+kBXRFGD9JOsgy5kVcuE34soiFbZJQ97BhulAPGmrm0Sc6zn0VpgZw8 bLFTh+OHB1D1hWABJtSe1lN3V/Kzhym7p/jQIh2fWs4wEtsUPd9cLckZBBSDMp1SnJsk KTbHs511454m2H2VxGQxo0tPBrqZiIiqjve4vvr4Mei4aKBLwiTXmWNXIF/iO58ycUXp M92w== X-Gm-Message-State: AOJu0YyuqCUS487ITBu+nqwqyAGeTlLeSYPP+oZV1To3FchwE1FXNrxh cOcCb5fHtH1pRwSFygIfoPnUfqHuqALnCROOiHGyXEPUCL3I4htZ6pzWaP/LlbMURkM+HBKQWmN /OQTkAStAhWiC4EFS2NbYhQR7R7lc8CEOWYqqjXR/ X-Gm-Gg: ASbGncvZ+DVQp1U/Z3DJY6ciCm9jhiQHCpOZxlYfFT4T5d2K8oS127r+4vF1eMi5Kj0 E1Qrrc2gr7dLi6VAln6p1znffz7JwijCGmrMX5f9iNQw46m89meMH1IwjTGDUTBTTTqgI8QEO67 KpH4CFZUwwCqR7YItAtBFb03HNMxwrfyltDLoxQPJROf4eas3K2V0Xf3Z7M+qxSTbBTjUr4UGBT CFQx+9TpH4QrwCgvPgeYOp4M+IOCqm0OkU8/SqJmF+ctxSlAX0D15G7GGt+0a8jmCdhbxa/EFzH dAnwRuKryQ3LtWOhVGy3RnSM2ra4dg== X-Google-Smtp-Source: AGHT+IExRtWT3VEW+wd3juhdMWQaGxQyRczlvi3GxaYJnqn+tvSM/H9uS7mfCj2RPHYcFwHcPCZty14QP/3y X-Received: by 2002:ac8:7f50:0:b0:46f:cc36:d528 with SMTP id d75a77b69052e-47167acb4b6mr81611201cf.37.1738972215563; Fri, 07 Feb 2025 15:50:15 -0800 (PST) Received: from postal.iol.unh.edu (postal.iol.unh.edu. [132.177.123.84]) by smtp-relay.gmail.com with ESMTPS id d75a77b69052e-47149277972sm2324271cf.2.2025.02.07.15.50.15 (version=TLS1_2 cipher=ECDHE-ECDSA-AES128-GCM-SHA256 bits=128/128); Fri, 07 Feb 2025 15:50:15 -0800 (PST) X-Relaying-Domain: iol.unh.edu Date: Fri, 07 Feb 2025 15:50:15 -0800 (PST) Message-ID: <67a69c37.c80a0220.13bb7f.c0ddSMTPIN_ADDED_MISSING@mx.google.com> Received: from [172.21.0.6] (unknown [172.18.0.240]) by postal.iol.unh.edu (Postfix) with ESMTP id 4149D6052471; Fri, 7 Feb 2025 18:50:15 -0500 (EST) Subject: |SUCCESS| pw151134 [PATCH] [v6] eal: define __SIZEOF_LONG__ when usi From: dpdklab@iol.unh.edu To: Test Report Cc: dpdk-test-reports@iol.unh.edu In-Reply-To: <1738940668-21653-1-git-send-email-andremue@linux.microsoft.com> References: <1738940668-21653-1-git-send-email-andremue@linux.microsoft.com> Content-Type: text/plain X-BeenThere: test-report@dpdk.org X-Mailman-Version: 2.1.29 Precedence: list List-Id: automatic DPDK test reports List-Unsubscribe: , List-Archive: List-Post: List-Help: List-Subscribe: , Errors-To: test-report-bounces@dpdk.org Test-Label: iol-compile-amd64-testing Test-Status: SUCCESS http://dpdk.org/patch/151134 _Testing PASS_ Submitter: Andre Muezerie Date: Friday, February 07 2025 15:04:28 DPDK git baseline: Repo:dpdk Branch: master CommitID:388b1abe291544106e406cb0a200b5b0c96fe599 151134 --> testing pass Upstream job id: Windows-Compile-DPDK-VS#4862 Test environment and result as below: +---------------------+-------------------+--------------------+ | Environment | dpdk_msvc_compile | dpdk_meson_compile | +=====================+===================+====================+ | Windows Server 2022 | PASS | SKIPPED | +---------------------+-------------------+--------------------+ | FreeBSD 13.4 | SKIPPED | PASS | +---------------------+-------------------+--------------------+ | FreeBSD 14.2 | SKIPPED | PASS | +---------------------+-------------------+--------------------+ Windows Server 2022 Kernel: 10.0.20348.2031 Compiler: clang 15.0.7, gcc 14.1.0 (MinGW), and MSVC VS 19.39.33521 FreeBSD 13.4 Kernel: 13.4-RELEASE-p1 Compiler: clang 18.1.6 FreeBSD 14.2 Kernel: 14.2-RELEASE Compiler: clang 18.1.6 To view detailed results, visit: https://lab.dpdk.org/results/dashboard/patchsets/32528/ UNH-IOL DPDK Community Lab To manage your email subscriptions, visit: https://lab.dpdk.org/results/dashboard/preferences/subscriptions/