From mboxrd@z Thu Jan 1 00:00:00 1970 Return-Path: Received: from mails.dpdk.org (mails.dpdk.org [217.70.189.124]) by inbox.dpdk.org (Postfix) with ESMTP id BEC4E461C0 for ; Sat, 8 Feb 2025 00:50:55 +0100 (CET) Received: from mails.dpdk.org (localhost [127.0.0.1]) by mails.dpdk.org (Postfix) with ESMTP id B577340280; Sat, 8 Feb 2025 00:50:55 +0100 (CET) Received: from mail-il1-f227.google.com (mail-il1-f227.google.com [209.85.166.227]) by mails.dpdk.org (Postfix) with ESMTP id 485C340270 for ; Sat, 8 Feb 2025 00:50:55 +0100 (CET) Received: by mail-il1-f227.google.com with SMTP id e9e14a558f8ab-3ce87d31480so8092145ab.2 for ; Fri, 07 Feb 2025 15:50:55 -0800 (PST) DKIM-Signature: v=1; a=rsa-sha256; c=relaxed/relaxed; d=iol.unh.edu; s=unh-iol; t=1738972254; x=1739577054; darn=dpdk.org; h=references:in-reply-to:cc:to:from:subject:message-id:date:from:to :cc:subject:date:message-id:reply-to; bh=FV3dxRm9I4tS63OoS7BtBaPY0r7IFKMcgdnlVTN8fE0=; b=STuCJEZv9qOQKS3UErMHicsT5krszObrWUzZqRp0fFDee/PCs4hc88Q/Xc7+mDjyST e58pvmSahWE2CHJlbKgglvXhnIFw7XEXMXaFisXICWW5KNgqBLO9v/175TcsfVexm/Hp XOzCqQElhUsbvr1Z2BdZT9yFXT5UA3x9spI9k= X-Google-DKIM-Signature: v=1; a=rsa-sha256; c=relaxed/relaxed; d=1e100.net; s=20230601; t=1738972254; x=1739577054; h=references:in-reply-to:cc:to:from:subject:message-id:date :x-gm-message-state:from:to:cc:subject:date:message-id:reply-to; bh=FV3dxRm9I4tS63OoS7BtBaPY0r7IFKMcgdnlVTN8fE0=; b=sSJAwhsHPGq8eV+lL87NvFmyL6W1dieNsqxO7nDWrh0IQ8mjHL/DBnXTlmoYu2rfpO PghUDfvMTqtlP7gyGrbR/ChPdQnW8q8Ubnvg6B4C0kzOuMCO0jH6L8Vki+JUddW8FKfh en7rLvZYpwwygjrJ+ZF4nN8I/ku2DrFaAbFO3uFdg/KfIKugHQGsY6aVHfSaAZmfzlRZ CoHZsT5PWFA9B4hAKeCSwAKexDVizFFmi4adZ2JzgAL5JMEBum8bj/7v6VIOxQ303D9u DyCzvk6tesbM58wpKzEHmYoJ4r++d9YItsqqJQp/0eJClB5cMkv9+15e2Ujw14OjlAqK 0ecw== X-Gm-Message-State: AOJu0YwXgcaoQv1ScScHEVL7JKUyqfWb+zWUIIIATWCENXhIDTgPeFvD Ixv6932Wn33XBxwmnUnRP7Gs3fJZ/0KutH22v8bYjP3n3e/64lA296PUa3jm8jSOa7Jtj8j3jer v/XeJA23X3Ef1IwbaGjvciXKeU06SmTjx0/DAI3hN X-Gm-Gg: ASbGnctyH5EjUaXVhl6BOUvfo/Xvh1Xy3fSw31GVphQE5cRH5LfBa4PIlpN6hjM3GH2 JTNyplRAgdPoGzxFdOvvM8a/vSjvwVR8E3GilOFY++V0Lb5W3CsLKBN6RpLCouBImA9JI5lTYeF Id7HkERQdqYjqDDYjT3iKyjSa3aVqDfdEhhJaFoL4mr7j8X/3YiKFffip6HE5EqjI7b1zl1gODs uw3oWIhQnJOXOutgvnYsvU5GOK2M6J7PuEsWhgfEMYxuocZoNYlTn+b0fftGuaMU0PgeZwQMyJ4 7XG7wFz+5LnyD4Ygq5G9OuorlDvOfg== X-Google-Smtp-Source: AGHT+IGmvWfPiX8fC3EK1WwWKbufwdKW8bLS5aJcRmGvwUqijkdfZ5r/3qkLUzhXeCWJkO9ChlEUs9yx8T8e X-Received: by 2002:a05:6e02:1c86:b0:3cf:c82f:586c with SMTP id e9e14a558f8ab-3d13dcde651mr46426195ab.4.1738972254567; Fri, 07 Feb 2025 15:50:54 -0800 (PST) Received: from postal.iol.unh.edu (postal.iol.unh.edu. [132.177.123.84]) by smtp-relay.gmail.com with ESMTPS id e9e14a558f8ab-3d148395784sm976675ab.39.2025.02.07.15.50.54 (version=TLS1_2 cipher=ECDHE-ECDSA-AES128-GCM-SHA256 bits=128/128); Fri, 07 Feb 2025 15:50:54 -0800 (PST) X-Relaying-Domain: iol.unh.edu Date: Fri, 07 Feb 2025 15:50:54 -0800 (PST) Message-ID: <67a69c5e.050a0220.3215ee.4c02SMTPIN_ADDED_MISSING@mx.google.com> Received: from [172.21.0.5] (unknown [172.18.0.240]) by postal.iol.unh.edu (Postfix) with ESMTP id 141136052471; Fri, 7 Feb 2025 18:50:54 -0500 (EST) Subject: |SUCCESS| pw151134 [PATCH] [v6] eal: define __SIZEOF_LONG__ when usi From: dpdklab@iol.unh.edu To: Test Report Cc: dpdk-test-reports@iol.unh.edu In-Reply-To: <1738940668-21653-1-git-send-email-andremue@linux.microsoft.com> References: <1738940668-21653-1-git-send-email-andremue@linux.microsoft.com> Content-Type: text/plain X-BeenThere: test-report@dpdk.org X-Mailman-Version: 2.1.29 Precedence: list List-Id: automatic DPDK test reports List-Unsubscribe: , List-Archive: List-Post: List-Help: List-Subscribe: , Errors-To: test-report-bounces@dpdk.org Test-Label: iol-compile-amd64-testing Test-Status: SUCCESS http://dpdk.org/patch/151134 _Testing PASS_ Submitter: Andre Muezerie Date: Friday, February 07 2025 15:04:28 DPDK git baseline: Repo:dpdk Branch: master CommitID:388b1abe291544106e406cb0a200b5b0c96fe599 151134 --> testing pass Upstream job id: Generic-VM-DPDK-Compile-Meson#33146 Test environment and result as below: +---------------------+-------------------+--------------------+ | Environment | dpdk_msvc_compile | dpdk_meson_compile | +=====================+===================+====================+ | Windows Server 2022 | PASS | SKIPPED | +---------------------+-------------------+--------------------+ | FreeBSD 13.4 | SKIPPED | PASS | +---------------------+-------------------+--------------------+ | FreeBSD 14.2 | SKIPPED | PASS | +---------------------+-------------------+--------------------+ Windows Server 2022 Kernel: 10.0.20348.2031 Compiler: clang 15.0.7, gcc 14.1.0 (MinGW), and MSVC VS 19.39.33521 FreeBSD 13.4 Kernel: 13.4-RELEASE-p1 Compiler: clang 18.1.6 FreeBSD 14.2 Kernel: 14.2-RELEASE Compiler: clang 18.1.6 To view detailed results, visit: https://lab.dpdk.org/results/dashboard/patchsets/32528/ UNH-IOL DPDK Community Lab To manage your email subscriptions, visit: https://lab.dpdk.org/results/dashboard/preferences/subscriptions/