From mboxrd@z Thu Jan 1 00:00:00 1970 Return-Path: Received: from mails.dpdk.org (mails.dpdk.org [217.70.189.124]) by inbox.dpdk.org (Postfix) with ESMTP id 39899461C0 for ; Sat, 8 Feb 2025 01:18:54 +0100 (CET) Received: from mails.dpdk.org (localhost [127.0.0.1]) by mails.dpdk.org (Postfix) with ESMTP id 325F740280; Sat, 8 Feb 2025 01:18:54 +0100 (CET) Received: from mail-pl1-f225.google.com (mail-pl1-f225.google.com [209.85.214.225]) by mails.dpdk.org (Postfix) with ESMTP id E2B6340270 for ; Sat, 8 Feb 2025 01:18:52 +0100 (CET) Received: by mail-pl1-f225.google.com with SMTP id d9443c01a7336-21f2cfd821eso48577175ad.3 for ; Fri, 07 Feb 2025 16:18:52 -0800 (PST) DKIM-Signature: v=1; a=rsa-sha256; c=relaxed/relaxed; d=iol.unh.edu; s=unh-iol; t=1738973932; x=1739578732; darn=dpdk.org; h=references:in-reply-to:cc:to:from:subject:message-id:date:from:to :cc:subject:date:message-id:reply-to; bh=IaC7OqC80dHAdC5n3YUwGOOzlAOSDI1RPzrGxVNl9a8=; b=THA22eu40SmosVuU4iT3p5eyPFrzYWhsSCZsN6rVvWo0vGYFOo9kvV6G1N8KJTMez6 p3BDeqMYOb4iL0vUsmVUr0z7M0Voicel8DiGEnTmoTFER+Qiot+hx0sTGj5kzgCKggMx +k+7MnaKBNLRgRG+Ma0JxW5AuaEfGOiu1R/uQ= X-Google-DKIM-Signature: v=1; a=rsa-sha256; c=relaxed/relaxed; d=1e100.net; s=20230601; t=1738973932; x=1739578732; h=references:in-reply-to:cc:to:from:subject:message-id:date :x-gm-message-state:from:to:cc:subject:date:message-id:reply-to; bh=IaC7OqC80dHAdC5n3YUwGOOzlAOSDI1RPzrGxVNl9a8=; b=LgqH+msGaBv33oGDLvQSBlG/ibsn4TVBKBY5cOxjftWi6zYc2i82xkbdHjwpc+p06p 3jcQ5NmjYKXXBpIcQk3soEJoflwKKI4yTrgTk0dmPgye/kvP1HnJimALa8uFsp8Cerbg lVEc4b0z246skXmXmgDW/1FZYraZEMM2Cshch6UlzzNTBRQqwJ+L9i44fWMHKeqAQYGM 2kvY5NZbwlDHmzWNljmm97++GQ9ieEVXBqd++jsycc87MeqXwnq8l8MF3oN07PH64BkE QR+qEDCAx28YcMvpvQvJx1HX23HSf/zrco/Q0HV4pTEi3q9HM5iP3edHNm0fu0D940pC 9/UA== X-Gm-Message-State: AOJu0YzETuzeaySP15Hpw0+5KLnRwM90lB532lLzgPzipc3LWCDUnXBO kMMWyPGcfLqidkFBzhlE7zTHCEyZ9NuqLF8Ua9L6/FtL7fWGALsVx4da4PvwkDm5VxipeDK5fPi eU+iKSoT8GljgVf+uhvwjeXSc7g1t9nsnqeAcBIZ0 X-Gm-Gg: ASbGncsvA6ygxMFO2s6lW89Fq+YnT7ouwX4WoIbgOyFaaDt72+IUxuHdYaP38rtRmAp VNxQBg8c8h4miCjEbTjpqBX5/oEXtSm41aUUCdVyvB8t02/4JGykQzCJfdJa8i69ZeXEPyPelCR +4VAAsw5o9eYMlX15wNVBfLE2LXDWr4pg3Ce73JpaAXRfbMX4AeFbUR40uEQRuomkD0jZK6cVQM c70TfCXS8VW7J4pGiL2hWW8TiNpd57Ww26D9Mm/ULCewccAmKVQrp/UhPZa4SbXMK6bDwQOP6eC v1qX8FpGzQDW2T8Av6bj8IcM/xNlwg== X-Google-Smtp-Source: AGHT+IEh9lY8IJIL/20bLkaJalpypUQAz+pshLfAoMrrFyCiWQz2CpLRFso5qESWP6GEhyhsDQBJGsJoEJVX X-Received: by 2002:a17:902:e951:b0:21f:37ea:47c9 with SMTP id d9443c01a7336-21f4e6a55d1mr96877135ad.4.1738973931879; Fri, 07 Feb 2025 16:18:51 -0800 (PST) Received: from postal.iol.unh.edu (postal.iol.unh.edu. [132.177.123.84]) by smtp-relay.gmail.com with ESMTPS id 98e67ed59e1d1-2fa269d2305sm204105a91.12.2025.02.07.16.18.51 (version=TLS1_2 cipher=ECDHE-ECDSA-AES128-GCM-SHA256 bits=128/128); Fri, 07 Feb 2025 16:18:51 -0800 (PST) X-Relaying-Domain: iol.unh.edu Date: Fri, 07 Feb 2025 16:18:51 -0800 (PST) Message-ID: <67a6a2eb.170a0220.131ce3.9e10SMTPIN_ADDED_MISSING@mx.google.com> Received: from [172.21.0.5] (unknown [172.18.0.240]) by postal.iol.unh.edu (Postfix) with ESMTP id 03F8C6052471; Fri, 7 Feb 2025 19:18:21 -0500 (EST) Subject: |SUCCESS| pw151128 [PATCH] examples/ipsec-secgw: fix iv len in ctr 1 From: dpdklab@iol.unh.edu To: Test Report Cc: dpdk-test-reports@iol.unh.edu In-Reply-To: <20250207134545.63820-1-nkaithakadan@marvell.com> References: <20250207134545.63820-1-nkaithakadan@marvell.com> Content-Type: text/plain X-BeenThere: test-report@dpdk.org X-Mailman-Version: 2.1.29 Precedence: list List-Id: automatic DPDK test reports List-Unsubscribe: , List-Archive: List-Post: List-Help: List-Subscribe: , Errors-To: test-report-bounces@dpdk.org Test-Label: iol-unit-amd64-testing Test-Status: SUCCESS http://dpdk.org/patch/151128 _Testing PASS_ Submitter: Nithinsen Kaithakadan Date: Friday, February 07 2025 13:45:43 DPDK git baseline: Repo:dpdk Branch: master CommitID:388b1abe291544106e406cb0a200b5b0c96fe599 151128 --> testing pass Upstream job id: Generic-Unit-Test-DPDK#312924 Test environment and result as below: +---------------------+----------------+ | Environment | dpdk_unit_test | +=====================+================+ | Debian Bullseye | PASS | +---------------------+----------------+ | CentOS Stream 9 | PASS | +---------------------+----------------+ | Fedora 40 | PASS | +---------------------+----------------+ | RHEL9 | PASS | +---------------------+----------------+ | Fedora 40 (Clang) | PASS | +---------------------+----------------+ | Debian 12 | PASS | +---------------------+----------------+ | Fedora 41 (Clang) | PASS | +---------------------+----------------+ | RHEL8 | PASS | +---------------------+----------------+ | Ubuntu 20.04 | PASS | +---------------------+----------------+ | Fedora 41 | PASS | +---------------------+----------------+ | Ubuntu 24.04 | PASS | +---------------------+----------------+ | Ubuntu 22.04 | PASS | +---------------------+----------------+ | Windows Server 2022 | PASS | +---------------------+----------------+ Debian Bullseye Kernel: Depends on container host Compiler: gcc (Debian 10.2.1-6) 10.2.1 20210110 CentOS Stream 9 Kernel: Depends on container host Compiler: gcc 11.5.0 20240719 (Red Hat 11.5.0-2) Fedora 40 Kernel: Depends on container host Compiler: gcc 14.2.1 20240912 (Red Hat 14.2.1-3) RHEL9 Kernel: Depends on container host Compiler: gcc 11.5.0 20240719 (Red Hat 11.5.0-2) Fedora 40 (Clang) Kernel: Depends on container host Compiler: clang 18.1.8 (Fedora 18.1.8-1.fc40) Debian 12 Kernel: Depends on container host Compiler: gcc (Debian 12.2.0-14) 12.2.0 Fedora 41 (Clang) Kernel: Depends on container host Compiler: clang 19.1.5 (Fedora 19.1.5-1.fc41) RHEL8 Kernel: Depends on container host Compiler: gcc 8.5.0 20210514 (Red Hat 8.5.0-22) Ubuntu 20.04 Kernel: Depends on container host Compiler: gcc (Ubuntu 9.4.0-1ubuntu1~20.04.2) 9.4.0 Fedora 41 Kernel: Depends on container host Compiler: gcc 14.2.1 20240912 (Red Hat 14.2.1-3) Ubuntu 24.04 Kernel: Depends on container host Compiler: gcc (Ubuntu 13.3.0-6ubuntu2~24.04) 13.3.0 Ubuntu 22.04 Kernel: Depends on container host Compiler: gcc (Ubuntu 11.4.0-1ubuntu1~22.04) 11.4.0 Windows Server 2022 Kernel: 10.0.20348.2031 Compiler: clang 15.0.7, gcc 14.1.0 (MinGW), and MSVC VS 19.39.33521 To view detailed results, visit: https://lab.dpdk.org/results/dashboard/patchsets/32524/ UNH-IOL DPDK Community Lab To manage your email subscriptions, visit: https://lab.dpdk.org/results/dashboard/preferences/subscriptions/