From mboxrd@z Thu Jan 1 00:00:00 1970 Return-Path: Received: from mails.dpdk.org (mails.dpdk.org [217.70.189.124]) by inbox.dpdk.org (Postfix) with ESMTP id 08BF2461C0 for ; Sat, 8 Feb 2025 01:27:48 +0100 (CET) Received: from mails.dpdk.org (localhost [127.0.0.1]) by mails.dpdk.org (Postfix) with ESMTP id D1CE040280; Sat, 8 Feb 2025 01:27:47 +0100 (CET) Received: from mail-pl1-f226.google.com (mail-pl1-f226.google.com [209.85.214.226]) by mails.dpdk.org (Postfix) with ESMTP id 6CDA640270 for ; Sat, 8 Feb 2025 01:27:46 +0100 (CET) Received: by mail-pl1-f226.google.com with SMTP id d9443c01a7336-219f8263ae0so51539745ad.0 for ; Fri, 07 Feb 2025 16:27:46 -0800 (PST) DKIM-Signature: v=1; a=rsa-sha256; c=relaxed/relaxed; d=iol.unh.edu; s=unh-iol; t=1738974465; x=1739579265; darn=dpdk.org; h=references:in-reply-to:cc:to:from:subject:message-id:date:from:to :cc:subject:date:message-id:reply-to; bh=6ege590REXqcF/RTuODQqEvPdKrNQcLYgiJ6Uo4MCLI=; b=VzZ+IeK2+Gpm+UB1D1X/BDbaJXqj+RWzFpwF+JABvtGvBETsueDT3b0ur11NPdFqq7 k4Hdrnvh1JJCyGaBS3pvg78w96opsiwd1zDCMS/NKgBXOFKQBp1EHkGSK6E4LiV3E/Cb QYpX9DnAn3tMuk8ey03ExcdaD7Pvi2b1fxyd0= X-Google-DKIM-Signature: v=1; a=rsa-sha256; c=relaxed/relaxed; d=1e100.net; s=20230601; t=1738974465; x=1739579265; h=references:in-reply-to:cc:to:from:subject:message-id:date :x-gm-message-state:from:to:cc:subject:date:message-id:reply-to; bh=6ege590REXqcF/RTuODQqEvPdKrNQcLYgiJ6Uo4MCLI=; b=wA+bDvIaW2s9xdKyKP4ejkB+NBX6aokUtFMdE664/XBNIN+ewS05Jk22azbhVMhv9X kt9gpXg3Krj7DfS/UDxSMAquMGBd9GGzufEE0fWDxXhObdc7EsEYCfZdSks8PM7RaAbo Z1GJrtNvdt/kcBS7OX8E8rYsHqXkmEqHUCzg4V/MmVkqmQT0FlRj1Nay62ehwhL0Ctvu vqcH3BuVVG1ibVTq5jK8gUfBLQKk/FVt8NBorMCLHgfHRrLrL5mXxmtqZDHezIuLfFW4 E3Pd2YVhmLI2nAR1orMWprJYmaBMr/eRfJPGEEXIuf/Au0IYZHYNpNeGtGDK1NmX5sbT 7Rtg== X-Gm-Message-State: AOJu0YyN9lBAabZryvcV7/RaPZNG7NXmiLNU0wbGBuXGzW/e5KFy0jFC TfUayghJzwKpnbn3AmZvRuXIMP6ofN/qwWgvzmAtEMr0r1I9jORw4U6j3qo7IjuAm4sW0frOKK0 gAGi90uNPY4iuWbltSIw5fWedIukoSbjrMoDl1HIL X-Gm-Gg: ASbGncuezLzdTq+4tSDOhFw8ntcA6+NpzTXYO6t5UJCHe2OxiBKU6ZQnth0h9LStb/Z St9PJIPPG7QfbfQx2pSMulLYfbNoxrxWRJ9e6eqHwGzkLh9fe61xRZiaUqaufdLbalIUC2MAm3A hc3VszTEv3EL/S/wZ9j49rH2kE1QOxx9qyl6U3UBPV776F0paFpw5PaQb8CEf+aE5fKL0xpAAsn 8HlwE/kQhY9xPgtARV63oBPhbayQSYXR/zd2iPRjMS7XzZYxshCMaX8m8Up+n+gdHZ9DbXtcM1n ms299HyKrQdtgs4Q2g7QPUSviHJ5fw== X-Google-Smtp-Source: AGHT+IGT5tabUpwOVGQN18vhQgCjBa69iWI8u7dAujSyDEJXkSMSMNjcf8Twbroz9xch4hcXfiZ25F8Xkxz8 X-Received: by 2002:a17:903:1a2d:b0:21f:2a2:3c80 with SMTP id d9443c01a7336-21f4e1cb924mr71419235ad.8.1738974465348; Fri, 07 Feb 2025 16:27:45 -0800 (PST) Received: from postal.iol.unh.edu (postal.iol.unh.edu. [132.177.123.84]) by smtp-relay.gmail.com with ESMTPS id d9443c01a7336-21f3658fe99sm2316705ad.67.2025.02.07.16.27.45 (version=TLS1_2 cipher=ECDHE-ECDSA-AES128-GCM-SHA256 bits=128/128); Fri, 07 Feb 2025 16:27:45 -0800 (PST) X-Relaying-Domain: iol.unh.edu Date: Fri, 07 Feb 2025 16:27:45 -0800 (PST) Message-ID: <67a6a501.170a0220.2e85d3.bba3SMTPIN_ADDED_MISSING@mx.google.com> Received: from [172.21.0.5] (unknown [172.18.0.240]) by postal.iol.unh.edu (Postfix) with ESMTP id C510D6052471; Fri, 7 Feb 2025 19:27:44 -0500 (EST) Subject: |SUCCESS| pw151135 [PATCH] [v5,1/1] drivers/net: use 64-bit shift an From: dpdklab@iol.unh.edu To: Test Report Cc: dpdk-test-reports@iol.unh.edu In-Reply-To: <1738950069-21059-2-git-send-email-andremue@linux.microsoft.com> References: <1738950069-21059-2-git-send-email-andremue@linux.microsoft.com> Content-Type: text/plain X-BeenThere: test-report@dpdk.org X-Mailman-Version: 2.1.29 Precedence: list List-Id: automatic DPDK test reports List-Unsubscribe: , List-Archive: List-Post: List-Help: List-Subscribe: , Errors-To: test-report-bounces@dpdk.org Test-Label: iol-abi-testing Test-Status: SUCCESS http://dpdk.org/patch/151135 _Testing PASS_ Submitter: Andre Muezerie Date: Friday, February 07 2025 17:41:09 DPDK git baseline: Repo:dpdk Branch: master CommitID:cebec711bdc507d1b271b50ea1e696db86a3a202 151135 --> testing pass Upstream job id: Generic-DPDK-Compile-ABI#115319 Test environment and result as below: +-------------------+----------+ | Environment | abi_test | +===================+==========+ | CentOS Stream 9 | PASS | +-------------------+----------+ | Debian Bullseye | PASS | +-------------------+----------+ | Debian 12 | PASS | +-------------------+----------+ | Fedora 41 (Clang) | PASS | +-------------------+----------+ | Fedora 40 | PASS | +-------------------+----------+ | Fedora 40 (Clang) | PASS | +-------------------+----------+ | openSUSE Leap 15 | PASS | +-------------------+----------+ | RHEL8 | PASS | +-------------------+----------+ | Ubuntu 22.04 | PASS | +-------------------+----------+ | Ubuntu 24.04 | PASS | +-------------------+----------+ | RHEL9 | PASS | +-------------------+----------+ | Fedora 41 | PASS | +-------------------+----------+ CentOS Stream 9 Kernel: Depends on container host Compiler: gcc 11.5.0 20240719 (Red Hat 11.5.0-2) Debian Bullseye Kernel: Depends on container host Compiler: gcc (Debian 10.2.1-6) 10.2.1 20210110 Debian 12 Kernel: Depends on container host Compiler: gcc (Debian 12.2.0-14) 12.2.0 Fedora 41 (Clang) Kernel: Depends on container host Compiler: clang 19.1.5 (Fedora 19.1.5-1.fc41) Fedora 40 Kernel: Depends on container host Compiler: gcc 14.2.1 20240912 (Red Hat 14.2.1-3) Fedora 40 (Clang) Kernel: Depends on container host Compiler: clang 18.1.8 (Fedora 18.1.8-1.fc40) openSUSE Leap 15 Kernel: Depends on container host Compiler: gcc (SUSE Linux) 7.5.0 RHEL8 Kernel: Depends on container host Compiler: gcc 8.5.0 20210514 (Red Hat 8.5.0-22) Ubuntu 22.04 Kernel: Depends on container host Compiler: gcc (Ubuntu 11.4.0-1ubuntu1~22.04) 11.4.0 Ubuntu 24.04 Kernel: Depends on container host Compiler: gcc (Ubuntu 13.3.0-6ubuntu2~24.04) 13.3.0 RHEL9 Kernel: Depends on container host Compiler: gcc 11.5.0 20240719 (Red Hat 11.5.0-2) Fedora 41 Kernel: Depends on container host Compiler: gcc 14.2.1 20240912 (Red Hat 14.2.1-3) To view detailed results, visit: https://lab.dpdk.org/results/dashboard/patchsets/32529/ UNH-IOL DPDK Community Lab To manage your email subscriptions, visit: https://lab.dpdk.org/results/dashboard/preferences/subscriptions/