From mboxrd@z Thu Jan 1 00:00:00 1970 Return-Path: Received: from mails.dpdk.org (mails.dpdk.org [217.70.189.124]) by inbox.dpdk.org (Postfix) with ESMTP id A6D9B461C1 for ; Sat, 8 Feb 2025 02:06:06 +0100 (CET) Received: from mails.dpdk.org (localhost [127.0.0.1]) by mails.dpdk.org (Postfix) with ESMTP id 79BD640280; Sat, 8 Feb 2025 02:06:06 +0100 (CET) Received: from mail-il1-f225.google.com (mail-il1-f225.google.com [209.85.166.225]) by mails.dpdk.org (Postfix) with ESMTP id C461340270 for ; Sat, 8 Feb 2025 02:06:04 +0100 (CET) Received: by mail-il1-f225.google.com with SMTP id e9e14a558f8ab-3cfce97a3d9so9515925ab.2 for ; Fri, 07 Feb 2025 17:06:04 -0800 (PST) DKIM-Signature: v=1; a=rsa-sha256; c=relaxed/relaxed; d=iol.unh.edu; s=unh-iol; t=1738976764; x=1739581564; darn=dpdk.org; h=references:in-reply-to:cc:to:from:subject:message-id:date:from:to :cc:subject:date:message-id:reply-to; bh=PpkDmRElmWFG/qUL0IHnQGyCIsyotl47yPD3uvw/6jw=; b=RYng9MJ1q+PPJ0gD7yk3OjEjWMFpT9vZENk25azxAXyuXJmjUviujaB+7oTrnxb8MD rXIG6VbeaEq5hYR/bGa483tXLK+F3QCPshKLhlDuvH2G/hKinSSb6m1HxMtDODtGXciI 6llt8AJd0nKuqyk3Mbeqj/DkCVySB1Bvmo+oQ= X-Google-DKIM-Signature: v=1; a=rsa-sha256; c=relaxed/relaxed; d=1e100.net; s=20230601; t=1738976764; x=1739581564; h=references:in-reply-to:cc:to:from:subject:message-id:date :x-gm-message-state:from:to:cc:subject:date:message-id:reply-to; bh=PpkDmRElmWFG/qUL0IHnQGyCIsyotl47yPD3uvw/6jw=; b=GOzrrnAzZlMyf80+9dqQdktOsL+zOHfdAt705zu0eaXWdPqKBdi9JBcT0VMDVAOFc/ Zuhv7Fk+dpiNnFCnOCqYL9GizemMxPqityK8+THsnTe3xAPjoZnNzgU78RbxeE7/BOON ViKz7muy84Rfcdaf+Gt2hyTRFgKUlPbEsBBjY/OIFURYuv1K/WwGaKo5D3fVXotb6Yxi D15IruLYMPn1EFHmrk805nMhkJitiXJDJUumL2GMP/6tZcqN4Ew9TLgOywKmlcDHaIcv HElVJ3A6rjgY/lC5S3kEsc19K1JUGAoHwofgSlt2x1BX+GxK7QxtpFfnP6Mi4g6njfJl UsPA== X-Gm-Message-State: AOJu0Yz9vNbb0EjMjolAHsELFD+qd0yA/W1CDcfBdMmeql3mC4cXxnC4 bXUQIOA/RQTYuMz4jHPOnBQNhcEkDHEIx9OuU/3gdRkVldgcjfwYbpqHtr7WLIcVecHdxwly3+9 hE3c9ij+xSFEbbgerv4AnZNGuX43WcPj7ACmgEua/ X-Gm-Gg: ASbGnct4ZWOOtlKDp+BKsYplfQu7Tizl5enmZ85TjzvG23GuvXRI1dRWCvGgP9y0P30 IGfHzptQ+5Gj6/v24nrS+hOwVDbI3tDQaLKcsM8MCs4Ttki/Or+RpAIlv9+HpQn2ZEAWLRFzU+w 0z3QDVxXzStSCsko2KaokaN+cGoEA1hPchqx6WucWYdSFMjisSwMpWrO/eaOySbWj/jMgQy/NAj gCZUXiUQDN99FuOR/fNin4qN80JQaKaHMBLaW/YEeLoeMek5gLFmEyplJTSOH1qn2qZmJm0tquU bF4dvrjdZuPwxfJG0J657Uxg1jSxOA== X-Google-Smtp-Source: AGHT+IHAb/0dYlXQt4xouatk8uqntPOf2GC5WYv6Ir/LGwGZcImHe4HBkDGnX0skGqgE1nDSfQHhUx5g/EN0 X-Received: by 2002:a05:6e02:17ce:b0:3d0:443d:a5ad with SMTP id e9e14a558f8ab-3d13dcd9098mr48338375ab.2.1738976764106; Fri, 07 Feb 2025 17:06:04 -0800 (PST) Received: from postal.iol.unh.edu (postal.iol.unh.edu. [132.177.123.84]) by smtp-relay.gmail.com with ESMTPS id e9e14a558f8ab-3d14631981esm1123345ab.23.2025.02.07.17.06.03 (version=TLS1_2 cipher=ECDHE-ECDSA-AES128-GCM-SHA256 bits=128/128); Fri, 07 Feb 2025 17:06:04 -0800 (PST) X-Relaying-Domain: iol.unh.edu Date: Fri, 07 Feb 2025 17:06:04 -0800 (PST) Message-ID: <67a6adfc.050a0220.9a5c.51efSMTPIN_ADDED_MISSING@mx.google.com> Received: from [172.21.0.7] (unknown [172.18.0.240]) by postal.iol.unh.edu (Postfix) with ESMTP id 8BCC06052471; Fri, 7 Feb 2025 20:05:33 -0500 (EST) Subject: |WARNING| pw151128 [PATCH] examples/ipsec-secgw: fix iv len in ctr 1 From: dpdklab@iol.unh.edu To: Test Report Cc: dpdk-test-reports@iol.unh.edu In-Reply-To: <20250207134545.63820-1-nkaithakadan@marvell.com> References: <20250207134545.63820-1-nkaithakadan@marvell.com> Content-Type: text/plain X-BeenThere: test-report@dpdk.org X-Mailman-Version: 2.1.29 Precedence: list List-Id: automatic DPDK test reports List-Unsubscribe: , List-Archive: List-Post: List-Help: List-Subscribe: , Errors-To: test-report-bounces@dpdk.org Test-Label: iol-unit-arm64-testing Test-Status: WARNING http://dpdk.org/patch/151128 _Testing issues_ Submitter: Nithinsen Kaithakadan Date: Friday, February 07 2025 13:45:43 DPDK git baseline: Repo:dpdk Branch: master CommitID:388b1abe291544106e406cb0a200b5b0c96fe599 151128 --> testing issues Upstream job id: Generic-Unit-Test-DPDK#312892 Test environment and result as below: +-----------------------------+----------------+--------------+------------------------------+---------------------------+ | Environment | dpdk_unit_test | lpm_autotest | cryptodev_sw_snow3g_autotest | cryptodev_sw_zuc_autotest | +=============================+================+==============+==============================+===========================+ | 32-bit Ubuntu 22.04.4 (ARM) | PASS | SKIPPED | SKIPPED | SKIPPED | +-----------------------------+----------------+--------------+------------------------------+---------------------------+ | Debian 11 (Buster) (ARM) | PASS | SKIPPED | SKIPPED | SKIPPED | +-----------------------------+----------------+--------------+------------------------------+---------------------------+ | Debian 12 (arm) | PASS | SKIPPED | WARN | PEND | +-----------------------------+----------------+--------------+------------------------------+---------------------------+ | CentOS Stream 9 (ARM) | PASS | SKIPPED | SKIPPED | SKIPPED | +-----------------------------+----------------+--------------+------------------------------+---------------------------+ | Fedora 41 (ARM Clang) | PASS | SKIPPED | SKIPPED | SKIPPED | +-----------------------------+----------------+--------------+------------------------------+---------------------------+ | Fedora 40 (ARM Clang) | PASS | SKIPPED | SKIPPED | SKIPPED | +-----------------------------+----------------+--------------+------------------------------+---------------------------+ | Fedora 40 (ARM) | PASS | SKIPPED | SKIPPED | SKIPPED | +-----------------------------+----------------+--------------+------------------------------+---------------------------+ | RHEL9 (ARM) | PASS | SKIPPED | SKIPPED | SKIPPED | +-----------------------------+----------------+--------------+------------------------------+---------------------------+ | Fedora 41 (ARM) | PASS | SKIPPED | SKIPPED | SKIPPED | +-----------------------------+----------------+--------------+------------------------------+---------------------------+ | Ubuntu 22.04 (ARM) | PASS | SKIPPED | SKIPPED | SKIPPED | +-----------------------------+----------------+--------------+------------------------------+---------------------------+ | Ubuntu 20.04 (ARM) | PEND | SKIPPED | SKIPPED | SKIPPED | +-----------------------------+----------------+--------------+------------------------------+---------------------------+ | Ubuntu 24.04 (ARM) | PEND | SKIPPED | SKIPPED | SKIPPED | +-----------------------------+----------------+--------------+------------------------------+---------------------------+ | Ubuntu 20.04 ARM SVE | SKIPPED | PASS | SKIPPED | SKIPPED | +-----------------------------+----------------+--------------+------------------------------+---------------------------+ ==== 20 line log output for Debian 12 (arm) (cryptodev_sw_snow3g_autotest): ==== --- Failed to get log output --- ==== End log output ==== 32-bit Ubuntu 22.04.4 (ARM) Kernel: 5.15.83+ aarch64 Compiler: gcc (Ubuntu 11.4.0-1ubuntu1~22.04) 11.4.0 Debian 11 (Buster) (ARM) Kernel: Depends on container host Compiler: gcc (Debian 10.2.1-6) 10.2.1 20210110 Debian 12 (arm) Kernel: Depends on container host Compiler: gcc (Debian 12.2.0-14) 12.2.0 CentOS Stream 9 (ARM) Kernel: Depends on container host Compiler: gcc 11.5.0 20240719 (Red Hat 11.5.0-2) Fedora 41 (ARM Clang) Kernel: Depends on container host Compiler: clang 19.1.5 (Fedora 19.1.5-1.fc41) Fedora 40 (ARM Clang) Kernel: Depends on container host Compiler: clang 18.1.8 (Fedora 18.1.8-1.fc40) Fedora 40 (ARM) Kernel: Depends on container host Compiler: gcc 14.2.1 20240912 (Red Hat 14.2.1-3) RHEL9 (ARM) Kernel: Depends on container host Compiler: gcc 11.5.0 20240719 (Red Hat 11.5.0-2) Fedora 41 (ARM) Kernel: Depends on container host Compiler: gcc 14.2.1 20240912 (Red Hat 14.2.1-3) Ubuntu 22.04 (ARM) Kernel: Depends on container host Compiler: gcc (Ubuntu 11.4.0-1ubuntu1~22.04) 11.4.0 Ubuntu 20.04 (ARM) Kernel: Depends on container host Compiler: gcc (Ubuntu 9.4.0-1ubuntu1~20.04.2) 9.4.0 Ubuntu 24.04 (ARM) Kernel: Depends on container host Compiler: gcc (Ubuntu 13.3.0-6ubuntu2~24.04) 13.3.0 Ubuntu 20.04 ARM SVE Kernel: Depends on container host Compiler: gcc (Ubuntu 10.5.0-1ubuntu1~20.04) 10.5.0 To view detailed results, visit: https://lab.dpdk.org/results/dashboard/patchsets/32524/ UNH-IOL DPDK Community Lab To manage your email subscriptions, visit: https://lab.dpdk.org/results/dashboard/preferences/subscriptions/