From mboxrd@z Thu Jan 1 00:00:00 1970 Return-Path: Received: from mails.dpdk.org (mails.dpdk.org [217.70.189.124]) by inbox.dpdk.org (Postfix) with ESMTP id A2C87461C1 for ; Sat, 8 Feb 2025 02:14:57 +0100 (CET) Received: from mails.dpdk.org (localhost [127.0.0.1]) by mails.dpdk.org (Postfix) with ESMTP id 9E22040280; Sat, 8 Feb 2025 02:14:57 +0100 (CET) Received: from mail-il1-f225.google.com (mail-il1-f225.google.com [209.85.166.225]) by mails.dpdk.org (Postfix) with ESMTP id 9C80C40270 for ; Sat, 8 Feb 2025 02:14:55 +0100 (CET) Received: by mail-il1-f225.google.com with SMTP id e9e14a558f8ab-3d14f752bcaso1110175ab.3 for ; Fri, 07 Feb 2025 17:14:55 -0800 (PST) DKIM-Signature: v=1; a=rsa-sha256; c=relaxed/relaxed; d=iol.unh.edu; s=unh-iol; t=1738977295; x=1739582095; darn=dpdk.org; h=references:in-reply-to:cc:to:from:subject:message-id:date:from:to :cc:subject:date:message-id:reply-to; bh=0HTwhXWkVuiIBBjAMFnR6eRlUY7iy6bPRgxtym+N2G0=; b=QLJa7D+OKQBgwAY7I/WYB7+EuwI5lgeCFY+pv47eEOx3zarzZyxoZG5krrckdCwwqm n6/bunNskHQ+YUUyLGfO56BdYDA1cjlHyP/ODDR2SqcgEV4iHw9ETkI3q9uGH+mWLx21 E3+jOYJ0VZJGoazPY/YiPtAoN32yp9K8bIK2k= X-Google-DKIM-Signature: v=1; a=rsa-sha256; c=relaxed/relaxed; d=1e100.net; s=20230601; t=1738977295; x=1739582095; h=references:in-reply-to:cc:to:from:subject:message-id:date :x-gm-message-state:from:to:cc:subject:date:message-id:reply-to; bh=0HTwhXWkVuiIBBjAMFnR6eRlUY7iy6bPRgxtym+N2G0=; b=HtK6VeH4EVSLHtu9qHVKYjng2M9UJXqXi99vGHYqCcwKP4P3ABypFUxqerFzlW6bLi X9V67+e0ZKSFC7pUns2JfTl9gmNK5L04hG6gZ2GEon+MW35q/iiNvTL7pEuasEmohjdL 3t9F45+qO2M8u+zdkWUQa93Ku9qx2CZPlfC2YnzlEcP0uAXVSIe1rQyPZn/H+93BUTyZ /7NsNqnKOoREOYJ31mb3ORrlhmv80Sfnxi6zWfN79GjmxxghzSPXC0+gBMSYqt9h4t37 l+F83GXGpltCYxGwx2hotduMYwtbI86siZ8ZpepJgg7fPPXrPtx8XNrj1Rxm8K9LFdD/ bmCQ== X-Gm-Message-State: AOJu0Yw1H19aYYUyn/xuFqzZlXxQC3nvgYSe2VypbcLHhf5xbruvDkNJ oaSy/L+LqzPUqtKNy+mmWfUGaZrq+RZ0COa4WSZelMhMFqLg1S25r6PFxrbt0dKl1/TkXvS26Cp cKuNq8+DvzPzlg7MIxSCy2naFrMmWXS/c3b3Y7Ia0 X-Gm-Gg: ASbGnculbrn1ZzPoAi2snGPRb4kj14uoLKbIEEjT1kM3qJrU2AE38Izldpc5GluYNH7 WF29h5/DhtAjB6GvnzNTJobjZ9qhrAb2dqdA3YLZ8nSX36Ie8aQkKzVDRf4GNRZKJzTllT1kYhM F8cAUOPLK2gbT6wTpOVrOfrYv7cdijwPa2wu+mnlFzFR1iEvxZGb8rjNHBCoA9OYytZLkMyDpIP R/2Jtx7ZyP1IDBSVNPBGlskRZIlIuAcuoZ2vE5XKyy8i3XrXdTzjaV7mpObOlhll7f7xLG+tiub 2thHcUdMTAo0chfKk6OFuuLh9GzaGg== X-Google-Smtp-Source: AGHT+IHAuzlwDPAZYaDSGePK9a/5e9EM6ScAqh06zr32mQqX5XWi9+rpygBsMqvbDZdK9xIKpTs+wUHd5cN/ X-Received: by 2002:a05:6e02:1fe2:b0:3d0:239a:c46f with SMTP id e9e14a558f8ab-3d13dd64caamr43242315ab.12.1738977294949; Fri, 07 Feb 2025 17:14:54 -0800 (PST) Received: from postal.iol.unh.edu (postal.iol.unh.edu. [132.177.123.84]) by smtp-relay.gmail.com with ESMTPS id e9e14a558f8ab-3d05ea20977sm3086595ab.63.2025.02.07.17.14.54 (version=TLS1_2 cipher=ECDHE-ECDSA-AES128-GCM-SHA256 bits=128/128); Fri, 07 Feb 2025 17:14:54 -0800 (PST) X-Relaying-Domain: iol.unh.edu Date: Fri, 07 Feb 2025 17:14:54 -0800 (PST) Message-ID: <67a6b00e.050a0220.12e9c5.07b2SMTPIN_ADDED_MISSING@mx.google.com> Received: from [172.21.0.5] (unknown [172.18.0.240]) by postal.iol.unh.edu (Postfix) with ESMTP id 5D98E6052471; Fri, 7 Feb 2025 20:14:24 -0500 (EST) Subject: |WARNING| pw151128 [PATCH] examples/ipsec-secgw: fix iv len in ctr 1 From: dpdklab@iol.unh.edu To: Test Report Cc: dpdk-test-reports@iol.unh.edu In-Reply-To: <20250207134545.63820-1-nkaithakadan@marvell.com> References: <20250207134545.63820-1-nkaithakadan@marvell.com> Content-Type: text/plain X-BeenThere: test-report@dpdk.org X-Mailman-Version: 2.1.29 Precedence: list List-Id: automatic DPDK test reports List-Unsubscribe: , List-Archive: List-Post: List-Help: List-Subscribe: , Errors-To: test-report-bounces@dpdk.org Test-Label: iol-unit-arm64-testing Test-Status: WARNING http://dpdk.org/patch/151128 _Testing issues_ Submitter: Nithinsen Kaithakadan Date: Friday, February 07 2025 13:45:43 DPDK git baseline: Repo:dpdk Branch: master CommitID:388b1abe291544106e406cb0a200b5b0c96fe599 151128 --> testing issues Upstream job id: Generic-Unit-Test-DPDK#312899 Test environment and result as below: +-----------------------------+----------------+--------------+------------------------------+---------------------------+ | Environment | dpdk_unit_test | lpm_autotest | cryptodev_sw_snow3g_autotest | cryptodev_sw_zuc_autotest | +=============================+================+==============+==============================+===========================+ | 32-bit Ubuntu 22.04.4 (ARM) | PASS | SKIPPED | SKIPPED | SKIPPED | +-----------------------------+----------------+--------------+------------------------------+---------------------------+ | Debian 11 (Buster) (ARM) | PASS | SKIPPED | SKIPPED | SKIPPED | +-----------------------------+----------------+--------------+------------------------------+---------------------------+ | Debian 12 (arm) | PASS | SKIPPED | WARN | PEND | +-----------------------------+----------------+--------------+------------------------------+---------------------------+ | CentOS Stream 9 (ARM) | PASS | SKIPPED | SKIPPED | SKIPPED | +-----------------------------+----------------+--------------+------------------------------+---------------------------+ | Fedora 41 (ARM Clang) | PASS | SKIPPED | SKIPPED | SKIPPED | +-----------------------------+----------------+--------------+------------------------------+---------------------------+ | Fedora 40 (ARM Clang) | PASS | SKIPPED | SKIPPED | SKIPPED | +-----------------------------+----------------+--------------+------------------------------+---------------------------+ | Fedora 40 (ARM) | PASS | SKIPPED | SKIPPED | SKIPPED | +-----------------------------+----------------+--------------+------------------------------+---------------------------+ | RHEL9 (ARM) | PASS | SKIPPED | SKIPPED | SKIPPED | +-----------------------------+----------------+--------------+------------------------------+---------------------------+ | Fedora 41 (ARM) | PASS | SKIPPED | SKIPPED | SKIPPED | +-----------------------------+----------------+--------------+------------------------------+---------------------------+ | Ubuntu 22.04 (ARM) | PASS | SKIPPED | SKIPPED | SKIPPED | +-----------------------------+----------------+--------------+------------------------------+---------------------------+ | Ubuntu 20.04 (ARM) | PASS | SKIPPED | SKIPPED | SKIPPED | +-----------------------------+----------------+--------------+------------------------------+---------------------------+ | Ubuntu 24.04 (ARM) | PEND | SKIPPED | SKIPPED | SKIPPED | +-----------------------------+----------------+--------------+------------------------------+---------------------------+ | Ubuntu 20.04 ARM SVE | SKIPPED | PASS | SKIPPED | SKIPPED | +-----------------------------+----------------+--------------+------------------------------+---------------------------+ ==== 20 line log output for Debian 12 (arm) (cryptodev_sw_snow3g_autotest): ==== --- Failed to get log output --- ==== End log output ==== 32-bit Ubuntu 22.04.4 (ARM) Kernel: 5.15.83+ aarch64 Compiler: gcc (Ubuntu 11.4.0-1ubuntu1~22.04) 11.4.0 Debian 11 (Buster) (ARM) Kernel: Depends on container host Compiler: gcc (Debian 10.2.1-6) 10.2.1 20210110 Debian 12 (arm) Kernel: Depends on container host Compiler: gcc (Debian 12.2.0-14) 12.2.0 CentOS Stream 9 (ARM) Kernel: Depends on container host Compiler: gcc 11.5.0 20240719 (Red Hat 11.5.0-2) Fedora 41 (ARM Clang) Kernel: Depends on container host Compiler: clang 19.1.5 (Fedora 19.1.5-1.fc41) Fedora 40 (ARM Clang) Kernel: Depends on container host Compiler: clang 18.1.8 (Fedora 18.1.8-1.fc40) Fedora 40 (ARM) Kernel: Depends on container host Compiler: gcc 14.2.1 20240912 (Red Hat 14.2.1-3) RHEL9 (ARM) Kernel: Depends on container host Compiler: gcc 11.5.0 20240719 (Red Hat 11.5.0-2) Fedora 41 (ARM) Kernel: Depends on container host Compiler: gcc 14.2.1 20240912 (Red Hat 14.2.1-3) Ubuntu 22.04 (ARM) Kernel: Depends on container host Compiler: gcc (Ubuntu 11.4.0-1ubuntu1~22.04) 11.4.0 Ubuntu 20.04 (ARM) Kernel: Depends on container host Compiler: gcc (Ubuntu 9.4.0-1ubuntu1~20.04.2) 9.4.0 Ubuntu 24.04 (ARM) Kernel: Depends on container host Compiler: gcc (Ubuntu 13.3.0-6ubuntu2~24.04) 13.3.0 Ubuntu 20.04 ARM SVE Kernel: Depends on container host Compiler: gcc (Ubuntu 10.5.0-1ubuntu1~20.04) 10.5.0 To view detailed results, visit: https://lab.dpdk.org/results/dashboard/patchsets/32524/ UNH-IOL DPDK Community Lab To manage your email subscriptions, visit: https://lab.dpdk.org/results/dashboard/preferences/subscriptions/