From mboxrd@z Thu Jan 1 00:00:00 1970 Return-Path: Received: from mails.dpdk.org (mails.dpdk.org [217.70.189.124]) by inbox.dpdk.org (Postfix) with ESMTP id BA70F461C1 for ; Sat, 8 Feb 2025 03:00:42 +0100 (CET) Received: from mails.dpdk.org (localhost [127.0.0.1]) by mails.dpdk.org (Postfix) with ESMTP id 9B315402D7; Sat, 8 Feb 2025 03:00:42 +0100 (CET) Received: from mail-io1-f99.google.com (mail-io1-f99.google.com [209.85.166.99]) by mails.dpdk.org (Postfix) with ESMTP id 0538140280 for ; Sat, 8 Feb 2025 03:00:41 +0100 (CET) Received: by mail-io1-f99.google.com with SMTP id ca18e2360f4ac-844e7bc6d84so84785639f.0 for ; Fri, 07 Feb 2025 18:00:40 -0800 (PST) DKIM-Signature: v=1; a=rsa-sha256; c=relaxed/relaxed; d=iol.unh.edu; s=unh-iol; t=1738980040; x=1739584840; darn=dpdk.org; h=references:in-reply-to:cc:to:from:subject:message-id:date:from:to :cc:subject:date:message-id:reply-to; bh=tN6wig/0ao812IowTlGl6dKlIikUg+NBmTvdAPmQslo=; b=jnLIxHSbjG5mUAhQAYSV0giegPZxUE7ruVl88jlhADNKkFT1yMrnPned/VrSBYtGvK n8eUKjLJkbJEjUN4AHl9VZekFMU+kMFXWh18a2A2xNoRDtNrpIIYFcDFxcdekW7N1SjT eI65K143LwoPwu6/bELNsh6xZWml6VFG9hGyE= X-Google-DKIM-Signature: v=1; a=rsa-sha256; c=relaxed/relaxed; d=1e100.net; s=20230601; t=1738980040; x=1739584840; h=references:in-reply-to:cc:to:from:subject:message-id:date :x-gm-message-state:from:to:cc:subject:date:message-id:reply-to; bh=tN6wig/0ao812IowTlGl6dKlIikUg+NBmTvdAPmQslo=; b=tPsC5mH4C5TWXXzWOFnEsVsAhshDxRQMq0FietnBRba6CxKesYTrs7dBG1vjJYutWs yIb/3QoeJD/kcACf1CZMf9IkcObPzs18SYajvVugW3f7zUFZhvrxNGpf7YXNukmqNSwg 48GHtfKzaZTBBfBb9zeZfbDumHu6Zxjmz+73uuaEPGpUvxuqsi54For3XQsSBiBCFREp QE6z1sEVLdxpy7gQhlwRcqvVNLeXhJuqC0OHwg/OKqhvaVJdPzdzyoMdUnz7fnevi2qt Slf0d6gNMq4VGk9pGF/SCAQDt6rtHJPBHwKKtAawdhJ1d3stuDFYN+KUAaBOUpt/G11I B3xg== X-Gm-Message-State: AOJu0Yw3QnoP8u8hvrnU+7pMRdsHKmHIyqBb6cHXD8sNWivoCFHyDokA A24O7dM40S6qclyIvrh7kWkRW0ocrL5snDTGTYYYHe7ps5aLIKJeCJLMIqLJgAmKHaT9Wc06yc1 WDqh0sdsjKh4sQEi32GXib1ur/hha7GaueEnEH0tc X-Gm-Gg: ASbGncv/FxI0pBbvCa6rvRfGOzoDKiF3u5NIsy8821eZxc0KcReYd/F2aUvhe1kDLMN S9zuqSxWxG8A+c6hG5VIbX5KpWU35tcSfzt8dDw/JlZZxt8bQMXV3LZvLhrnUiiR/XVaS/Kno9A tTzwlCUGwUQmKeytyij0WN2rQCdEZYGutz69+ptmwt9T1Fx76XDLIRgSqSkHtnYoJVo6E6VQhXJ FJuSBpeYm1YuaXSunUxuezWForgUXZ/82c8TWYVqRlG6X3xcVedPwskIu6KWcHJucXbcN5Y12ny f1BPrJm8G550Mj+8TPF3B5jhLW2Z4Q== X-Google-Smtp-Source: AGHT+IHGNoeLmr1QEO9gVyxFYJpJXioJqZUN2ZzvJzTnjNQjw3Ki+sHGZb12eud2b0AHJI7ibvPPovLGTfzh X-Received: by 2002:a6b:440d:0:b0:844:2ef3:a95a with SMTP id ca18e2360f4ac-854f3a6a163mr751581039f.7.1738980040194; Fri, 07 Feb 2025 18:00:40 -0800 (PST) Received: from postal.iol.unh.edu (postal.iol.unh.edu. [132.177.123.84]) by smtp-relay.gmail.com with ESMTPS id 8926c6da1cb9f-4eccf9f5b05sm298788173.40.2025.02.07.18.00.40 (version=TLS1_2 cipher=ECDHE-ECDSA-AES128-GCM-SHA256 bits=128/128); Fri, 07 Feb 2025 18:00:40 -0800 (PST) X-Relaying-Domain: iol.unh.edu Date: Fri, 07 Feb 2025 18:00:40 -0800 (PST) Message-ID: <67a6bac8.050a0220.1b099.017aSMTPIN_ADDED_MISSING@mx.google.com> Received: from [172.21.0.7] (unknown [172.18.0.240]) by postal.iol.unh.edu (Postfix) with ESMTP id ACC356052472; Fri, 7 Feb 2025 21:00:39 -0500 (EST) Subject: |SUCCESS| pw151134 [PATCH] [v6] eal: define __SIZEOF_LONG__ when usi From: dpdklab@iol.unh.edu To: Test Report Cc: dpdk-test-reports@iol.unh.edu In-Reply-To: <1738940668-21653-1-git-send-email-andremue@linux.microsoft.com> References: <1738940668-21653-1-git-send-email-andremue@linux.microsoft.com> Content-Type: text/plain X-BeenThere: test-report@dpdk.org X-Mailman-Version: 2.1.29 Precedence: list List-Id: automatic DPDK test reports List-Unsubscribe: , List-Archive: List-Post: List-Help: List-Subscribe: , Errors-To: test-report-bounces@dpdk.org Test-Label: iol-unit-amd64-testing Test-Status: SUCCESS http://dpdk.org/patch/151134 _Testing PASS_ Submitter: Andre Muezerie Date: Friday, February 07 2025 15:04:28 DPDK git baseline: Repo:dpdk Branch: master CommitID:388b1abe291544106e406cb0a200b5b0c96fe599 151134 --> testing pass Upstream job id: Generic-Unit-Test-DPDK#312983 Test environment and result as below: +---------------------+----------------+ | Environment | dpdk_unit_test | +=====================+================+ | CentOS Stream 9 | PASS | +---------------------+----------------+ | Fedora 40 | PASS | +---------------------+----------------+ | Debian Bullseye | PASS | +---------------------+----------------+ | Debian 12 | PASS | +---------------------+----------------+ | Fedora 41 | PASS | +---------------------+----------------+ | Fedora 40 (Clang) | PASS | +---------------------+----------------+ | Ubuntu 20.04 | PASS | +---------------------+----------------+ | RHEL9 | PASS | +---------------------+----------------+ | RHEL8 | PASS | +---------------------+----------------+ | Ubuntu 22.04 | PASS | +---------------------+----------------+ | Fedora 41 (Clang) | PASS | +---------------------+----------------+ | Ubuntu 24.04 | PASS | +---------------------+----------------+ | Windows Server 2022 | PASS | +---------------------+----------------+ CentOS Stream 9 Kernel: Depends on container host Compiler: gcc 11.5.0 20240719 (Red Hat 11.5.0-2) Fedora 40 Kernel: Depends on container host Compiler: gcc 14.2.1 20240912 (Red Hat 14.2.1-3) Debian Bullseye Kernel: Depends on container host Compiler: gcc (Debian 10.2.1-6) 10.2.1 20210110 Debian 12 Kernel: Depends on container host Compiler: gcc (Debian 12.2.0-14) 12.2.0 Fedora 41 Kernel: Depends on container host Compiler: gcc 14.2.1 20240912 (Red Hat 14.2.1-3) Fedora 40 (Clang) Kernel: Depends on container host Compiler: clang 18.1.8 (Fedora 18.1.8-1.fc40) Ubuntu 20.04 Kernel: Depends on container host Compiler: gcc (Ubuntu 9.4.0-1ubuntu1~20.04.2) 9.4.0 RHEL9 Kernel: Depends on container host Compiler: gcc 11.5.0 20240719 (Red Hat 11.5.0-2) RHEL8 Kernel: Depends on container host Compiler: gcc 8.5.0 20210514 (Red Hat 8.5.0-22) Ubuntu 22.04 Kernel: Depends on container host Compiler: gcc (Ubuntu 11.4.0-1ubuntu1~22.04) 11.4.0 Fedora 41 (Clang) Kernel: Depends on container host Compiler: clang 19.1.5 (Fedora 19.1.5-1.fc41) Ubuntu 24.04 Kernel: Depends on container host Compiler: gcc (Ubuntu 13.3.0-6ubuntu2~24.04) 13.3.0 Windows Server 2022 Kernel: 10.0.20348.2031 Compiler: clang 15.0.7, gcc 14.1.0 (MinGW), and MSVC VS 19.39.33521 To view detailed results, visit: https://lab.dpdk.org/results/dashboard/patchsets/32528/ UNH-IOL DPDK Community Lab To manage your email subscriptions, visit: https://lab.dpdk.org/results/dashboard/preferences/subscriptions/