From mboxrd@z Thu Jan 1 00:00:00 1970 Return-Path: Received: from mails.dpdk.org (mails.dpdk.org [217.70.189.124]) by inbox.dpdk.org (Postfix) with ESMTP id 90601461C1 for ; Sat, 8 Feb 2025 03:00:42 +0100 (CET) Received: from mails.dpdk.org (localhost [127.0.0.1]) by mails.dpdk.org (Postfix) with ESMTP id 8C68A40280; Sat, 8 Feb 2025 03:00:42 +0100 (CET) Received: from mail-io1-f100.google.com (mail-io1-f100.google.com [209.85.166.100]) by mails.dpdk.org (Postfix) with ESMTP id F0FD540270 for ; Sat, 8 Feb 2025 03:00:40 +0100 (CET) Received: by mail-io1-f100.google.com with SMTP id ca18e2360f4ac-844e10ef3cfso207406439f.2 for ; Fri, 07 Feb 2025 18:00:40 -0800 (PST) DKIM-Signature: v=1; a=rsa-sha256; c=relaxed/relaxed; d=iol.unh.edu; s=unh-iol; t=1738980040; x=1739584840; darn=dpdk.org; h=references:in-reply-to:cc:to:from:subject:message-id:date:from:to :cc:subject:date:message-id:reply-to; bh=pOcYTu5gD8Ts+wxtaQ/S87wpuI3Z1To1eiWeuUKwIx0=; b=fdK+HGAXfrOtjcmHKUDRPUzPfms74ukYXbpSEv6kgFj2i+jAEvjefOTPfJl/jqrFJ1 s+ZKqouXKSuYy+kdJujGC0n4gkpapHqL8ObXlAS2/Ds9yXRMvZ4IZh0itIKiaeLeEEcN 9KaBY3FrDjKS5DxmeCcp+v0AJx9JWU6Qc41JA= X-Google-DKIM-Signature: v=1; a=rsa-sha256; c=relaxed/relaxed; d=1e100.net; s=20230601; t=1738980040; x=1739584840; h=references:in-reply-to:cc:to:from:subject:message-id:date :x-gm-message-state:from:to:cc:subject:date:message-id:reply-to; bh=pOcYTu5gD8Ts+wxtaQ/S87wpuI3Z1To1eiWeuUKwIx0=; b=pPlHErg/iog5SRHGdiHCsqluAw7/w513MbEcLsZ1V3e78+AaO2Wi/Na0aMKPIQDN6F kM1MWOUEXaOcjhYoqfstwR+uyaEtMEE9Rt1XNWC8oMTYWOENI5Uh2u33qX/60EG0zNcy GOb3aWkvYcMqidTD5hjQCovCmjWu0DoB4pHzjy03zZIwdMS9NiorjNHswq/TQaDGZ4bl 4+nrCMweM6U68eWZeg86Qd29U42w/LA2yeXnszJvkQFu4URIbEqkMQsyxh+CqfRcr8FO BkrEIR+IS3RGoBwZeEg2wt74ujnlPSFxsMIRQwexzlbHeX2IjtBsAOauvavpA2yK7l9f kCUA== X-Gm-Message-State: AOJu0YyQj4zchDHr4fYihi6WHpKD3C6ASmp6MYtZjhBhM2tI+MOeUsxA koLiwbkrA6iLLgB4pOkyc9hFcXu5BeoGvTewoxPUJpJBCbwJIJDIu+g9VuqIcer9/+MqHlAcIc1 NO/+w9SGVszywNtc3VkZFUGXyrDxKpQ0Vm1ECka9x X-Gm-Gg: ASbGncsljqRoSL/5bObWYXcydkkt2lfDe74SvDW+q5Oko6zMu7MkPyCITQFX9PT8Ca2 r47NyRhKPcIUbrBIAHD3tdin0uBNrb+TzBpG0t4ldtRoyhZhy4LbUfTpD300C5V6uXZmO0c5FHA aYgzeZ/CpOvh9DSJQztoOIjnG6EtEGkLBbXWbOVSMNhCbg312rikFWOT1WZh2j12/SXSbg0drEA fw5H/Lx0L51Mx9p8jMuuX/QzlHWylZRIqZk1cTIRRZEbPj9iuyJkH0ES6hATTD7SOV+fdFK2X/G SxcQYFs3UDzNxO8vIr0CF2NJEHt38Q== X-Google-Smtp-Source: AGHT+IHeaIzWomu3jOv1dMNePieTkKAokoBV9libtktqJ4ArZgMUfFwaW0j1Eo3Uo+sPJkVNinD0djVyjeQo X-Received: by 2002:a05:6602:7289:b0:84a:5133:9cdd with SMTP id ca18e2360f4ac-854fd8f81e4mr600036839f.11.1738980040133; Fri, 07 Feb 2025 18:00:40 -0800 (PST) Received: from postal.iol.unh.edu (postal.iol.unh.edu. [132.177.123.84]) by smtp-relay.gmail.com with ESMTPS id 8926c6da1cb9f-4eccf9d58d7sm302558173.28.2025.02.07.18.00.40 (version=TLS1_2 cipher=ECDHE-ECDSA-AES128-GCM-SHA256 bits=128/128); Fri, 07 Feb 2025 18:00:40 -0800 (PST) X-Relaying-Domain: iol.unh.edu Date: Fri, 07 Feb 2025 18:00:40 -0800 (PST) Message-ID: <67a6bac8.050a0220.30834b.f502SMTPIN_ADDED_MISSING@mx.google.com> Received: from [172.21.0.5] (unknown [172.18.0.240]) by postal.iol.unh.edu (Postfix) with ESMTP id A39BF6052471; Fri, 7 Feb 2025 21:00:39 -0500 (EST) Subject: |SUCCESS| pw151134 [PATCH] [v6] eal: define __SIZEOF_LONG__ when usi From: dpdklab@iol.unh.edu To: Test Report Cc: dpdk-test-reports@iol.unh.edu In-Reply-To: <1738940668-21653-1-git-send-email-andremue@linux.microsoft.com> References: <1738940668-21653-1-git-send-email-andremue@linux.microsoft.com> Content-Type: text/plain X-BeenThere: test-report@dpdk.org X-Mailman-Version: 2.1.29 Precedence: list List-Id: automatic DPDK test reports List-Unsubscribe: , List-Archive: List-Post: List-Help: List-Subscribe: , Errors-To: test-report-bounces@dpdk.org Test-Label: iol-unit-amd64-testing Test-Status: SUCCESS http://dpdk.org/patch/151134 _Testing PASS_ Submitter: Andre Muezerie Date: Friday, February 07 2025 15:04:28 DPDK git baseline: Repo:dpdk Branch: master CommitID:388b1abe291544106e406cb0a200b5b0c96fe599 151134 --> testing pass Upstream job id: Generic-Unit-Test-DPDK#312974 Test environment and result as below: +---------------------+----------------+ | Environment | dpdk_unit_test | +=====================+================+ | CentOS Stream 9 | PASS | +---------------------+----------------+ | Fedora 40 | PASS | +---------------------+----------------+ | Debian Bullseye | PASS | +---------------------+----------------+ | Debian 12 | PASS | +---------------------+----------------+ | Fedora 41 | PASS | +---------------------+----------------+ | Fedora 40 (Clang) | PASS | +---------------------+----------------+ | Ubuntu 20.04 | PASS | +---------------------+----------------+ | RHEL9 | PASS | +---------------------+----------------+ | RHEL8 | PASS | +---------------------+----------------+ | Ubuntu 22.04 | PASS | +---------------------+----------------+ | Fedora 41 (Clang) | PASS | +---------------------+----------------+ | Ubuntu 24.04 | PASS | +---------------------+----------------+ | Windows Server 2022 | PASS | +---------------------+----------------+ CentOS Stream 9 Kernel: Depends on container host Compiler: gcc 11.5.0 20240719 (Red Hat 11.5.0-2) Fedora 40 Kernel: Depends on container host Compiler: gcc 14.2.1 20240912 (Red Hat 14.2.1-3) Debian Bullseye Kernel: Depends on container host Compiler: gcc (Debian 10.2.1-6) 10.2.1 20210110 Debian 12 Kernel: Depends on container host Compiler: gcc (Debian 12.2.0-14) 12.2.0 Fedora 41 Kernel: Depends on container host Compiler: gcc 14.2.1 20240912 (Red Hat 14.2.1-3) Fedora 40 (Clang) Kernel: Depends on container host Compiler: clang 18.1.8 (Fedora 18.1.8-1.fc40) Ubuntu 20.04 Kernel: Depends on container host Compiler: gcc (Ubuntu 9.4.0-1ubuntu1~20.04.2) 9.4.0 RHEL9 Kernel: Depends on container host Compiler: gcc 11.5.0 20240719 (Red Hat 11.5.0-2) RHEL8 Kernel: Depends on container host Compiler: gcc 8.5.0 20210514 (Red Hat 8.5.0-22) Ubuntu 22.04 Kernel: Depends on container host Compiler: gcc (Ubuntu 11.4.0-1ubuntu1~22.04) 11.4.0 Fedora 41 (Clang) Kernel: Depends on container host Compiler: clang 19.1.5 (Fedora 19.1.5-1.fc41) Ubuntu 24.04 Kernel: Depends on container host Compiler: gcc (Ubuntu 13.3.0-6ubuntu2~24.04) 13.3.0 Windows Server 2022 Kernel: 10.0.20348.2031 Compiler: clang 15.0.7, gcc 14.1.0 (MinGW), and MSVC VS 19.39.33521 To view detailed results, visit: https://lab.dpdk.org/results/dashboard/patchsets/32528/ UNH-IOL DPDK Community Lab To manage your email subscriptions, visit: https://lab.dpdk.org/results/dashboard/preferences/subscriptions/