From mboxrd@z Thu Jan 1 00:00:00 1970 Return-Path: Received: from mails.dpdk.org (mails.dpdk.org [217.70.189.124]) by inbox.dpdk.org (Postfix) with ESMTP id E4BF6461C1 for ; Sat, 8 Feb 2025 03:02:03 +0100 (CET) Received: from mails.dpdk.org (localhost [127.0.0.1]) by mails.dpdk.org (Postfix) with ESMTP id DDE1640280; Sat, 8 Feb 2025 03:02:03 +0100 (CET) Received: from mail-pl1-f225.google.com (mail-pl1-f225.google.com [209.85.214.225]) by mails.dpdk.org (Postfix) with ESMTP id 04F8940270 for ; Sat, 8 Feb 2025 03:02:02 +0100 (CET) Received: by mail-pl1-f225.google.com with SMTP id d9443c01a7336-21f4a4fbb35so30313045ad.0 for ; Fri, 07 Feb 2025 18:02:01 -0800 (PST) DKIM-Signature: v=1; a=rsa-sha256; c=relaxed/relaxed; d=iol.unh.edu; s=unh-iol; t=1738980121; x=1739584921; darn=dpdk.org; h=references:in-reply-to:cc:to:from:subject:message-id:date:from:to :cc:subject:date:message-id:reply-to; bh=joj2kCUxEdB9CC8GDZ1+q7sMN76DcZVTMkADWU/KwsI=; b=VzyMqNy06nwUImzHc0146DkWuG1PpAY0kOYSuoh4uGP9pjals9b9Zmwi+F3BVerB0x 7xsiIVfvVVA5vEWmvHHhAXc9K/CpOnvgEVBxfKlxiYo0WLZEmf1Za4UOfWgxziowUihq MO8ixbVvi65YYjYOPylFn4BXJGXH0WOM5tVbc= X-Google-DKIM-Signature: v=1; a=rsa-sha256; c=relaxed/relaxed; d=1e100.net; s=20230601; t=1738980121; x=1739584921; h=references:in-reply-to:cc:to:from:subject:message-id:date :x-gm-message-state:from:to:cc:subject:date:message-id:reply-to; bh=joj2kCUxEdB9CC8GDZ1+q7sMN76DcZVTMkADWU/KwsI=; b=j+/kZacnMwdLIJFQVgXT2L1Yc4EJXq+rhx3khty71Z0x4pfLWqQ+5vyD4x/4729aRh rCm1h4+PbAK14XyFyvKNGoaBA8vLgTWKY8zmojMsXSfBcQcpDDQozwWboIGu3NSaQTpp eRx057WJ7GtLc9v3kH9KLejTsBuJYgTFMeoF5LM/MyqTLLCkMbJedBT5yldgWrgfzeyv +Hqb9zd31Wu1MuEOCR4kc+7nod5LAE9GDqgNfF52XzlMY2Vn+/TP2FRi4oYNUy85M48p sW5Ov/A29u1C/b+amUmLFRMWrNaCC7/vnB2/Tz1qYczoH2FuKbTcYb4b8eKdGc73nsus Xatw== X-Gm-Message-State: AOJu0Yz6KkgaBbUMbMXQawlVJqanz6fG/lqXK7NWoz0JUh+tStlrnoXc 8/Q23epMQP8Br8Ln0YNEqatOlxbh3+rydey37tkE4mQtoP499Xn4xjrpa7VgYyrftgyWUs3STnA eaSYn+eR24dJUiIgQ6nYm6k6xwlRjlVmSbBEse9aw X-Gm-Gg: ASbGncvNmJU3/uCCOroTWkC4b0kqmVYQQdPmGtguja2Y0UH5GudCFUaSY10OMFZMHD6 MFTe9/JkhKQRjDDJlSikPH/L7owrWZqUFySdUA21SwcVRAkatnWSVeoXSM9fzqypDy5fYQogGj1 v9HVCUoaAaIsb25JucoqsexfphZNECoAj/P+nRBgacKtJYM4uVHk8xNpsr5tDdQ8tz8vsEJUBs2 mwP/9QTQTAkiGxsl2aaN11tOTkgxuHxpJFK7mJn2U2eNgQiWjAvm90/INZIZ4CTy/0cc9MbW6ig Fr5QdN6s1CQST2V5jDtV+NrM56i8iQ== X-Google-Smtp-Source: AGHT+IH3Gk9zZMqNayajufMF/BvksTOVKszF2PGVtVyuBbV3OQdEpcFV869pgkRrTdqs3S74msTAz6XydqHA X-Received: by 2002:a17:902:e885:b0:21f:5063:d3ca with SMTP id d9443c01a7336-21f5063d70cmr80478985ad.16.1738980121124; Fri, 07 Feb 2025 18:02:01 -0800 (PST) Received: from postal.iol.unh.edu (postal.iol.unh.edu. [132.177.123.84]) by smtp-relay.gmail.com with ESMTPS id 98e67ed59e1d1-2fa09a36fddsm329622a91.6.2025.02.07.18.02.01 (version=TLS1_2 cipher=ECDHE-ECDSA-AES128-GCM-SHA256 bits=128/128); Fri, 07 Feb 2025 18:02:01 -0800 (PST) X-Relaying-Domain: iol.unh.edu Date: Fri, 07 Feb 2025 18:02:01 -0800 (PST) Message-ID: <67a6bb19.170a0220.209688.1074SMTPIN_ADDED_MISSING@mx.google.com> Received: from [172.21.0.6] (unknown [172.18.0.240]) by postal.iol.unh.edu (Postfix) with ESMTP id 3A16B6052471; Fri, 7 Feb 2025 21:02:00 -0500 (EST) Subject: |WARNING| pw151128 [PATCH] examples/ipsec-secgw: fix iv len in ctr 1 From: dpdklab@iol.unh.edu To: Test Report Cc: dpdk-test-reports@iol.unh.edu In-Reply-To: <20250207134545.63820-1-nkaithakadan@marvell.com> References: <20250207134545.63820-1-nkaithakadan@marvell.com> Content-Type: text/plain X-BeenThere: test-report@dpdk.org X-Mailman-Version: 2.1.29 Precedence: list List-Id: automatic DPDK test reports List-Unsubscribe: , List-Archive: List-Post: List-Help: List-Subscribe: , Errors-To: test-report-bounces@dpdk.org Test-Label: iol-unit-arm64-testing Test-Status: WARNING http://dpdk.org/patch/151128 _Testing issues_ Submitter: Nithinsen Kaithakadan Date: Friday, February 07 2025 13:45:43 DPDK git baseline: Repo:dpdk Branch: master CommitID:388b1abe291544106e406cb0a200b5b0c96fe599 151128 --> testing issues Upstream job id: Generic-Unit-Test-DPDK#312903 Test environment and result as below: +-----------------------------+----------------+--------------+------------------------------+---------------------------+ | Environment | dpdk_unit_test | lpm_autotest | cryptodev_sw_snow3g_autotest | cryptodev_sw_zuc_autotest | +=============================+================+==============+==============================+===========================+ | 32-bit Ubuntu 22.04.4 (ARM) | PASS | SKIPPED | SKIPPED | SKIPPED | +-----------------------------+----------------+--------------+------------------------------+---------------------------+ | Debian 11 (Buster) (ARM) | PASS | SKIPPED | SKIPPED | SKIPPED | +-----------------------------+----------------+--------------+------------------------------+---------------------------+ | Debian 12 (arm) | PASS | SKIPPED | WARN | PASS | +-----------------------------+----------------+--------------+------------------------------+---------------------------+ | CentOS Stream 9 (ARM) | PASS | SKIPPED | SKIPPED | SKIPPED | +-----------------------------+----------------+--------------+------------------------------+---------------------------+ | Fedora 41 (ARM Clang) | PASS | SKIPPED | SKIPPED | SKIPPED | +-----------------------------+----------------+--------------+------------------------------+---------------------------+ | Fedora 40 (ARM Clang) | PASS | SKIPPED | SKIPPED | SKIPPED | +-----------------------------+----------------+--------------+------------------------------+---------------------------+ | Fedora 40 (ARM) | PASS | SKIPPED | SKIPPED | SKIPPED | +-----------------------------+----------------+--------------+------------------------------+---------------------------+ | RHEL9 (ARM) | PASS | SKIPPED | SKIPPED | SKIPPED | +-----------------------------+----------------+--------------+------------------------------+---------------------------+ | Fedora 41 (ARM) | PASS | SKIPPED | SKIPPED | SKIPPED | +-----------------------------+----------------+--------------+------------------------------+---------------------------+ | Ubuntu 22.04 (ARM) | PASS | SKIPPED | SKIPPED | SKIPPED | +-----------------------------+----------------+--------------+------------------------------+---------------------------+ | Ubuntu 20.04 (ARM) | PASS | SKIPPED | SKIPPED | SKIPPED | +-----------------------------+----------------+--------------+------------------------------+---------------------------+ | Ubuntu 24.04 (ARM) | PASS | SKIPPED | SKIPPED | SKIPPED | +-----------------------------+----------------+--------------+------------------------------+---------------------------+ | Ubuntu 20.04 ARM SVE | SKIPPED | PASS | SKIPPED | SKIPPED | +-----------------------------+----------------+--------------+------------------------------+---------------------------+ ==== 20 line log output for Debian 12 (arm) (cryptodev_sw_snow3g_autotest): ==== --- Failed to get log output --- ==== End log output ==== 32-bit Ubuntu 22.04.4 (ARM) Kernel: 5.15.83+ aarch64 Compiler: gcc (Ubuntu 11.4.0-1ubuntu1~22.04) 11.4.0 Debian 11 (Buster) (ARM) Kernel: Depends on container host Compiler: gcc (Debian 10.2.1-6) 10.2.1 20210110 Debian 12 (arm) Kernel: Depends on container host Compiler: gcc (Debian 12.2.0-14) 12.2.0 CentOS Stream 9 (ARM) Kernel: Depends on container host Compiler: gcc 11.5.0 20240719 (Red Hat 11.5.0-2) Fedora 41 (ARM Clang) Kernel: Depends on container host Compiler: clang 19.1.5 (Fedora 19.1.5-1.fc41) Fedora 40 (ARM Clang) Kernel: Depends on container host Compiler: clang 18.1.8 (Fedora 18.1.8-1.fc40) Fedora 40 (ARM) Kernel: Depends on container host Compiler: gcc 14.2.1 20240912 (Red Hat 14.2.1-3) RHEL9 (ARM) Kernel: Depends on container host Compiler: gcc 11.5.0 20240719 (Red Hat 11.5.0-2) Fedora 41 (ARM) Kernel: Depends on container host Compiler: gcc 14.2.1 20240912 (Red Hat 14.2.1-3) Ubuntu 22.04 (ARM) Kernel: Depends on container host Compiler: gcc (Ubuntu 11.4.0-1ubuntu1~22.04) 11.4.0 Ubuntu 20.04 (ARM) Kernel: Depends on container host Compiler: gcc (Ubuntu 9.4.0-1ubuntu1~20.04.2) 9.4.0 Ubuntu 24.04 (ARM) Kernel: Depends on container host Compiler: gcc (Ubuntu 13.3.0-6ubuntu2~24.04) 13.3.0 Ubuntu 20.04 ARM SVE Kernel: Depends on container host Compiler: gcc (Ubuntu 10.5.0-1ubuntu1~20.04) 10.5.0 To view detailed results, visit: https://lab.dpdk.org/results/dashboard/patchsets/32524/ UNH-IOL DPDK Community Lab To manage your email subscriptions, visit: https://lab.dpdk.org/results/dashboard/preferences/subscriptions/