From mboxrd@z Thu Jan 1 00:00:00 1970 Return-Path: Received: from mails.dpdk.org (mails.dpdk.org [217.70.189.124]) by inbox.dpdk.org (Postfix) with ESMTP id 11B4F461C1 for ; Sat, 8 Feb 2025 03:17:32 +0100 (CET) Received: from mails.dpdk.org (localhost [127.0.0.1]) by mails.dpdk.org (Postfix) with ESMTP id 0E3BD40280; Sat, 8 Feb 2025 03:17:32 +0100 (CET) Received: from mail-yb1-f227.google.com (mail-yb1-f227.google.com [209.85.219.227]) by mails.dpdk.org (Postfix) with ESMTP id 08E3740270 for ; Sat, 8 Feb 2025 03:17:27 +0100 (CET) Received: by mail-yb1-f227.google.com with SMTP id 3f1490d57ef6-e3983426f80so2118501276.1 for ; Fri, 07 Feb 2025 18:17:26 -0800 (PST) DKIM-Signature: v=1; a=rsa-sha256; c=relaxed/relaxed; d=iol.unh.edu; s=unh-iol; t=1738981046; x=1739585846; darn=dpdk.org; h=references:in-reply-to:cc:to:from:subject:message-id:date:from:to :cc:subject:date:message-id:reply-to; bh=fVJk23toMOgEf/PrS68oH6OmLlw9lTyrRet1NAUvLC8=; b=Hu+Mah/YPuimq4aMJ/+tITVnx30Y65G3Vdh4J9pZsf57g8pZANpAzbxvsp6IKKbkW1 PF2QTNEvJjp8iZQzO/aPY+qkpRnizC+Trug5gO5lyg0uCtVf5zjAb2dyha2qSmKuS/4U Wb4dScMVjO598mSTaB9hY5G4CFR04vaorz60Y= X-Google-DKIM-Signature: v=1; a=rsa-sha256; c=relaxed/relaxed; d=1e100.net; s=20230601; t=1738981046; x=1739585846; h=references:in-reply-to:cc:to:from:subject:message-id:date :x-gm-message-state:from:to:cc:subject:date:message-id:reply-to; bh=fVJk23toMOgEf/PrS68oH6OmLlw9lTyrRet1NAUvLC8=; b=tdMz/ttLgbOyY6AXE/dfMCpAHGmcOpg+gg1i6eEG7K9o4naG0sODpLME4/clo1+rUV u3Y8j79Pho9hwPQkXmaWtEHBJdnJM+AEX2ixUfoQL8791gKVhSitFhRo7XSPP1P6fLDl e/mXlDr6JH2zJOAprpCXmHNR7dmAhQQ175E9xHesr9Ih87KisxqOToHK8qrUZji6S04J Wi8tp8UjnDluHkPjYHsBJSWvG1ILwkS32Y0YpbM7PaYqxPhf4ULXCUqfJGNl87o2p+Z9 0b7i6FkJIsbPQoaqPwCXWsBys5G8Ng1mr3EC6D+BXuwrCa1Dq9McYtmujYTx4ePw2XOJ N95w== X-Gm-Message-State: AOJu0Yzrb0v4kY+T4km0yLB6YgulHjOO76Z2CgRVYyW019H9fKt6DpoR 1fN8IqknB8VpQFXJMQ5nzG1/9F+TUGjWuxd5SzH6wBNUVEV694wnWz3EFFhqjB2S7kuLnNZc0k4 zPD00oU9NX62N3/M+5pFYiqjMetS7lIGqvV4ka2EO X-Gm-Gg: ASbGncuNj+n53XmLiPiQfLpJ87cBZ7jlmRro4vyUNWGZTzrcE9DoVtUBSAT0gWjzpgR Z6psdnNEXUt0nHRWngay2hSQSZzYg0opZIqhRSZOmLIZrysPIyYDsmSCu/+0KjAfJEu4X70JhKk GiyVM5i5iN1gWTUttV1LdHOZGuRj/sm0KY82LPvuLw5tgnvIz2w+RqKtO1Gwe7vsTsrJxHecgIH NNzjDzMJpvkKmo6HpoPRljlpDxj/FF0qcIE/YdLTE8te88Im6lDlWqBitudU4F0XX7Rrd9zfqTM wAG/bUiLx3X8JV2fbS9d6qsm6TGNtg== X-Google-Smtp-Source: AGHT+IH37FClFjVsgWHpYBq8hp8IdB2PlT8sPLYzc0lH/ispDAQYv8y2lVkthR6rO0+7df5gAWID1OEW3uwh X-Received: by 2002:a05:6902:200e:b0:e5b:3f8e:9e65 with SMTP id 3f1490d57ef6-e5b4618b805mr5161895276.12.1738981046338; Fri, 07 Feb 2025 18:17:26 -0800 (PST) Received: from postal.iol.unh.edu (postal.iol.unh.edu. [132.177.123.84]) by smtp-relay.gmail.com with ESMTPS id 3f1490d57ef6-e5b3a433c03sm109562276.24.2025.02.07.18.17.26 (version=TLS1_2 cipher=ECDHE-ECDSA-AES128-GCM-SHA256 bits=128/128); Fri, 07 Feb 2025 18:17:26 -0800 (PST) X-Relaying-Domain: iol.unh.edu Date: Fri, 07 Feb 2025 18:17:26 -0800 (PST) Message-ID: <67a6beb6.050a0220.2acce9.4decSMTPIN_ADDED_MISSING@mx.google.com> Received: from [172.21.0.8] (unknown [172.18.0.240]) by postal.iol.unh.edu (Postfix) with ESMTP id EE5456052471; Fri, 7 Feb 2025 21:17:25 -0500 (EST) Subject: |SUCCESS| pw151128 [PATCH] examples/ipsec-secgw: fix iv len in ctr 1 From: dpdklab@iol.unh.edu To: Test Report Cc: dpdk-test-reports@iol.unh.edu In-Reply-To: <20250207134545.63820-1-nkaithakadan@marvell.com> References: <20250207134545.63820-1-nkaithakadan@marvell.com> Content-Type: text/plain X-BeenThere: test-report@dpdk.org X-Mailman-Version: 2.1.29 Precedence: list List-Id: automatic DPDK test reports List-Unsubscribe: , List-Archive: List-Post: List-Help: List-Subscribe: , Errors-To: test-report-bounces@dpdk.org Test-Label: iol-compile-arm64-testing Test-Status: SUCCESS http://dpdk.org/patch/151128 _Testing PASS_ Submitter: Nithinsen Kaithakadan Date: Friday, February 07 2025 13:45:43 DPDK git baseline: Repo:dpdk Branch: master CommitID:388b1abe291544106e406cb0a200b5b0c96fe599 151128 --> testing pass Upstream job id: Generic-DPDK-Compile-Meson#359240 Test environment and result as below: +----------------------------------------+--------------------+ | Environment | dpdk_meson_compile | +========================================+====================+ | RHEL9 (ARM) | PASS | +----------------------------------------+--------------------+ | Ubuntu 20.04 ARM GCC Cross Compile | PASS | +----------------------------------------+--------------------+ | Ubuntu 20.04 ARM SVE | PASS | +----------------------------------------+--------------------+ | Debian 12 with MUSDK | PASS | +----------------------------------------+--------------------+ | Fedora 40 (ARM) | PASS | +----------------------------------------+--------------------+ | Fedora 41 (ARM) | PASS | +----------------------------------------+--------------------+ | Fedora 41 (ARM Clang) | PASS | +----------------------------------------+--------------------+ | Ubuntu 20.04 (ARM) | PASS | +----------------------------------------+--------------------+ | Ubuntu 22.04 (ARM) | PASS | +----------------------------------------+--------------------+ | Ubuntu 24.04 (ARM) | PASS | +----------------------------------------+--------------------+ | CentOS Stream 9 (ARM) | PASS | +----------------------------------------+--------------------+ | Debian 11 (Buster) (ARM) | PASS | +----------------------------------------+--------------------+ | Debian 12 (arm) | PASS | +----------------------------------------+--------------------+ | Ubuntu 20.04 ARM Clang Cross Compile | PASS | +----------------------------------------+--------------------+ | Ubuntu 20.04 aarch32 GCC Cross Compile | PASS | +----------------------------------------+--------------------+ | Fedora 40 (ARM Clang) | PASS | +----------------------------------------+--------------------+ RHEL9 (ARM) Kernel: Depends on container host Compiler: gcc 11.5.0 20240719 (Red Hat 11.5.0-2) Ubuntu 20.04 ARM GCC Cross Compile Kernel: Depends on container host Compiler: aarch64-linux-gnu-gcc (Ubuntu 9.4.0-1ubuntu1~20.04.2) 9.4.0 Ubuntu 20.04 ARM SVE Kernel: Depends on container host Compiler: gcc (Ubuntu 10.5.0-1ubuntu1~20.04) 10.5.0 Debian 12 with MUSDK Kernel: Depends on container host Compiler: gcc (Debian 12.2.0-14) 12.2.0 Fedora 40 (ARM) Kernel: Depends on container host Compiler: gcc 14.2.1 20240912 (Red Hat 14.2.1-3) Fedora 41 (ARM) Kernel: Depends on container host Compiler: gcc 14.2.1 20240912 (Red Hat 14.2.1-3) Fedora 41 (ARM Clang) Kernel: Depends on container host Compiler: clang 19.1.5 (Fedora 19.1.5-1.fc41) Ubuntu 20.04 (ARM) Kernel: Depends on container host Compiler: gcc (Ubuntu 9.4.0-1ubuntu1~20.04.2) 9.4.0 Ubuntu 22.04 (ARM) Kernel: Depends on container host Compiler: gcc (Ubuntu 11.4.0-1ubuntu1~22.04) 11.4.0 Ubuntu 24.04 (ARM) Kernel: Depends on container host Compiler: gcc (Ubuntu 13.3.0-6ubuntu2~24.04) 13.3.0 CentOS Stream 9 (ARM) Kernel: Depends on container host Compiler: gcc 11.5.0 20240719 (Red Hat 11.5.0-2) Debian 11 (Buster) (ARM) Kernel: Depends on container host Compiler: gcc (Debian 10.2.1-6) 10.2.1 20210110 Debian 12 (arm) Kernel: Depends on container host Compiler: gcc (Debian 12.2.0-14) 12.2.0 Ubuntu 20.04 ARM Clang Cross Compile Kernel: Depends on container host Compiler: clang 10.0.0-4ubuntu1 Ubuntu 20.04 aarch32 GCC Cross Compile Kernel: Depends on container host Compiler: gcc 9.4.0 Fedora 40 (ARM Clang) Kernel: Depends on container host Compiler: clang 18.1.8 (Fedora 18.1.8-1.fc40) To view detailed results, visit: https://lab.dpdk.org/results/dashboard/patchsets/32524/ UNH-IOL DPDK Community Lab To manage your email subscriptions, visit: https://lab.dpdk.org/results/dashboard/preferences/subscriptions/