From mboxrd@z Thu Jan 1 00:00:00 1970 Return-Path: Received: from mails.dpdk.org (mails.dpdk.org [217.70.189.124]) by inbox.dpdk.org (Postfix) with ESMTP id 521F6461C1 for ; Sat, 8 Feb 2025 03:45:03 +0100 (CET) Received: from mails.dpdk.org (localhost [127.0.0.1]) by mails.dpdk.org (Postfix) with ESMTP id 37000406BB; Sat, 8 Feb 2025 03:45:01 +0100 (CET) Received: from mail-pl1-f226.google.com (mail-pl1-f226.google.com [209.85.214.226]) by mails.dpdk.org (Postfix) with ESMTP id CB8E140647 for ; Sat, 8 Feb 2025 03:44:54 +0100 (CET) Received: by mail-pl1-f226.google.com with SMTP id d9443c01a7336-21f48ebaadfso38903785ad.2 for ; Fri, 07 Feb 2025 18:44:54 -0800 (PST) DKIM-Signature: v=1; a=rsa-sha256; c=relaxed/relaxed; d=iol.unh.edu; s=unh-iol; t=1738982694; x=1739587494; darn=dpdk.org; h=references:in-reply-to:cc:to:from:subject:message-id:date:from:to :cc:subject:date:message-id:reply-to; bh=6iAgFcCrfvPNjZz3/L1edSLj6Bwhvk+ZRskt5miAkHs=; b=IYAw9ZltROZbUkLvyZcrdtBDSsrHGJQa9APsOUWybBrV6YA4XF+y0viGNVsblsxroM fu/C6JhPrRmkr7BV1+tEWjTNdjw25DyUteI8VTXfznlW/QwCqqUcnEPrWHrG8vnEewbz bumMSbbab/cTwgfiI0rac5oxvU3jvcDkikKTE= X-Google-DKIM-Signature: v=1; a=rsa-sha256; c=relaxed/relaxed; d=1e100.net; s=20230601; t=1738982694; x=1739587494; h=references:in-reply-to:cc:to:from:subject:message-id:date :x-gm-message-state:from:to:cc:subject:date:message-id:reply-to; bh=6iAgFcCrfvPNjZz3/L1edSLj6Bwhvk+ZRskt5miAkHs=; b=Y8tvlt+umFn4gEudnnOIUHGQ8cUpx7XASpBFjkDrrfiaKfFSdkskNiyttCmtfwGgIS O8/yla1OqztLZQnTVcYvA9i2+Xjo1f6URqLIiz/ePq9Rk/rUTBDvF3lH8ICHSuarLGw7 i7ZvqnEjwtAKqAGxQmpJe+l4wWbfgCUNGtvBHu7aXoJ34oQrfQ5yUosWbGsyEIz84Bpc FqYScjzCV1vH/KYmGZ4+nbx8c+c9/7P5C+45sYFk/AKWuJRvZ4sltZ/PbuBkVE/ZDWKF XiZ1izCHrdI3QHzGPQBE14m9kM5IppwTrtxKfEfPIOQO2rXbmpPfECzcWRr+YHTGJkUc Ceog== X-Gm-Message-State: AOJu0YzdYF/piTfmjECTYhc+kaRB36fnqkIYBiF5eccgSHxC6S6Q/imK rjk7j8jrabzOR/hgqnHq4zinXOHNUfwRmgJRdVmgcNEOwpnXt4dmWIa3Ji5TX0/IRVf9tj6z79z NiKxSwST7ufzUBneEMiyySnIQVcwhn2dr6xFRgPQT X-Gm-Gg: ASbGncuu3WvEU4l4uFVKLvjX1zpNXoNTOF2ttxc4nm/AHywAhcBKph4pbjvyT+Vvb1V +65nFIBlJniHi06uFSOSdDN+xMFva9H+QcIvNNQxHiURqi2zU7uwjO4jlMkQ0m0Vb+5lHaplmdo cnpV9FPhuyQJ7b9nrzVE4GnqkfKyckasQdD5KJMeotm9kIHDcC1mrWlhxn0RDugApEJrAx5gzG1 Ul0/BJO5SDNhnUxpV8ubTJFJmyfZq9EF6yWldxcFowRze2CnTf1+vyCPWHyjMDIBjP61zwA024w gU4E2RqrhDHxtqHnHwNdIeSXQ11w+A== X-Google-Smtp-Source: AGHT+IGELW1h69GSMPjer6psuEEOj5Lhk/yvMdNcHqPu31gzsR72GPLqBJxB9j6a84ovvluLmuVspnlwhS0j X-Received: by 2002:a17:903:41c3:b0:215:8dd3:536a with SMTP id d9443c01a7336-21f4e1cbb3cmr83958395ad.4.1738982693881; Fri, 07 Feb 2025 18:44:53 -0800 (PST) Received: from postal.iol.unh.edu (postal.iol.unh.edu. [132.177.123.84]) by smtp-relay.gmail.com with ESMTPS id 98e67ed59e1d1-2fa20bf059esm246124a91.7.2025.02.07.18.44.53 (version=TLS1_2 cipher=ECDHE-ECDSA-AES128-GCM-SHA256 bits=128/128); Fri, 07 Feb 2025 18:44:53 -0800 (PST) X-Relaying-Domain: iol.unh.edu Date: Fri, 07 Feb 2025 18:44:53 -0800 (PST) Message-ID: <67a6c525.170a0220.3c461b.c0efSMTPIN_ADDED_MISSING@mx.google.com> Received: from [172.21.0.5] (unknown [172.18.0.240]) by postal.iol.unh.edu (Postfix) with ESMTP id EEF6A6052471; Fri, 7 Feb 2025 21:44:22 -0500 (EST) Subject: |SUCCESS| pw151134 [PATCH] [v6] eal: define __SIZEOF_LONG__ when usi From: dpdklab@iol.unh.edu To: Test Report Cc: dpdk-test-reports@iol.unh.edu In-Reply-To: <1738940668-21653-1-git-send-email-andremue@linux.microsoft.com> References: <1738940668-21653-1-git-send-email-andremue@linux.microsoft.com> Content-Type: text/plain X-BeenThere: test-report@dpdk.org X-Mailman-Version: 2.1.29 Precedence: list List-Id: automatic DPDK test reports List-Unsubscribe: , List-Archive: List-Post: List-Help: List-Subscribe: , Errors-To: test-report-bounces@dpdk.org Test-Label: iol-unit-amd64-testing Test-Status: SUCCESS http://dpdk.org/patch/151134 _Testing PASS_ Submitter: Andre Muezerie Date: Friday, February 07 2025 15:04:28 DPDK git baseline: Repo:dpdk Branch: master CommitID:388b1abe291544106e406cb0a200b5b0c96fe599 151134 --> testing pass Upstream job id: Generic-Unit-Test-DPDK#312994 Test environment and result as below: +---------------------+----------------+ | Environment | dpdk_unit_test | +=====================+================+ | Debian Bullseye | PASS | +---------------------+----------------+ | CentOS Stream 9 | PASS | +---------------------+----------------+ | Debian 12 | PASS | +---------------------+----------------+ | Fedora 40 (Clang) | PASS | +---------------------+----------------+ | Fedora 40 | PASS | +---------------------+----------------+ | RHEL8 | PASS | +---------------------+----------------+ | Fedora 41 | PASS | +---------------------+----------------+ | Ubuntu 22.04 | PASS | +---------------------+----------------+ | Fedora 41 (Clang) | PASS | +---------------------+----------------+ | RHEL9 | PASS | +---------------------+----------------+ | Ubuntu 20.04 | PASS | +---------------------+----------------+ | Ubuntu 24.04 | PASS | +---------------------+----------------+ | Windows Server 2022 | PASS | +---------------------+----------------+ Debian Bullseye Kernel: Depends on container host Compiler: gcc (Debian 10.2.1-6) 10.2.1 20210110 CentOS Stream 9 Kernel: Depends on container host Compiler: gcc 11.5.0 20240719 (Red Hat 11.5.0-2) Debian 12 Kernel: Depends on container host Compiler: gcc (Debian 12.2.0-14) 12.2.0 Fedora 40 (Clang) Kernel: Depends on container host Compiler: clang 18.1.8 (Fedora 18.1.8-1.fc40) Fedora 40 Kernel: Depends on container host Compiler: gcc 14.2.1 20240912 (Red Hat 14.2.1-3) RHEL8 Kernel: Depends on container host Compiler: gcc 8.5.0 20210514 (Red Hat 8.5.0-22) Fedora 41 Kernel: Depends on container host Compiler: gcc 14.2.1 20240912 (Red Hat 14.2.1-3) Ubuntu 22.04 Kernel: Depends on container host Compiler: gcc (Ubuntu 11.4.0-1ubuntu1~22.04) 11.4.0 Fedora 41 (Clang) Kernel: Depends on container host Compiler: clang 19.1.5 (Fedora 19.1.5-1.fc41) RHEL9 Kernel: Depends on container host Compiler: gcc 11.5.0 20240719 (Red Hat 11.5.0-2) Ubuntu 20.04 Kernel: Depends on container host Compiler: gcc (Ubuntu 9.4.0-1ubuntu1~20.04.2) 9.4.0 Ubuntu 24.04 Kernel: Depends on container host Compiler: gcc (Ubuntu 13.3.0-6ubuntu2~24.04) 13.3.0 Windows Server 2022 Kernel: 10.0.20348.2031 Compiler: clang 15.0.7, gcc 14.1.0 (MinGW), and MSVC VS 19.39.33521 To view detailed results, visit: https://lab.dpdk.org/results/dashboard/patchsets/32528/ UNH-IOL DPDK Community Lab To manage your email subscriptions, visit: https://lab.dpdk.org/results/dashboard/preferences/subscriptions/