From mboxrd@z Thu Jan 1 00:00:00 1970 Return-Path: Received: from mails.dpdk.org (mails.dpdk.org [217.70.189.124]) by inbox.dpdk.org (Postfix) with ESMTP id A1FB9461C1 for ; Sat, 8 Feb 2025 03:47:21 +0100 (CET) Received: from mails.dpdk.org (localhost [127.0.0.1]) by mails.dpdk.org (Postfix) with ESMTP id 9799640654; Sat, 8 Feb 2025 03:47:21 +0100 (CET) Received: from mail-qt1-f227.google.com (mail-qt1-f227.google.com [209.85.160.227]) by mails.dpdk.org (Postfix) with ESMTP id 32AC84064E for ; Sat, 8 Feb 2025 03:47:20 +0100 (CET) Received: by mail-qt1-f227.google.com with SMTP id d75a77b69052e-46fa764aac2so21000441cf.1 for ; Fri, 07 Feb 2025 18:47:20 -0800 (PST) DKIM-Signature: v=1; a=rsa-sha256; c=relaxed/relaxed; d=iol.unh.edu; s=unh-iol; t=1738982839; x=1739587639; darn=dpdk.org; h=cc:to:from:subject:message-id:date:from:to:cc:subject:date :message-id:reply-to; bh=IvvUHi5gSh0A7Ajspm1DU2xIFY4d4WMEMuIOyAk2NFs=; b=J2tTPkqcZaAGEE3zgrkOGknTSpeLXqfGwPRI69rdvu7BF7RiBBvgi6jsrai8tWrSR8 MwX7o7fJl76teJZHy0/07iF97SkFo23u2wLfTN9ugLoTieIPIFhR753xo59EU4bAsktZ hc1K8Upfbsn7dX4Atg8qCf/2kqXsCjTYolqzM= X-Google-DKIM-Signature: v=1; a=rsa-sha256; c=relaxed/relaxed; d=1e100.net; s=20230601; t=1738982839; x=1739587639; h=cc:to:from:subject:message-id:date:x-gm-message-state:from:to:cc :subject:date:message-id:reply-to; bh=IvvUHi5gSh0A7Ajspm1DU2xIFY4d4WMEMuIOyAk2NFs=; b=A+yNd+0L8CqfQkyNPO7h8AVQmd2ejcWEvnSPlpTUnRgrQnFILh30XChhnLH9Pct/Gp jfjGGfAOZRuWCvtT7YrP+9dtjiG3lPCWjriekE8TJGhtN46b4OSBPx4WrfU4Hrgkz59U eDMqVzTrsQqQ3jSoSJtqNmlTCFsDtjSfCmXnZMRjoGEx5WzwBdGJDLXghul6h4mlKo37 RLxn8OjR03wg9LuYTSQafrOeRtD/Y+kKPwLlppXG+fPJkTCiW/rBU6BVAD3fB2YMqX1F ugPBZ62VN/+4HgI351VmxG8W17Tb1PULnjcYw4gtnyuiI7sCDgdoZ61JhzlMlUfT3y06 HDsw== X-Gm-Message-State: AOJu0YyCwdUXLWQmvjjtMRckYW35y3sHIimdB9k1wyT15EPgErKrbQ6W ROGjRiPP2HDwSersRRvRvCHeD2vNp3TXWVSWr54nfl3hJNzF5my475/75crXZf2+h39bYQ51gm4 ryOINpXFOVnj3KQVh6j5isaJ2F344hsHN X-Gm-Gg: ASbGncvWTs0CA9Gsjh6ja3yfX8a9MVNOOmIjRubHMCR2hkHoClhKnsalJmVrlGpdGqu lUpwtZQaYbaMo0FO5dFvUxB8dsk9mgMax7Z3pdvZ4lzSOwOCCDSDv67ASkWpYuihbej3Jq33X5n sxlJ6jrwBwswCdE1h1/0oG54cFcg5cyQyOvzzFa7xjZI1S3F1IgAaaKWJB8wNIPwNLSgSb8jOiC uNKweiS7Z+imD2L7dx7CZKcfsHutoWXOcN8F8jkM4fAcxIKcVgaaLZiFhw9/F7uwwPOR+63qbEK Nc0qK8H2+XDfQr6vHdXPT7Q/Xk132g== X-Google-Smtp-Source: AGHT+IE8ZzY9G5YRzn2eRKfq9NTF0PMhvc44uf8vz7l4HRJTi9TkeX6ZCda1P3yg/WuYIW2XB2QHInJLjnfW X-Received: by 2002:a05:622a:1312:b0:46c:82dd:9a67 with SMTP id d75a77b69052e-47167a294e5mr79996031cf.28.1738982839622; Fri, 07 Feb 2025 18:47:19 -0800 (PST) Received: from postal.iol.unh.edu (postal.iol.unh.edu. [132.177.123.84]) by smtp-relay.gmail.com with ESMTPS id d75a77b69052e-471492a9170sm1975441cf.11.2025.02.07.18.47.19 (version=TLS1_2 cipher=ECDHE-ECDSA-AES128-GCM-SHA256 bits=128/128); Fri, 07 Feb 2025 18:47:19 -0800 (PST) X-Relaying-Domain: iol.unh.edu Date: Fri, 07 Feb 2025 18:47:19 -0800 (PST) Message-ID: <67a6c5b7.050a0220.260a94.a13aSMTPIN_ADDED_MISSING@mx.google.com> Received: from [172.21.0.6] (unknown [172.18.0.240]) by postal.iol.unh.edu (Postfix) with ESMTP id 4F0AE6052471; Fri, 7 Feb 2025 21:47:19 -0500 (EST) Subject: |WARNING| [GIT MASTER] c66daa12e76d7b4912cfb7109a761856a7a873ab From: dpdklab@iol.unh.edu To: Test Report Cc: dpdk-test-reports@iol.unh.edu, Xueming Li , Christian Ehrhardt , Kevin Traynor , Luca Boccassi Content-Type: text/plain X-BeenThere: test-report@dpdk.org X-Mailman-Version: 2.1.29 Precedence: list List-Id: automatic DPDK test reports List-Unsubscribe: , List-Archive: List-Post: List-Help: List-Subscribe: , Errors-To: test-report-bounces@dpdk.org _Testing issues_ Branch: tags/v23.11 c66daa12e76d7b4912cfb7109a761856a7a873ab --> testing issues Upstream job id: ACVP-FIPS-testing#8807 Test environment and result as below: +--------------------+----------------------+----------------------+ | Environment | compressdev_zlib_pmd | dpdk_fips_validation | +====================+======================+======================+ | Ubuntu 22.04 (ARM) | PASS | SKIPPED | +--------------------+----------------------+----------------------+ | Ubuntu 22.04 | PASS | SKIPPED | +--------------------+----------------------+----------------------+ | Ubuntu 20.04 | SKIPPED | WARN | +--------------------+----------------------+----------------------+ ==== 20 line log output for Ubuntu 20.04 (dpdk_fips_validation): ==== INFO:root:Downloading verdict for vector set 2879183 INFO:root:Vector set verdict not ready, waiting 30 seconds... INFO:root:Vector set verdict not ready, waiting 30 seconds... INFO:root:Vector set verdict not ready, waiting 30 seconds... INFO:root:Done INFO:root:Using response file... INFO:root:Uploading response file... INFO:root:Fetching verdict... INFO:root:Downloading verdict for vector set 2879184 INFO:root:Vector set verdict not ready, waiting 30 seconds... INFO:root:Vector set verdict not ready, waiting 30 seconds... INFO:root:Done INFO:root:Using response file... INFO:root:Uploading response file... INFO:root:Fetching verdict... INFO:root:Downloading verdict for vector set 2879185 INFO:root:Vector set verdict not ready, waiting 30 seconds... INFO:root:Vector set verdict not ready, waiting 30 seconds... INFO:root:Vector set verdict not ready, waiting 30 seconds... INFO:root:Done ==== End log output ==== Ubuntu 22.04 (ARM) Kernel: 5.15.0-97-generic Compiler: gcc gcc (Ubuntu 11.4.0-1ubuntu1~22.04) 11.4.0 Ubuntu 22.04 Kernel: 5.15.0-100-generic Compiler: gcc gcc (Ubuntu 11.4.0-1ubuntu1~22.04) 11.4.0 Ubuntu 20.04 Kernel: Depends on container host Compiler: gcc (Ubuntu 9.4.0-1ubuntu1~20.04.2) 9.4.0 To view detailed results, visit: https://lab.dpdk.org/results/dashboard/tarballs/32467/ UNH-IOL DPDK Community Lab To manage your email subscriptions, visit: https://lab.dpdk.org/results/dashboard/preferences/subscriptions/