From mboxrd@z Thu Jan 1 00:00:00 1970 Return-Path: Received: from mails.dpdk.org (mails.dpdk.org [217.70.189.124]) by inbox.dpdk.org (Postfix) with ESMTP id 4654D461C1 for ; Sat, 8 Feb 2025 03:57:41 +0100 (CET) Received: from mails.dpdk.org (localhost [127.0.0.1]) by mails.dpdk.org (Postfix) with ESMTP id 4011F402A1; Sat, 8 Feb 2025 03:57:41 +0100 (CET) Received: from mail-pj1-f100.google.com (mail-pj1-f100.google.com [209.85.216.100]) by mails.dpdk.org (Postfix) with ESMTP id 48A4D40279 for ; Sat, 8 Feb 2025 03:57:38 +0100 (CET) Received: by mail-pj1-f100.google.com with SMTP id 98e67ed59e1d1-2f9ba87f5d4so3845350a91.3 for ; Fri, 07 Feb 2025 18:57:38 -0800 (PST) DKIM-Signature: v=1; a=rsa-sha256; c=relaxed/relaxed; d=iol.unh.edu; s=unh-iol; t=1738983457; x=1739588257; darn=dpdk.org; h=references:in-reply-to:cc:to:from:subject:message-id:date:from:to :cc:subject:date:message-id:reply-to; bh=QSn/NQbPW6cjtJRlPA3MBFdXmbhdyjESGAxWYGQ3xVY=; b=i2Yj63PtZR5qFf4HPGPe0SDarIrvNCG2invRvQW5VzRoADx4z53x57o0XaUU+O0eG1 uwuhk7XX3S/nD/I4BkVC67FMX1sSbjGPH/Krb76sqOXiFwWh1T7jOdxeuI87Q4SrbzVY 1AL3RxLzrmfKRGSCyJ23dWmSez3TzB9tYgNNw= X-Google-DKIM-Signature: v=1; a=rsa-sha256; c=relaxed/relaxed; d=1e100.net; s=20230601; t=1738983457; x=1739588257; h=references:in-reply-to:cc:to:from:subject:message-id:date :x-gm-message-state:from:to:cc:subject:date:message-id:reply-to; bh=QSn/NQbPW6cjtJRlPA3MBFdXmbhdyjESGAxWYGQ3xVY=; b=he3bGyeeqm6r7qmt6EVfY41/bXKGbju6gWDghfMJ1UDfyUXxEvodJ3JNFFw+J2+1Cm egRJDcqUpGSUBgeeheFpT5v/tXLGpuMkJuqjIyqpLIV/UqTfBieOIp7xAq1L6Q/g90iG 91fEZrzWRp9v4M9HXfNctPRui1tVqSYXC2RFjsoEbG0BmWgtdh8kQM6MDVfc9iEDnTw0 AqXEX5ruacwFVvG5bjFAakdxUoMGNYgYjRO8n/DJTz6JPF2jWvY2UqzGoULI/2L3KKXh flFBRU41aEkmXzr4NgYD9s3K/MqI9jkKYEDWlYFf4oTfK7f0/ZZVrIRsBMMl75bwSZbG gT6Q== X-Gm-Message-State: AOJu0YzZ3gRV+2LC/L0XwaDk0hCy/UFeCe3Hl7UVA8mYnoRaZktzUUCp 0gU2SlXJJ7cjoNta1JTmg71D8AzC2T+uNG/rF/WwKPMiVvrZ65M/jQfQFrnAi6VbuIkI77GihlH g/WrXYOjxvkYBduwtcHRQo23K5GTJKf3oV6zm5ULH X-Gm-Gg: ASbGncvOgOn0jNG2S36IeSeO1IjmclFjCkvlz6BJPc/atDNeVqZe88TkabfXI2wsIxS dhKmWKud5r40pP/bZaeoCEwk1rs9KQLsgvAXepMlTT4IBi2pBVZ8c31Is3DD7ZDvZh3EvNXLQFn hciPsnFju+tLTeL3bi0AKIw3rEPZeejGQPFXctCr+E20jWM4uzl68/pNeXFmJQX9U3/p3ZD19sf r203NAwQF5GqkTt22zjO43EDfs362Pw+3mxRPSZgRb7rogCLVGAn5d7L9PWPf0CRIGOIdd+XEzq wE27995FgjyMJCzCeNJKAieuhWfdxQ== X-Google-Smtp-Source: AGHT+IGLJFtqKjfnu8O0cqjxLE00Xd00RlFSEtCPzF+seeWu58cU3N8vTxtcrEZcNdg1cvCXNyWSrvZy6JGo X-Received: by 2002:a17:90b:2d8c:b0:2ea:2a8d:dd2a with SMTP id 98e67ed59e1d1-2fa242e6928mr7716527a91.27.1738983457470; Fri, 07 Feb 2025 18:57:37 -0800 (PST) Received: from postal.iol.unh.edu (postal.iol.unh.edu. [132.177.123.84]) by smtp-relay.gmail.com with ESMTPS id d9443c01a7336-21f3658267bsm2546925ad.58.2025.02.07.18.57.37 (version=TLS1_2 cipher=ECDHE-ECDSA-AES128-GCM-SHA256 bits=128/128); Fri, 07 Feb 2025 18:57:37 -0800 (PST) X-Relaying-Domain: iol.unh.edu Date: Fri, 07 Feb 2025 18:57:37 -0800 (PST) Message-ID: <67a6c821.170a0220.223d5d.d075SMTPIN_ADDED_MISSING@mx.google.com> Received: from [172.21.0.7] (unknown [172.18.0.240]) by postal.iol.unh.edu (Postfix) with ESMTP id 9C5866052472; Fri, 7 Feb 2025 21:57:06 -0500 (EST) Subject: |SUCCESS| pw151136 [PATCH] [v5] net: add thread-safe crc api From: dpdklab@iol.unh.edu To: Test Report Cc: dpdk-test-reports@iol.unh.edu In-Reply-To: <20250207182443.9775-1-arkadiuszx.kusztal@intel.com> References: <20250207182443.9775-1-arkadiuszx.kusztal@intel.com> Content-Type: text/plain X-BeenThere: test-report@dpdk.org X-Mailman-Version: 2.1.29 Precedence: list List-Id: automatic DPDK test reports List-Unsubscribe: , List-Archive: List-Post: List-Help: List-Subscribe: , Errors-To: test-report-bounces@dpdk.org Test-Label: iol-compile-amd64-testing Test-Status: SUCCESS http://dpdk.org/patch/151136 _Testing PASS_ Submitter: Arkadiusz Kusztal Date: Friday, February 07 2025 18:24:43 DPDK git baseline: Repo:dpdk Branch: master CommitID:7125636162d67b1c40ba6802a3ff4466d125d243 151136 --> testing pass Upstream job id: Windows-Compile-DPDK-VS#4865 Test environment and result as below: +---------------------+--------------------+-------------------+ | Environment | dpdk_meson_compile | dpdk_msvc_compile | +=====================+====================+===================+ | FreeBSD 13.4 | PASS | SKIPPED | +---------------------+--------------------+-------------------+ | FreeBSD 14.2 | PASS | SKIPPED | +---------------------+--------------------+-------------------+ | Windows Server 2022 | SKIPPED | PASS | +---------------------+--------------------+-------------------+ FreeBSD 13.4 Kernel: 13.4-RELEASE-p1 Compiler: clang 18.1.6 FreeBSD 14.2 Kernel: 14.2-RELEASE Compiler: clang 18.1.6 Windows Server 2022 Kernel: 10.0.20348.2031 Compiler: clang 15.0.7, gcc 14.1.0 (MinGW), and MSVC VS 19.39.33521 To view detailed results, visit: https://lab.dpdk.org/results/dashboard/patchsets/32530/ UNH-IOL DPDK Community Lab To manage your email subscriptions, visit: https://lab.dpdk.org/results/dashboard/preferences/subscriptions/