From mboxrd@z Thu Jan 1 00:00:00 1970 Return-Path: Received: from mails.dpdk.org (mails.dpdk.org [217.70.189.124]) by inbox.dpdk.org (Postfix) with ESMTP id EE97D461C3 for ; Sat, 8 Feb 2025 04:29:59 +0100 (CET) Received: from mails.dpdk.org (localhost [127.0.0.1]) by mails.dpdk.org (Postfix) with ESMTP id E8E5340280; Sat, 8 Feb 2025 04:29:59 +0100 (CET) Received: from mail-pl1-f226.google.com (mail-pl1-f226.google.com [209.85.214.226]) by mails.dpdk.org (Postfix) with ESMTP id 9404A40279 for ; Sat, 8 Feb 2025 04:29:58 +0100 (CET) Received: by mail-pl1-f226.google.com with SMTP id d9443c01a7336-21f6a47d617so4472445ad.2 for ; Fri, 07 Feb 2025 19:29:58 -0800 (PST) DKIM-Signature: v=1; a=rsa-sha256; c=relaxed/relaxed; d=iol.unh.edu; s=unh-iol; t=1738985397; x=1739590197; darn=dpdk.org; h=references:in-reply-to:cc:to:from:subject:message-id:date:from:to :cc:subject:date:message-id:reply-to; bh=sIoRuvvGlzPPKjOuc/WmuFJKY2OQtW2u+JX1yPMY/xw=; b=NJvT/rZ0O8+UlwbTG9JVuzhD+8ApAyPuxhraIht1P5sEwj21/n2zadqjjFTtFKOGWQ KsIiT/xdPeFNGfspox2P2zYBSyBsaLNc2K8ZaIGFAfGwb2m9rnUQsk1kDcCMemwSQprV itE1IleKzr/mbyO62ndgduPDVgl6eAz04uHs8= X-Google-DKIM-Signature: v=1; a=rsa-sha256; c=relaxed/relaxed; d=1e100.net; s=20230601; t=1738985397; x=1739590197; h=references:in-reply-to:cc:to:from:subject:message-id:date :x-gm-message-state:from:to:cc:subject:date:message-id:reply-to; bh=sIoRuvvGlzPPKjOuc/WmuFJKY2OQtW2u+JX1yPMY/xw=; b=meHARnOee5qb85iyBXm19bksmJeOvvASqc8U34li9/B0rBOMfFBITji7wGOSnTTVkk lqdA37hJHIyjdvJaTzoWsBrG9IL59b12DMZLctHHH/4hbfirxXYUnruqTGbZqe+FQXre wSDe27KDUBx3kbauHPT2WzJ9d1GOCL1Upv2nwhRWuo52lhGNB+/PdJIgy/S6eA9w47Lv Lb+kjFjnaiSPkPlyyaq02QF6kfP2Bmi3/DuT1raoE+7kr5fOTKm9K0ONnLqJY0TYk+vC QiiorIFdeVdxZY8RIdnGfZF5SAva4JEex0YKqKwlZxPOZAntYghPBKVSFP57r67I2p9s mYyw== X-Gm-Message-State: AOJu0Yzd019mcw738+ATcqIcRglmstJnlvan3ccHqlG0C54nkGSJlLL6 B09Sqdaa9rLfG9Xd8cbPi4uXPfCjycUWhjBRNto9Ii4SJCAY5kDoJoUk1DEE5qyGmtxKG9bjlKB L7Ytcq6LL78oL8lT8g+/CoVZEH2d5tRPHDYcjpC5F X-Gm-Gg: ASbGnctShE8ETBlwnwhUbU7CD4HOthdlmjQvSMjkMP5q51ZtOBllvNHUb2IoAoMg922 5Ly6DBpBXC4rfJqutFw64AAR/v0HgG8nZiEaIf5m4sU7KTKidvr/zMvySEA14fzIkO0bFLxiplL pfATcFdRewI3s4q3REHzx0eoebtRliDcNlEYgHOCyr0y3lpRQTUxsPhdRJ413HBy15tGHS6xJvX xFlnSYkbpEY/a4jqSwFSgcnFwHtHce9/L3hf9d8QfygKeGOKZY+IK7k1rp/pCJ3bARG+9pCLQWp pPRLfFdsfZfK1cBWa+KPylyS1XG0aw== X-Google-Smtp-Source: AGHT+IGeo4LTIOQPbHP/OfnL3thca4bPJZBMV+KryWJmI5pHOGOCBc26kgU/ol9UDRc3CpzPW5NbTLOc/rnL X-Received: by 2002:a05:6a21:9982:b0:1e1:ab63:c5e8 with SMTP id adf61e73a8af0-1ee03b0c683mr9249591637.26.1738985397636; Fri, 07 Feb 2025 19:29:57 -0800 (PST) Received: from postal.iol.unh.edu (postal.iol.unh.edu. [132.177.123.84]) by smtp-relay.gmail.com with ESMTPS id 41be03b00d2f7-ad51aebc881sm140343a12.4.2025.02.07.19.29.57 (version=TLS1_2 cipher=ECDHE-ECDSA-AES128-GCM-SHA256 bits=128/128); Fri, 07 Feb 2025 19:29:57 -0800 (PST) X-Relaying-Domain: iol.unh.edu Date: Fri, 07 Feb 2025 19:29:57 -0800 (PST) Message-ID: <67a6cfb5.050a0220.245107.6d2fSMTPIN_ADDED_MISSING@mx.google.com> Received: from [172.21.0.7] (unknown [172.18.0.240]) by postal.iol.unh.edu (Postfix) with ESMTP id BA48B6052471; Fri, 7 Feb 2025 22:29:26 -0500 (EST) Subject: |SUCCESS| pw151137 [PATCH] devtools: ignore .gitignore in SPDX check From: dpdklab@iol.unh.edu To: Test Report Cc: dpdk-test-reports@iol.unh.edu In-Reply-To: <20250207182634.168820-1-stephen@networkplumber.org> References: <20250207182634.168820-1-stephen@networkplumber.org> Content-Type: text/plain X-BeenThere: test-report@dpdk.org X-Mailman-Version: 2.1.29 Precedence: list List-Id: automatic DPDK test reports List-Unsubscribe: , List-Archive: List-Post: List-Help: List-Subscribe: , Errors-To: test-report-bounces@dpdk.org Test-Label: iol-unit-amd64-testing Test-Status: SUCCESS http://dpdk.org/patch/151137 _Testing PASS_ Submitter: Stephen Hemminger Date: Friday, February 07 2025 18:26:34 DPDK git baseline: Repo:dpdk Branch: master CommitID:388b1abe291544106e406cb0a200b5b0c96fe599 151137 --> testing pass Upstream job id: Generic-Unit-Test-DPDK#313026 Test environment and result as below: +---------------------+----------------+ | Environment | dpdk_unit_test | +=====================+================+ | CentOS Stream 9 | PASS | +---------------------+----------------+ | Fedora 40 | PASS | +---------------------+----------------+ | Debian Bullseye | PASS | +---------------------+----------------+ | Fedora 40 (Clang) | PASS | +---------------------+----------------+ | RHEL9 | PASS | +---------------------+----------------+ | Debian 12 | PASS | +---------------------+----------------+ | RHEL8 | PASS | +---------------------+----------------+ | Fedora 41 (Clang) | PASS | +---------------------+----------------+ | Fedora 41 | PASS | +---------------------+----------------+ | Ubuntu 24.04 | PASS | +---------------------+----------------+ | Ubuntu 22.04 | PASS | +---------------------+----------------+ | Ubuntu 20.04 | PASS | +---------------------+----------------+ | Windows Server 2022 | PASS | +---------------------+----------------+ CentOS Stream 9 Kernel: Depends on container host Compiler: gcc 11.5.0 20240719 (Red Hat 11.5.0-2) Fedora 40 Kernel: Depends on container host Compiler: gcc 14.2.1 20240912 (Red Hat 14.2.1-3) Debian Bullseye Kernel: Depends on container host Compiler: gcc (Debian 10.2.1-6) 10.2.1 20210110 Fedora 40 (Clang) Kernel: Depends on container host Compiler: clang 18.1.8 (Fedora 18.1.8-1.fc40) RHEL9 Kernel: Depends on container host Compiler: gcc 11.5.0 20240719 (Red Hat 11.5.0-2) Debian 12 Kernel: Depends on container host Compiler: gcc (Debian 12.2.0-14) 12.2.0 RHEL8 Kernel: Depends on container host Compiler: gcc 8.5.0 20210514 (Red Hat 8.5.0-22) Fedora 41 (Clang) Kernel: Depends on container host Compiler: clang 19.1.5 (Fedora 19.1.5-1.fc41) Fedora 41 Kernel: Depends on container host Compiler: gcc 14.2.1 20240912 (Red Hat 14.2.1-3) Ubuntu 24.04 Kernel: Depends on container host Compiler: gcc (Ubuntu 13.3.0-6ubuntu2~24.04) 13.3.0 Ubuntu 22.04 Kernel: Depends on container host Compiler: gcc (Ubuntu 11.4.0-1ubuntu1~22.04) 11.4.0 Ubuntu 20.04 Kernel: Depends on container host Compiler: gcc (Ubuntu 9.4.0-1ubuntu1~20.04.2) 9.4.0 Windows Server 2022 Kernel: 10.0.20348.2031 Compiler: clang 15.0.7, gcc 14.1.0 (MinGW), and MSVC VS 19.39.33521 To view detailed results, visit: https://lab.dpdk.org/results/dashboard/patchsets/32531/ UNH-IOL DPDK Community Lab To manage your email subscriptions, visit: https://lab.dpdk.org/results/dashboard/preferences/subscriptions/