From: dpdklab@iol.unh.edu
To: Test Report <test-report@dpdk.org>
Cc: dpdk-test-reports@iol.unh.edu
Subject: |SUCCESS| pw151138-151140 [PATCH] [v1,3/3] net/intel: add Tx time qu
Date: Fri, 07 Feb 2025 19:31:54 -0800 (PST) [thread overview]
Message-ID: <67a6d02a.170a0220.2996bd.d84eSMTPIN_ADDED_MISSING@mx.google.com> (raw)
In-Reply-To: <20250207124300.1022523-4-soumyadeep.hore@intel.com>
Test-Label: iol-compile-amd64-testing
Test-Status: SUCCESS
http://dpdk.org/patch/151140
_Testing PASS_
Submitter: Soumyadeep Hore <soumyadeep.hore@intel.com>
Date: Friday, February 07 2025 12:43:00
DPDK git baseline: Repo:dpdk
Branch: master
CommitID:cebec711bdc507d1b271b50ea1e696db86a3a202
151138-151140 --> testing pass
Upstream job id: Windows-Compile-DPDK-VS#4866
Test environment and result as below:
+---------------------+--------------------+-------------------+
| Environment | dpdk_meson_compile | dpdk_msvc_compile |
+=====================+====================+===================+
| FreeBSD 13.4 | PASS | SKIPPED |
+---------------------+--------------------+-------------------+
| FreeBSD 14.2 | PASS | SKIPPED |
+---------------------+--------------------+-------------------+
| Windows Server 2022 | SKIPPED | PASS |
+---------------------+--------------------+-------------------+
FreeBSD 13.4
Kernel: 13.4-RELEASE-p1
Compiler: clang 18.1.6
FreeBSD 14.2
Kernel: 14.2-RELEASE
Compiler: clang 18.1.6
Windows Server 2022
Kernel: 10.0.20348.2031
Compiler: clang 15.0.7, gcc 14.1.0 (MinGW), and MSVC VS 19.39.33521
To view detailed results, visit:
https://lab.dpdk.org/results/dashboard/patchsets/32532/
UNH-IOL DPDK Community Lab
To manage your email subscriptions, visit:
https://lab.dpdk.org/results/dashboard/preferences/subscriptions/
next prev parent reply other threads:[~2025-02-08 3:31 UTC|newest]
Thread overview: 20+ messages / expand[flat|nested] mbox.gz Atom feed top
[not found] <20250207124300.1022523-4-soumyadeep.hore@intel.com>
2025-02-07 20:21 ` |SUCCESS| pw151138-151140 [PATCH v1 3/3] net/intel: add Tx time queue qemudev
2025-02-07 20:25 ` qemudev
2025-02-07 20:49 ` |SUCCESS| pw151140 " checkpatch
2025-02-08 1:52 ` |SUCCESS| pw151138-151140 [PATCH] [v1,3/3] net/intel: add Tx time qu dpdklab
2025-02-08 1:53 ` dpdklab
2025-02-08 1:59 ` dpdklab
2025-02-08 2:08 ` dpdklab
2025-02-08 2:34 ` dpdklab
2025-02-08 3:12 ` |PENDING| " dpdklab
2025-02-08 3:17 ` |SUCCESS| " dpdklab
2025-02-08 3:18 ` |PENDING| " dpdklab
2025-02-08 3:31 ` dpdklab
2025-02-08 3:31 ` dpdklab [this message]
2025-02-08 4:22 ` |SUCCESS| " dpdklab
2025-02-08 4:26 ` dpdklab
2025-02-08 5:22 ` |PENDING| " dpdklab
2025-02-08 5:44 ` dpdklab
2025-02-08 6:56 ` |SUCCESS| " dpdklab
2025-02-08 7:07 ` dpdklab
2025-02-08 7:27 ` dpdklab
Reply instructions:
You may reply publicly to this message via plain-text email
using any one of the following methods:
* Save the following mbox file, import it into your mail client,
and reply-to-all from there: mbox
Avoid top-posting and favor interleaved quoting:
https://en.wikipedia.org/wiki/Posting_style#Interleaved_style
* Reply using the --to, --cc, and --in-reply-to
switches of git-send-email(1):
git send-email \
--in-reply-to=67a6d02a.170a0220.2996bd.d84eSMTPIN_ADDED_MISSING@mx.google.com \
--to=dpdklab@iol.unh.edu \
--cc=dpdk-test-reports@iol.unh.edu \
--cc=test-report@dpdk.org \
/path/to/YOUR_REPLY
https://kernel.org/pub/software/scm/git/docs/git-send-email.html
* If your mail client supports setting the In-Reply-To header
via mailto: links, try the mailto: link
Be sure your reply has a Subject: header at the top and a blank line
before the message body.
This is a public inbox, see mirroring instructions
for how to clone and mirror all data and code used for this inbox;
as well as URLs for NNTP newsgroup(s).