From mboxrd@z Thu Jan 1 00:00:00 1970 Return-Path: Received: from mails.dpdk.org (mails.dpdk.org [217.70.189.124]) by inbox.dpdk.org (Postfix) with ESMTP id 6BF75461C3 for ; Sat, 8 Feb 2025 04:31:56 +0100 (CET) Received: from mails.dpdk.org (localhost [127.0.0.1]) by mails.dpdk.org (Postfix) with ESMTP id 6965B40280; Sat, 8 Feb 2025 04:31:56 +0100 (CET) Received: from mail-pl1-f226.google.com (mail-pl1-f226.google.com [209.85.214.226]) by mails.dpdk.org (Postfix) with ESMTP id B750040279 for ; Sat, 8 Feb 2025 04:31:55 +0100 (CET) Received: by mail-pl1-f226.google.com with SMTP id d9443c01a7336-21ddab8800bso39474435ad.3 for ; Fri, 07 Feb 2025 19:31:55 -0800 (PST) DKIM-Signature: v=1; a=rsa-sha256; c=relaxed/relaxed; d=iol.unh.edu; s=unh-iol; t=1738985515; x=1739590315; darn=dpdk.org; h=references:in-reply-to:cc:to:from:subject:message-id:date:from:to :cc:subject:date:message-id:reply-to; bh=0jLopeAWE86XNurEx1uHoS0e0JsKYwClJ1tNcVNuJXk=; b=BKJTDOr+0pLgZq3DrFHkbqyjA7XcvSk6kljzNk7t1okG+hNxwCzcRvanjyM0+FEDE/ 6ioO6ojIc/ZPvAZ1SZ2lWEfeLGylskwiL3a9QWFIys3beXG8rfS9E4tB7n+oOYUdgJcn LhStSywBXPrpAb8jJz6Kme3Q78KPLMdL/93UI= X-Google-DKIM-Signature: v=1; a=rsa-sha256; c=relaxed/relaxed; d=1e100.net; s=20230601; t=1738985515; x=1739590315; h=references:in-reply-to:cc:to:from:subject:message-id:date :x-gm-message-state:from:to:cc:subject:date:message-id:reply-to; bh=0jLopeAWE86XNurEx1uHoS0e0JsKYwClJ1tNcVNuJXk=; b=cSBua5eQM0rd0R00l7OFo9KZVe/ipj43fMfrpqczfEJfxCGSsxTxEpJSU0vRSareS5 jUWac1o4TCpQGhR4/pVNfzb50YqzQgHe3YsZLXgiW70bti92EHX8gt14qv71VFfWGtrN hdCRRs9R168BlWTPDlUz470zB4SpMIrk/hsKkq+zsSUtJuovw3yJajsJycLpw1vOpoRX 1hQuaAxCpqPrqxKpTkWijNfYCI/nfN01+rO5MtGfKvqwkmGWM2nf6veutIjEekUBILGr GoapadX/NmO4cChhfUoHE+hFnZ4qMdgT0fgOlmnGWeU6aXyZAFbXnFCwLcCLUNu00P50 KBLw== X-Gm-Message-State: AOJu0YwyGsvwca+mgW6+/Dd0TDeO3S3F6zhliAlFUdtIpx7t3UgoFnNw BBNRm2QB30saLo5bC4SPsEHTydIFN5EyN0fuhUnagOF5mHYd7Thy+RI44Rce1GAg4U2K1sZqvvu W9YLiY6cfNz/9a0iIi7/oqdpgXGrfVVYSLfJ5khY8 X-Gm-Gg: ASbGncuFBYJApsSqlOohShqJVDXK0LMQTvMkMGnXC38RD4MM6fqfag8p7ASI1imefxS imj0YorIIlXaaqMCdXbQ8dlmQKqTDQPh4u7yyi/G88c0GZ0MkVXj3lGgD1EmW609KE5z6+5HbGF kaUPW5Br9ry+t8ZeIwqB9EHA0Gdln1ztG974kYdKlIxrMcRuzHGC/+Kkd75Ov6TiyLwBYVLhJtc 1O9FTzj6rq+9XeYM0m5r01LAnGTyOKs+0+iv2FzXSeage8k75BQ/NsV24JT7NTyDBJnMb+tRb6o eAAlr9DOfPfSKf43NndhkNJldEvRlw== X-Google-Smtp-Source: AGHT+IEk/7I/8ER/igLw8CjRL01yxnbidkccQTngr+qoecHs9xoXJSHD3PLYIHfJeVP5b6J5QQUEBVlPeJvB X-Received: by 2002:a17:903:22d1:b0:21f:592b:b4b6 with SMTP id d9443c01a7336-21f592bb851mr62138205ad.47.1738985514905; Fri, 07 Feb 2025 19:31:54 -0800 (PST) Received: from postal.iol.unh.edu (postal.iol.unh.edu. [132.177.123.84]) by smtp-relay.gmail.com with ESMTPS id d9443c01a7336-21f3658d11esm2583545ad.60.2025.02.07.19.31.54 (version=TLS1_2 cipher=ECDHE-ECDSA-AES128-GCM-SHA256 bits=128/128); Fri, 07 Feb 2025 19:31:54 -0800 (PST) X-Relaying-Domain: iol.unh.edu Date: Fri, 07 Feb 2025 19:31:54 -0800 (PST) Message-ID: <67a6d02a.170a0220.2996bd.d84eSMTPIN_ADDED_MISSING@mx.google.com> Received: from [172.21.0.6] (unknown [172.18.0.240]) by postal.iol.unh.edu (Postfix) with ESMTP id 026E46052471; Fri, 7 Feb 2025 22:31:24 -0500 (EST) Subject: |SUCCESS| pw151138-151140 [PATCH] [v1,3/3] net/intel: add Tx time qu From: dpdklab@iol.unh.edu To: Test Report Cc: dpdk-test-reports@iol.unh.edu In-Reply-To: <20250207124300.1022523-4-soumyadeep.hore@intel.com> References: <20250207124300.1022523-4-soumyadeep.hore@intel.com> Content-Type: text/plain X-BeenThere: test-report@dpdk.org X-Mailman-Version: 2.1.29 Precedence: list List-Id: automatic DPDK test reports List-Unsubscribe: , List-Archive: List-Post: List-Help: List-Subscribe: , Errors-To: test-report-bounces@dpdk.org Test-Label: iol-compile-amd64-testing Test-Status: SUCCESS http://dpdk.org/patch/151140 _Testing PASS_ Submitter: Soumyadeep Hore Date: Friday, February 07 2025 12:43:00 DPDK git baseline: Repo:dpdk Branch: master CommitID:cebec711bdc507d1b271b50ea1e696db86a3a202 151138-151140 --> testing pass Upstream job id: Windows-Compile-DPDK-VS#4866 Test environment and result as below: +---------------------+--------------------+-------------------+ | Environment | dpdk_meson_compile | dpdk_msvc_compile | +=====================+====================+===================+ | FreeBSD 13.4 | PASS | SKIPPED | +---------------------+--------------------+-------------------+ | FreeBSD 14.2 | PASS | SKIPPED | +---------------------+--------------------+-------------------+ | Windows Server 2022 | SKIPPED | PASS | +---------------------+--------------------+-------------------+ FreeBSD 13.4 Kernel: 13.4-RELEASE-p1 Compiler: clang 18.1.6 FreeBSD 14.2 Kernel: 14.2-RELEASE Compiler: clang 18.1.6 Windows Server 2022 Kernel: 10.0.20348.2031 Compiler: clang 15.0.7, gcc 14.1.0 (MinGW), and MSVC VS 19.39.33521 To view detailed results, visit: https://lab.dpdk.org/results/dashboard/patchsets/32532/ UNH-IOL DPDK Community Lab To manage your email subscriptions, visit: https://lab.dpdk.org/results/dashboard/preferences/subscriptions/