automatic DPDK test reports
 help / color / mirror / Atom feed
* |SUCCESS| [GIT MASTER] 388b1abe291544106e406cb0a200b5b0c96fe599
@ 2025-02-08  3:37 dpdklab
  0 siblings, 0 replies; 9+ messages in thread
From: dpdklab @ 2025-02-08  3:37 UTC (permalink / raw)
  To: Test Report; +Cc: dpdk-test-reports

_Testing PASS_

Branch: dpdk

388b1abe291544106e406cb0a200b5b0c96fe599 --> testing pass

Upstream job id: Windows-Compile-DPDK-VS#4867

Test environment and result as below:

+---------------------+--------------------+-------------------+
|     Environment     | dpdk_meson_compile | dpdk_msvc_compile |
+=====================+====================+===================+
| FreeBSD 13.4        | PASS               | SKIPPED           |
+---------------------+--------------------+-------------------+
| FreeBSD 14.2        | PASS               | SKIPPED           |
+---------------------+--------------------+-------------------+
| Windows Server 2022 | SKIPPED            | PASS              |
+---------------------+--------------------+-------------------+


FreeBSD 13.4
	Kernel: 13.4-RELEASE-p1
	Compiler: clang 18.1.6

FreeBSD 14.2
	Kernel: 14.2-RELEASE
	Compiler: clang 18.1.6

Windows Server 2022
	Kernel: 10.0.20348.2031
	Compiler: clang 15.0.7, gcc 14.1.0 (MinGW), and MSVC VS 19.39.33521

To view detailed results, visit:
https://lab.dpdk.org/results/dashboard/tarballs/32502/

UNH-IOL DPDK Community Lab

To manage your email subscriptions, visit: 
https://lab.dpdk.org/results/dashboard/preferences/subscriptions/

^ permalink raw reply	[flat|nested] 9+ messages in thread

* |SUCCESS| [GIT MASTER] 388b1abe291544106e406cb0a200b5b0c96fe599
@ 2025-02-08  4:36 dpdklab
  0 siblings, 0 replies; 9+ messages in thread
From: dpdklab @ 2025-02-08  4:36 UTC (permalink / raw)
  To: Test Report; +Cc: dpdk-test-reports

_Testing PASS_

Branch: dpdk

388b1abe291544106e406cb0a200b5b0c96fe599 --> testing pass

Upstream job id: Windows-Compile-DPDK-Native#26545

Test environment and result as below:

+---------------------+--------------------+-------------------+-------------------------+----------------------+
|     Environment     | dpdk_meson_compile | dpdk_msvc_compile | dpdk_llvm_clang_compile | dpdk_mingw64_compile |
+=====================+====================+===================+=========================+======================+
| FreeBSD 13.4        | PASS               | SKIPPED           | SKIPPED                 | SKIPPED              |
+---------------------+--------------------+-------------------+-------------------------+----------------------+
| FreeBSD 14.2        | PASS               | SKIPPED           | SKIPPED                 | SKIPPED              |
+---------------------+--------------------+-------------------+-------------------------+----------------------+
| Windows Server 2022 | SKIPPED            | PASS              | PASS                    | PASS                 |
+---------------------+--------------------+-------------------+-------------------------+----------------------+


FreeBSD 13.4
	Kernel: 13.4-RELEASE-p1
	Compiler: clang 18.1.6

FreeBSD 14.2
	Kernel: 14.2-RELEASE
	Compiler: clang 18.1.6

Windows Server 2022
	Kernel: 10.0.20348.2031
	Compiler: clang 15.0.7, gcc 14.1.0 (MinGW), and MSVC VS 19.39.33521

To view detailed results, visit:
https://lab.dpdk.org/results/dashboard/tarballs/32502/

UNH-IOL DPDK Community Lab

To manage your email subscriptions, visit: 
https://lab.dpdk.org/results/dashboard/preferences/subscriptions/

^ permalink raw reply	[flat|nested] 9+ messages in thread

* |SUCCESS| [GIT MASTER] 388b1abe291544106e406cb0a200b5b0c96fe599
@ 2025-02-08  4:32 dpdklab
  0 siblings, 0 replies; 9+ messages in thread
From: dpdklab @ 2025-02-08  4:32 UTC (permalink / raw)
  To: Test Report; +Cc: dpdk-test-reports

_Testing PASS_

Branch: dpdk

388b1abe291544106e406cb0a200b5b0c96fe599 --> testing pass

Upstream job id: Windows-Compile-DPDK-Native#26544

Test environment and result as below:

+---------------------+--------------------+-------------------+-------------------------+
|     Environment     | dpdk_meson_compile | dpdk_msvc_compile | dpdk_llvm_clang_compile |
+=====================+====================+===================+=========================+
| FreeBSD 13.4        | PASS               | SKIPPED           | SKIPPED                 |
+---------------------+--------------------+-------------------+-------------------------+
| FreeBSD 14.2        | PASS               | SKIPPED           | SKIPPED                 |
+---------------------+--------------------+-------------------+-------------------------+
| Windows Server 2022 | SKIPPED            | PASS              | PASS                    |
+---------------------+--------------------+-------------------+-------------------------+


FreeBSD 13.4
	Kernel: 13.4-RELEASE-p1
	Compiler: clang 18.1.6

FreeBSD 14.2
	Kernel: 14.2-RELEASE
	Compiler: clang 18.1.6

Windows Server 2022
	Kernel: 10.0.20348.2031
	Compiler: clang 15.0.7, gcc 14.1.0 (MinGW), and MSVC VS 19.39.33521

To view detailed results, visit:
https://lab.dpdk.org/results/dashboard/tarballs/32502/

UNH-IOL DPDK Community Lab

To manage your email subscriptions, visit: 
https://lab.dpdk.org/results/dashboard/preferences/subscriptions/

^ permalink raw reply	[flat|nested] 9+ messages in thread

* |SUCCESS| [GIT MASTER] 388b1abe291544106e406cb0a200b5b0c96fe599
@ 2025-02-08  3:28 dpdklab
  0 siblings, 0 replies; 9+ messages in thread
From: dpdklab @ 2025-02-08  3:28 UTC (permalink / raw)
  To: Test Report; +Cc: dpdk-test-reports

_Testing PASS_

Branch: dpdk

388b1abe291544106e406cb0a200b5b0c96fe599 --> testing pass

Upstream job id: Generic-VM-DPDK-Compile-Meson#33156

Test environment and result as below:

+--------------+--------------------+
| Environment  | dpdk_meson_compile |
+==============+====================+
| FreeBSD 13.4 | PASS               |
+--------------+--------------------+
| FreeBSD 14.2 | PASS               |
+--------------+--------------------+


FreeBSD 13.4
	Kernel: 13.4-RELEASE-p1
	Compiler: clang 18.1.6

FreeBSD 14.2
	Kernel: 14.2-RELEASE
	Compiler: clang 18.1.6

To view detailed results, visit:
https://lab.dpdk.org/results/dashboard/tarballs/32502/

UNH-IOL DPDK Community Lab

To manage your email subscriptions, visit: 
https://lab.dpdk.org/results/dashboard/preferences/subscriptions/

^ permalink raw reply	[flat|nested] 9+ messages in thread

* |SUCCESS| [GIT MASTER] 388b1abe291544106e406cb0a200b5b0c96fe599
@ 2025-02-08  3:21 dpdklab
  0 siblings, 0 replies; 9+ messages in thread
From: dpdklab @ 2025-02-08  3:21 UTC (permalink / raw)
  To: Test Report; +Cc: dpdk-test-reports

_Testing PASS_

Branch: dpdk

388b1abe291544106e406cb0a200b5b0c96fe599 --> testing pass

Upstream job id: Template-DTS-Pipeline#211625

Test environment and result as below:

+--------------------+----------------------+
|    Environment     | compressdev_zlib_pmd |
+====================+======================+
| Ubuntu 22.04 (ARM) | PASS                 |
+--------------------+----------------------+
| Ubuntu 22.04       | PASS                 |
+--------------------+----------------------+


Ubuntu 22.04 (ARM)
	Kernel: 5.15.0-97-generic
	Compiler: gcc gcc (Ubuntu 11.4.0-1ubuntu1~22.04) 11.4.0

Ubuntu 22.04
	Kernel: 5.15.0-100-generic
	Compiler: gcc gcc (Ubuntu 11.4.0-1ubuntu1~22.04) 11.4.0

To view detailed results, visit:
https://lab.dpdk.org/results/dashboard/tarballs/32502/

UNH-IOL DPDK Community Lab

To manage your email subscriptions, visit: 
https://lab.dpdk.org/results/dashboard/preferences/subscriptions/

^ permalink raw reply	[flat|nested] 9+ messages in thread

* |SUCCESS| [GIT MASTER] 388b1abe291544106e406cb0a200b5b0c96fe599
@ 2025-02-08  2:48 dpdklab
  0 siblings, 0 replies; 9+ messages in thread
From: dpdklab @ 2025-02-08  2:48 UTC (permalink / raw)
  To: Test Report; +Cc: dpdk-test-reports

_Functional Testing PASS_

Branch: dpdk

388b1abe291544106e406cb0a200b5b0c96fe599 --> functional testing pass

Upstream job id: Template-DTS-Pipeline#211621

Test environment and result as below:

Ubuntu 22.04
Kernel: 5.15.0-131-generic
Compiler: gcc (Ubuntu 11.4.0-1ubuntu1~22.04) 11.4.0
NIC: Intel Corporation Ethernet Converged Network Adapter 82599ES 10000 Mbps

Aggregate Results by Test Suite
+-----------------------------+--------+
|         Test Suite          | Result |
+=============================+========+
| unit_tests_mbuf             |  PASS  |
+-----------------------------+--------+
| vhost_virtio_user_interrupt |  PASS  |
+-----------------------------+--------+
| virtio_smoke                |  PASS  |
+-----------------------------+--------+


To view detailed results, visit:
https://lab.dpdk.org/results/dashboard/tarballs/32502/

UNH-IOL DPDK Community Lab

To manage your email subscriptions, visit: 
https://lab.dpdk.org/results/dashboard/preferences/subscriptions/

^ permalink raw reply	[flat|nested] 9+ messages in thread

* |SUCCESS| [GIT MASTER] 388b1abe291544106e406cb0a200b5b0c96fe599
@ 2025-02-08  2:42 dpdklab
  0 siblings, 0 replies; 9+ messages in thread
From: dpdklab @ 2025-02-08  2:42 UTC (permalink / raw)
  To: Test Report; +Cc: dpdk-test-reports

_Functional Testing PASS_

Branch: dpdk

388b1abe291544106e406cb0a200b5b0c96fe599 --> functional testing pass

Upstream job id: Template-DTS-Pipeline#211624

Test environment and result as below:

Ubuntu 20.04.6
Kernel: 5.4.105
Compiler: gcc 9.4
NIC: Marvell CN106XX 50000 Mbps
Target: arm64-native-linuxapp-gcc

Aggregate Results by Test Suite
+-----------------+--------+
|   Test Suite    | Result |
+=================+========+
| cmdline         |  PASS  |
+-----------------+--------+
| dynamic_queue   |  PASS  |
+-----------------+--------+
| ipv4_reassembly |  PASS  |
+-----------------+--------+
| rxtx_callbacks  |  PASS  |
+-----------------+--------+
| tso             |  PASS  |
+-----------------+--------+


To view detailed results, visit:
https://lab.dpdk.org/results/dashboard/tarballs/32502/

UNH-IOL DPDK Community Lab

To manage your email subscriptions, visit: 
https://lab.dpdk.org/results/dashboard/preferences/subscriptions/

^ permalink raw reply	[flat|nested] 9+ messages in thread

* |SUCCESS| [GIT MASTER] 388b1abe291544106e406cb0a200b5b0c96fe599
@ 2025-02-08  2:29 dpdklab
  0 siblings, 0 replies; 9+ messages in thread
From: dpdklab @ 2025-02-08  2:29 UTC (permalink / raw)
  To: Test Report; +Cc: dpdk-test-reports

_Testing PASS_

Branch: dpdk

388b1abe291544106e406cb0a200b5b0c96fe599 --> testing pass

Upstream job id: Template-DTS-Pipeline#211626

Test environment and result as below:

+--------------------+----------------------+
|    Environment     | compressdev_zlib_pmd |
+====================+======================+
| Ubuntu 22.04 (ARM) | PASS                 |
+--------------------+----------------------+


Ubuntu 22.04 (ARM)
	Kernel: 5.15.0-97-generic
	Compiler: gcc gcc (Ubuntu 11.4.0-1ubuntu1~22.04) 11.4.0

To view detailed results, visit:
https://lab.dpdk.org/results/dashboard/tarballs/32502/

UNH-IOL DPDK Community Lab

To manage your email subscriptions, visit: 
https://lab.dpdk.org/results/dashboard/preferences/subscriptions/

^ permalink raw reply	[flat|nested] 9+ messages in thread

* |SUCCESS| [GIT MASTER] 388b1abe291544106e406cb0a200b5b0c96fe599
@ 2025-02-08  2:29 dpdklab
  0 siblings, 0 replies; 9+ messages in thread
From: dpdklab @ 2025-02-08  2:29 UTC (permalink / raw)
  To: Test Report, Ali Alnubani; +Cc: dpdk-test-reports

_Performance Testing PASS_

Branch: dpdk

388b1abe291544106e406cb0a200b5b0c96fe599 --> performance testing pass

Upstream job id: Template-DTS-Pipeline#211613

Test environment and result as below:

Ubuntu 24.04
Kernel: 6.8.0-45-generic
Compiler: gcc 13.2.0
NIC: Mellanox ConnectX-6 Lx 25000 Mbps
Fail/Total: 0/6

Detail performance results: 
+------------+---------+----------+-------------+------------------------------+
| frame_size | txd/rxd | num_cpus | num_threads |  throughput difference from  |
|            |         |          |             |           expected           |
+============+=========+==========+=============+==============================+
| 64         | 1024    | 1        | 1           | -0.1%                        |
+------------+---------+----------+-------------+------------------------------+
| 128        | 1024    | 1        | 1           | 0.1%                         |
+------------+---------+----------+-------------+------------------------------+
| 256        | 1024    | 1        | 1           | -0.0%                        |
+------------+---------+----------+-------------+------------------------------+
| 512        | 1024    | 1        | 1           | 0.0%                         |
+------------+---------+----------+-------------+------------------------------+
| 1024       | 1024    | 1        | 1           | 0.1%                         |
+------------+---------+----------+-------------+------------------------------+
| 1518       | 1024    | 1        | 1           | -0.2%                        |
+------------+---------+----------+-------------+------------------------------+

Ubuntu 24.04
Kernel: 6.8.0-45-generic
Compiler: gcc 13.2.0
NIC: NVIDIA Mellanox ConnectX-7 100000 Mbps
Fail/Total: 0/6

Detail performance results: 
+------------+---------+----------+-------------+------------------------------+
| frame_size | txd/rxd | num_cpus | num_threads |  throughput difference from  |
|            |         |          |             |           expected           |
+============+=========+==========+=============+==============================+
| 64         | 1024    | 1        | 1           | 0.3%                         |
+------------+---------+----------+-------------+------------------------------+
| 128        | 1024    | 1        | 1           | -1.5%                        |
+------------+---------+----------+-------------+------------------------------+
| 256        | 1024    | 1        | 1           | 0.7%                         |
+------------+---------+----------+-------------+------------------------------+
| 512        | 1024    | 1        | 1           | 0.0%                         |
+------------+---------+----------+-------------+------------------------------+
| 1024       | 1024    | 1        | 1           | 0.1%                         |
+------------+---------+----------+-------------+------------------------------+
| 1518       | 1024    | 1        | 1           | 0.0%                         |
+------------+---------+----------+-------------+------------------------------+

To view detailed results, visit:
https://lab.dpdk.org/results/dashboard/tarballs/32502/

UNH-IOL DPDK Community Lab

To manage your email subscriptions, visit: 
https://lab.dpdk.org/results/dashboard/preferences/subscriptions/

^ permalink raw reply	[flat|nested] 9+ messages in thread

end of thread, other threads:[~2025-02-08  4:36 UTC | newest]

Thread overview: 9+ messages (download: mbox.gz / follow: Atom feed)
-- links below jump to the message on this page --
2025-02-08  3:37 |SUCCESS| [GIT MASTER] 388b1abe291544106e406cb0a200b5b0c96fe599 dpdklab
  -- strict thread matches above, loose matches on Subject: below --
2025-02-08  4:36 dpdklab
2025-02-08  4:32 dpdklab
2025-02-08  3:28 dpdklab
2025-02-08  3:21 dpdklab
2025-02-08  2:48 dpdklab
2025-02-08  2:42 dpdklab
2025-02-08  2:29 dpdklab
2025-02-08  2:29 dpdklab

This is a public inbox, see mirroring instructions
for how to clone and mirror all data and code used for this inbox;
as well as URLs for NNTP newsgroup(s).