From mboxrd@z Thu Jan 1 00:00:00 1970 Return-Path: Received: from mails.dpdk.org (mails.dpdk.org [217.70.189.124]) by inbox.dpdk.org (Postfix) with ESMTP id 0BA4B461C3 for ; Sat, 8 Feb 2025 04:37:28 +0100 (CET) Received: from mails.dpdk.org (localhost [127.0.0.1]) by mails.dpdk.org (Postfix) with ESMTP id DC30B40280; Sat, 8 Feb 2025 04:37:27 +0100 (CET) Received: from mail-oa1-f99.google.com (mail-oa1-f99.google.com [209.85.160.99]) by mails.dpdk.org (Postfix) with ESMTP id 4A10440279 for ; Sat, 8 Feb 2025 04:37:27 +0100 (CET) Received: by mail-oa1-f99.google.com with SMTP id 586e51a60fabf-2b85f99c485so91990fac.0 for ; Fri, 07 Feb 2025 19:37:27 -0800 (PST) DKIM-Signature: v=1; a=rsa-sha256; c=relaxed/relaxed; d=iol.unh.edu; s=unh-iol; t=1738985846; x=1739590646; darn=dpdk.org; h=cc:to:from:subject:message-id:date:from:to:cc:subject:date :message-id:reply-to; bh=ghjubdIeEgIdpq7A2WjTbTy8gymfF/uLp10e+eZ04lg=; b=JB2HtzT2ulO8r8DUSIDvlUJlCHd01rWjJ88OHyNFwB8teZpYyr+FdEykeJJpzKKepM JKsVUluvph/VKusnVjVYipZiIQU7mSuHrwxfIw9Ps6QKSiWOtiD9X2CyVlmiOJ/cueSl GmPiZB1BmhzbuZTcDqhXMCXDctT7IaW5za19o= X-Google-DKIM-Signature: v=1; a=rsa-sha256; c=relaxed/relaxed; d=1e100.net; s=20230601; t=1738985846; x=1739590646; h=cc:to:from:subject:message-id:date:x-gm-message-state:from:to:cc :subject:date:message-id:reply-to; bh=ghjubdIeEgIdpq7A2WjTbTy8gymfF/uLp10e+eZ04lg=; b=WZ0kHLZbnfgNMuiMy72ARjvJKODS4mFow93Db0g9ndM34sf2/JCjBSYfBvX0nJ6Sv7 KhyhTU836Mo/9QfFX+FXyz2iJqPUGtmdt8X/Affe2tDHd1eHJAoPLDzRTPdv8FAZylhi NVVbYb7de1T9TA/lxK+Zjze4AQebv7tHvhLnBaM6ApGzzJD4imtvN2Rao2nX5tJn0c5r Dzx9Kvz35iL2kyioZMBd5MnryfwE6oyl1wblmeTsBJ3mSqIvILRZa3MGolQzlaQl+rwO gUh/TWGxZUQlKnIwFyuYbK3R+rvvvQaf5VSPsoLbI5vQVNf8x/uMQTE344TqbexKGJ9S Ziqg== X-Gm-Message-State: AOJu0YyEWWyoU5+TkYx0BoXjHO+tonB2NxtBxzCJ4CcfnHiVSh5Fd8OI JVDJ60BLtlMGEowhUoVEhjWCXN2Ut7id0k30bm+/aMBwlXH7RoMwGotLztU31genfjgfZIOwxrw WIKJ1v8OJn5CCkE2ctoyofak3BJ/DuUn/DYcpPRjw X-Gm-Gg: ASbGncuobBgNUtH6TJe9ED9Mk8N64TMPdarffSIZIapnLByFs2f2jrv+iD+MprlyN3a gRCTCjJXa2HQbwPRCDqaH2j17c1te5Nj1nT3mOT0S2feqklxOjoaY3OWsSxqjIhNdPi+7ayCy+E YUZds9dEnl3NkE74Lg2bPDN6OK4O+6SLKT8EjH0VaUrz+3baIaQHaDmJpA7Fe2BDprOf2fpyPLT eHn9U0NXvWR0v4gVLDdZMNKCk15vTcDK1lC+SIxDrZYPEiP7yQRhbHQeQRYocGlG91tbqUw93fX 2l3S5tUfZr5H++jiyo1C2cPXl9RxGw== X-Google-Smtp-Source: AGHT+IHO8c9gDERFM9tQ5Cr+WgeoLWT9HDH+xBzlSNiI3Yxjyhvib8ChIi2HmkMLBhB6oDZaoA4242vkX5jo X-Received: by 2002:a05:6870:5691:b0:29e:5e83:150e with SMTP id 586e51a60fabf-2b83ee2c31dmr3789782fac.27.1738985846249; Fri, 07 Feb 2025 19:37:26 -0800 (PST) Received: from postal.iol.unh.edu (postal.iol.unh.edu. [132.177.123.84]) by smtp-relay.gmail.com with ESMTPS id 586e51a60fabf-2b826027708sm248556fac.24.2025.02.07.19.37.26 (version=TLS1_2 cipher=ECDHE-ECDSA-AES128-GCM-SHA256 bits=128/128); Fri, 07 Feb 2025 19:37:26 -0800 (PST) X-Relaying-Domain: iol.unh.edu Date: Fri, 07 Feb 2025 19:37:26 -0800 (PST) Message-ID: <67a6d176.050a0220.27b5c6.c4d5SMTPIN_ADDED_MISSING@mx.google.com> Received: from [172.21.0.5] (unknown [172.18.0.240]) by postal.iol.unh.edu (Postfix) with ESMTP id 9A4F16052471; Fri, 7 Feb 2025 22:37:24 -0500 (EST) Subject: |SUCCESS| [GIT MASTER] 388b1abe291544106e406cb0a200b5b0c96fe599 From: dpdklab@iol.unh.edu To: Test Report Cc: dpdk-test-reports@iol.unh.edu Content-Type: text/plain X-BeenThere: test-report@dpdk.org X-Mailman-Version: 2.1.29 Precedence: list List-Id: automatic DPDK test reports List-Unsubscribe: , List-Archive: List-Post: List-Help: List-Subscribe: , Errors-To: test-report-bounces@dpdk.org _Testing PASS_ Branch: dpdk 388b1abe291544106e406cb0a200b5b0c96fe599 --> testing pass Upstream job id: Windows-Compile-DPDK-VS#4867 Test environment and result as below: +---------------------+--------------------+-------------------+ | Environment | dpdk_meson_compile | dpdk_msvc_compile | +=====================+====================+===================+ | FreeBSD 13.4 | PASS | SKIPPED | +---------------------+--------------------+-------------------+ | FreeBSD 14.2 | PASS | SKIPPED | +---------------------+--------------------+-------------------+ | Windows Server 2022 | SKIPPED | PASS | +---------------------+--------------------+-------------------+ FreeBSD 13.4 Kernel: 13.4-RELEASE-p1 Compiler: clang 18.1.6 FreeBSD 14.2 Kernel: 14.2-RELEASE Compiler: clang 18.1.6 Windows Server 2022 Kernel: 10.0.20348.2031 Compiler: clang 15.0.7, gcc 14.1.0 (MinGW), and MSVC VS 19.39.33521 To view detailed results, visit: https://lab.dpdk.org/results/dashboard/tarballs/32502/ UNH-IOL DPDK Community Lab To manage your email subscriptions, visit: https://lab.dpdk.org/results/dashboard/preferences/subscriptions/