From mboxrd@z Thu Jan 1 00:00:00 1970 Return-Path: Received: from mails.dpdk.org (mails.dpdk.org [217.70.189.124]) by inbox.dpdk.org (Postfix) with ESMTP id 2F826461C3 for ; Sat, 8 Feb 2025 04:47:42 +0100 (CET) Received: from mails.dpdk.org (localhost [127.0.0.1]) by mails.dpdk.org (Postfix) with ESMTP id 292C6402A1; Sat, 8 Feb 2025 04:47:42 +0100 (CET) Received: from mail-io1-f98.google.com (mail-io1-f98.google.com [209.85.166.98]) by mails.dpdk.org (Postfix) with ESMTP id 3785F40279 for ; Sat, 8 Feb 2025 04:47:41 +0100 (CET) Received: by mail-io1-f98.google.com with SMTP id ca18e2360f4ac-844d7f81dd1so86624839f.2 for ; Fri, 07 Feb 2025 19:47:41 -0800 (PST) DKIM-Signature: v=1; a=rsa-sha256; c=relaxed/relaxed; d=iol.unh.edu; s=unh-iol; t=1738986460; x=1739591260; darn=dpdk.org; h=references:in-reply-to:cc:to:from:subject:message-id:date:from:to :cc:subject:date:message-id:reply-to; bh=TYgUWA5Zu7VREGXeKfuItS4oF9OuYqwW+SUV0wD+hZw=; b=VWFL+QritnbOSGhKsAR3H9cXbo2olBDtUupAzGXVFHswjyVWSMypDLYIN/dgfjr8ZX 4Bq5BNiRhOXI739SccDOGQcfzElmDMon8wNfE2ey3YS2MFmqREyKZQNiD1d9/jmyrBPd qOfjHjmo/8AX8UrA4ozRb6KMZUvvfXpM83bb8= X-Google-DKIM-Signature: v=1; a=rsa-sha256; c=relaxed/relaxed; d=1e100.net; s=20230601; t=1738986460; x=1739591260; h=references:in-reply-to:cc:to:from:subject:message-id:date :x-gm-message-state:from:to:cc:subject:date:message-id:reply-to; bh=TYgUWA5Zu7VREGXeKfuItS4oF9OuYqwW+SUV0wD+hZw=; b=JPzNGXlfp+V3xSnPn14BgcY2cjOXkLTTAeNN798ta+dMrFIu+ekBH3Ha8S5U6XoqPX hRNWv2XrnIe5gXLeab8VXshJacx0CiwR3F4/6Wsx8EEYp2K6+rnwPD9qdnh8+xgg1PNT y0FFh10Qwe84dfuIF2QLsUW1CyoZGasahOgJm13/RASIsdxKGmZEH/pBp77GGaVujxhn 4FzvJTkaRUvtStUPAoOTZw88S8oX6hqq/zIEuXU2hBsKdUrvayqcOJRpkazLL8vNRidZ 9/QNcl3mRZevHpdiC1n3udmvB32xCVY7ACx/9ezbNhDXhTlFVipBzVKZbwCiZOt13b0A vvFQ== X-Gm-Message-State: AOJu0YwVynC2XPQ0VZ2moPOvihXB7+3LCQywqLzcrFzQvWsTMldCd5xC 5nTMAHCE72dAQR8ljdPufY+Qp4NxeQnNy+RCqXBkio83LIartAhwl+YhrvetlJq9J2ZC4Kw6yI4 l7/Dt56v1K/cRgq7WC/2Lth5uuGZFPsr4kO2BZE8Z X-Gm-Gg: ASbGncuGplgzwOm0xzS+0Mv9fU8ui5kqp/F1AUFVBBWuNuxybC2D8sDye9D6yPzLpq7 GRAjiaX/jQS81lPt8fq8kbmhtjqVrhT7ZrhqsAZV1FqTey42bFE55o3Ir9Qs/vKS68h781QEqc8 Hbw8jDrDItu8QtWtrl05AQhs0B1BdH8sXsOj2My4SsU9PQGgT7+yNhlldWtvJe9HB1bhydzyqki msPGenpuxA48MkskEpzKm4Zn0DwhoBcRHMp666MQtzvOhxZBygZUaZZSuYewas6trCKXy29Zgz/ yZkyV4lZFSk2aOmknrUauwcI9WvU9g== X-Google-Smtp-Source: AGHT+IFkuSwHEwPB0VYDyFYlKJCwGost8nrMOHXo0zNe4z9GxEMFUVE08+ZYj6Ur6wEYjgcSfcqVLFfVtsfQ X-Received: by 2002:a05:6602:6a46:b0:844:cbd0:66ca with SMTP id ca18e2360f4ac-854fd8801e8mr574601039f.1.1738986459660; Fri, 07 Feb 2025 19:47:39 -0800 (PST) Received: from postal.iol.unh.edu (postal.iol.unh.edu. [132.177.123.84]) by smtp-relay.gmail.com with ESMTPS id 8926c6da1cb9f-4ece8bdc27csm19717173.50.2025.02.07.19.47.39 (version=TLS1_2 cipher=ECDHE-ECDSA-AES128-GCM-SHA256 bits=128/128); Fri, 07 Feb 2025 19:47:39 -0800 (PST) X-Relaying-Domain: iol.unh.edu Date: Fri, 07 Feb 2025 19:47:39 -0800 (PST) Message-ID: <67a6d3db.050a0220.14125f.0ca0SMTPIN_ADDED_MISSING@mx.google.com> Received: from [172.21.0.5] (unknown [172.18.0.240]) by postal.iol.unh.edu (Postfix) with ESMTP id 318D76052471; Fri, 7 Feb 2025 22:47:39 -0500 (EST) Subject: |SUCCESS| pw151135 [PATCH] [v5,1/1] drivers/net: use 64-bit shift an From: dpdklab@iol.unh.edu To: Test Report Cc: dpdk-test-reports@iol.unh.edu In-Reply-To: <1738950069-21059-2-git-send-email-andremue@linux.microsoft.com> References: <1738950069-21059-2-git-send-email-andremue@linux.microsoft.com> Content-Type: text/plain X-BeenThere: test-report@dpdk.org X-Mailman-Version: 2.1.29 Precedence: list List-Id: automatic DPDK test reports List-Unsubscribe: , List-Archive: List-Post: List-Help: List-Subscribe: , Errors-To: test-report-bounces@dpdk.org Test-Label: iol-unit-arm64-testing Test-Status: SUCCESS http://dpdk.org/patch/151135 _Testing PASS_ Submitter: Andre Muezerie Date: Friday, February 07 2025 17:41:09 DPDK git baseline: Repo:dpdk Branch: master CommitID:cebec711bdc507d1b271b50ea1e696db86a3a202 151135 --> testing pass Upstream job id: Generic-Unit-Test-DPDK#312942 Test environment and result as below: +-----------------------------+--------------+---------------------------+----------------+------------------------------+ | Environment | lpm_autotest | cryptodev_sw_zuc_autotest | dpdk_unit_test | cryptodev_sw_snow3g_autotest | +=============================+==============+===========================+================+==============================+ | Ubuntu 20.04 ARM SVE | PASS | SKIPPED | SKIPPED | SKIPPED | +-----------------------------+--------------+---------------------------+----------------+------------------------------+ | Debian 12 (arm) | SKIPPED | PASS | PASS | PASS | +-----------------------------+--------------+---------------------------+----------------+------------------------------+ | RHEL9 (ARM) | SKIPPED | SKIPPED | PASS | SKIPPED | +-----------------------------+--------------+---------------------------+----------------+------------------------------+ | Fedora 40 (ARM) | SKIPPED | SKIPPED | PASS | SKIPPED | +-----------------------------+--------------+---------------------------+----------------+------------------------------+ | CentOS Stream 9 (ARM) | SKIPPED | SKIPPED | PASS | SKIPPED | +-----------------------------+--------------+---------------------------+----------------+------------------------------+ | Fedora 41 (ARM Clang) | SKIPPED | SKIPPED | PASS | SKIPPED | +-----------------------------+--------------+---------------------------+----------------+------------------------------+ | Fedora 41 (ARM) | SKIPPED | SKIPPED | PASS | SKIPPED | +-----------------------------+--------------+---------------------------+----------------+------------------------------+ | Debian 11 (Buster) (ARM) | SKIPPED | SKIPPED | PASS | SKIPPED | +-----------------------------+--------------+---------------------------+----------------+------------------------------+ | Fedora 40 (ARM Clang) | SKIPPED | SKIPPED | PASS | SKIPPED | +-----------------------------+--------------+---------------------------+----------------+------------------------------+ | Ubuntu 24.04 (ARM) | SKIPPED | SKIPPED | PASS | SKIPPED | +-----------------------------+--------------+---------------------------+----------------+------------------------------+ | Ubuntu 20.04 (ARM) | SKIPPED | SKIPPED | PASS | SKIPPED | +-----------------------------+--------------+---------------------------+----------------+------------------------------+ | Ubuntu 22.04 (ARM) | SKIPPED | SKIPPED | PASS | SKIPPED | +-----------------------------+--------------+---------------------------+----------------+------------------------------+ | 32-bit Ubuntu 22.04.4 (ARM) | SKIPPED | SKIPPED | PASS | SKIPPED | +-----------------------------+--------------+---------------------------+----------------+------------------------------+ Ubuntu 20.04 ARM SVE Kernel: Depends on container host Compiler: gcc (Ubuntu 10.5.0-1ubuntu1~20.04) 10.5.0 Debian 12 (arm) Kernel: Depends on container host Compiler: gcc (Debian 12.2.0-14) 12.2.0 RHEL9 (ARM) Kernel: Depends on container host Compiler: gcc 11.5.0 20240719 (Red Hat 11.5.0-2) Fedora 40 (ARM) Kernel: Depends on container host Compiler: gcc 14.2.1 20240912 (Red Hat 14.2.1-3) CentOS Stream 9 (ARM) Kernel: Depends on container host Compiler: gcc 11.5.0 20240719 (Red Hat 11.5.0-2) Fedora 41 (ARM Clang) Kernel: Depends on container host Compiler: clang 19.1.5 (Fedora 19.1.5-1.fc41) Fedora 41 (ARM) Kernel: Depends on container host Compiler: gcc 14.2.1 20240912 (Red Hat 14.2.1-3) Debian 11 (Buster) (ARM) Kernel: Depends on container host Compiler: gcc (Debian 10.2.1-6) 10.2.1 20210110 Fedora 40 (ARM Clang) Kernel: Depends on container host Compiler: clang 18.1.8 (Fedora 18.1.8-1.fc40) Ubuntu 24.04 (ARM) Kernel: Depends on container host Compiler: gcc (Ubuntu 13.3.0-6ubuntu2~24.04) 13.3.0 Ubuntu 20.04 (ARM) Kernel: Depends on container host Compiler: gcc (Ubuntu 9.4.0-1ubuntu1~20.04.2) 9.4.0 Ubuntu 22.04 (ARM) Kernel: Depends on container host Compiler: gcc (Ubuntu 11.4.0-1ubuntu1~22.04) 11.4.0 32-bit Ubuntu 22.04.4 (ARM) Kernel: 5.15.83+ aarch64 Compiler: gcc (Ubuntu 11.4.0-1ubuntu1~22.04) 11.4.0 To view detailed results, visit: https://lab.dpdk.org/results/dashboard/patchsets/32529/ UNH-IOL DPDK Community Lab To manage your email subscriptions, visit: https://lab.dpdk.org/results/dashboard/preferences/subscriptions/