From mboxrd@z Thu Jan 1 00:00:00 1970 Return-Path: Received: from mails.dpdk.org (mails.dpdk.org [217.70.189.124]) by inbox.dpdk.org (Postfix) with ESMTP id 66DEF461C3 for ; Sat, 8 Feb 2025 04:49:06 +0100 (CET) Received: from mails.dpdk.org (localhost [127.0.0.1]) by mails.dpdk.org (Postfix) with ESMTP id 5F18B40280; Sat, 8 Feb 2025 04:49:06 +0100 (CET) Received: from mail-io1-f100.google.com (mail-io1-f100.google.com [209.85.166.100]) by mails.dpdk.org (Postfix) with ESMTP id 1D64D40279 for ; Sat, 8 Feb 2025 04:49:05 +0100 (CET) Received: by mail-io1-f100.google.com with SMTP id ca18e2360f4ac-854a68f5afcso64979239f.0 for ; Fri, 07 Feb 2025 19:49:05 -0800 (PST) DKIM-Signature: v=1; a=rsa-sha256; c=relaxed/relaxed; d=iol.unh.edu; s=unh-iol; t=1738986544; x=1739591344; darn=dpdk.org; h=references:in-reply-to:cc:to:from:subject:message-id:date:from:to :cc:subject:date:message-id:reply-to; bh=Yj8S+i98OAoSypCOLf6ggeVZo7w9zLx0uppa93s/vBY=; b=C4+lCnoYV1yknDNPAYZe1WJWUo8dUYxNOQ7RzI7sFkhehGFNS0R9XZOLS+5q5t+WhE 0/VcZnLeIA1paHV0uB/Yg5Xkk3D4RE8EH8c6kcW+FjwJaIbCXBqO2VMOi7Dbap8yeLjm v8GtrpEjZ9OCLxZbwl/a4mVBv5wHtBssgz/0E= X-Google-DKIM-Signature: v=1; a=rsa-sha256; c=relaxed/relaxed; d=1e100.net; s=20230601; t=1738986544; x=1739591344; h=references:in-reply-to:cc:to:from:subject:message-id:date :x-gm-message-state:from:to:cc:subject:date:message-id:reply-to; bh=Yj8S+i98OAoSypCOLf6ggeVZo7w9zLx0uppa93s/vBY=; b=C2eeI1LlWVWv8BUjwAnaNYxJgyiki5XKARl1Nr4Dz+boInLuUC0z/3ok+YLVVT0yL8 eKV0gpvZVxKK/p6K7QP6Fg60cb6N0i9M/x1shs3Kk5nacDpRcpulc17si1uhezKMR09K uGOWf5eQxnCDir+GD78yqeFZyOd+exELBFHYMfGE7WoK8aBk+spkxeVPnqv3hoGT3xXj PkpcpC8/RYVTUm/WogJTvKpQsBzXNYt4xHUT5CQLclrgxkOtSDTBBxWluDGBjNI9wqto F2TSbkd7F5CwF3oR42Chwz/zYSvInr1rpkNNAdejRtED/AHkOL6BNFLl3ybag54M1NQ4 jGWQ== X-Gm-Message-State: AOJu0YwjoBYpqkpHutZ3VdfN0gj/7Q7NG9zEaEiSu0yfXEWtxCFRfix8 LWnXUTTkbNrqAqzlwlcoVZy+CQxt32hD6O4Fg/PWRjo/ZQhR9Lfd4Q/r/kexAYOe3W4Ag6aqyso APOkV2iEILkH+zw/EXphk1Ce44au/EQje548AdD8j X-Gm-Gg: ASbGnctsa6dAqyDaF8HuQDkWyUs5xH377eG+TqCYTcCPx7vDPsdgSYPPTEOD88WZ0PK cMp0Qu/m++rmj1OOsd0b/wrDe31vuNjhnw0X7VHMKc7xeraHG3Etc16EIeH2MdDycueMKd4ZzYP X7z4GdW0eihVMKiYWEtaKlZA6IpM8yWjlQP95oKips6f3f5RhHlJF0Y5YwrUzNQ+eI7qTBZ6Ox5 e4xgqMycuARRNcOgdS9PKLXkqNt2iN9+BOciXJcBeev4m01t2VWLjqtivCeZn8Mxn5/vdTZ6S2L 9sE9pFz8Wgzs+yv91vE2aoDtBbwXNw== X-Google-Smtp-Source: AGHT+IErU5DzdHaGhz+NDowaZP3VPNZcAWV2eTN+oq0h1fjYGF9M6h9KBJ5RCsCsDb5gnDgbN7jag2N2dpne X-Received: by 2002:a05:6602:3a85:b0:841:a678:de3f with SMTP id ca18e2360f4ac-854fd78f810mr538651139f.0.1738986544444; Fri, 07 Feb 2025 19:49:04 -0800 (PST) Received: from postal.iol.unh.edu (postal.iol.unh.edu. [132.177.123.84]) by smtp-relay.gmail.com with ESMTPS id ca18e2360f4ac-854f669aceasm28632639f.13.2025.02.07.19.49.04 (version=TLS1_2 cipher=ECDHE-ECDSA-AES128-GCM-SHA256 bits=128/128); Fri, 07 Feb 2025 19:49:04 -0800 (PST) X-Relaying-Domain: iol.unh.edu Date: Fri, 07 Feb 2025 19:49:04 -0800 (PST) Message-ID: <67a6d430.050a0220.268bfa.ea4cSMTPIN_ADDED_MISSING@mx.google.com> Received: from [172.21.0.6] (unknown [172.18.0.240]) by postal.iol.unh.edu (Postfix) with ESMTP id D7A636052471; Fri, 7 Feb 2025 22:48:33 -0500 (EST) Subject: |SUCCESS| pw151141 [PATCH] net/mana: use mana_local_data for trackin From: dpdklab@iol.unh.edu To: Test Report Cc: dpdk-test-reports@iol.unh.edu In-Reply-To: <1738970505-7864-1-git-send-email-longli@linuxonhyperv.com> References: <1738970505-7864-1-git-send-email-longli@linuxonhyperv.com> Content-Type: text/plain X-BeenThere: test-report@dpdk.org X-Mailman-Version: 2.1.29 Precedence: list List-Id: automatic DPDK test reports List-Unsubscribe: , List-Archive: List-Post: List-Help: List-Subscribe: , Errors-To: test-report-bounces@dpdk.org Test-Label: iol-compile-amd64-testing Test-Status: SUCCESS http://dpdk.org/patch/151141 _Testing PASS_ Submitter: Long Li Date: Friday, February 07 2025 23:21:45 DPDK git baseline: Repo:dpdk Branch: master CommitID:b82daa7d47bda76b3879ef6d715b2d3eb737793f 151141 --> testing pass Upstream job id: Windows-Compile-DPDK-VS#4868 Test environment and result as below: +---------------------+--------------------+-------------------+ | Environment | dpdk_meson_compile | dpdk_msvc_compile | +=====================+====================+===================+ | FreeBSD 13.4 | PASS | SKIPPED | +---------------------+--------------------+-------------------+ | FreeBSD 14.2 | PASS | SKIPPED | +---------------------+--------------------+-------------------+ | Windows Server 2022 | SKIPPED | PASS | +---------------------+--------------------+-------------------+ FreeBSD 13.4 Kernel: 13.4-RELEASE-p1 Compiler: clang 18.1.6 FreeBSD 14.2 Kernel: 14.2-RELEASE Compiler: clang 18.1.6 Windows Server 2022 Kernel: 10.0.20348.2031 Compiler: clang 15.0.7, gcc 14.1.0 (MinGW), and MSVC VS 19.39.33521 To view detailed results, visit: https://lab.dpdk.org/results/dashboard/patchsets/32533/ UNH-IOL DPDK Community Lab To manage your email subscriptions, visit: https://lab.dpdk.org/results/dashboard/preferences/subscriptions/