From mboxrd@z Thu Jan 1 00:00:00 1970 Return-Path: Received: from mails.dpdk.org (mails.dpdk.org [217.70.189.124]) by inbox.dpdk.org (Postfix) with ESMTP id D1DC0461C3 for ; Sat, 8 Feb 2025 05:13:16 +0100 (CET) Received: from mails.dpdk.org (localhost [127.0.0.1]) by mails.dpdk.org (Postfix) with ESMTP id A83C740280; Sat, 8 Feb 2025 05:13:16 +0100 (CET) Received: from mail-pl1-f225.google.com (mail-pl1-f225.google.com [209.85.214.225]) by mails.dpdk.org (Postfix) with ESMTP id 5096240279 for ; Sat, 8 Feb 2025 05:13:15 +0100 (CET) Received: by mail-pl1-f225.google.com with SMTP id d9443c01a7336-21f710c17baso849085ad.1 for ; Fri, 07 Feb 2025 20:13:15 -0800 (PST) DKIM-Signature: v=1; a=rsa-sha256; c=relaxed/relaxed; d=iol.unh.edu; s=unh-iol; t=1738987994; x=1739592794; darn=dpdk.org; h=references:in-reply-to:cc:to:from:subject:message-id:date:from:to :cc:subject:date:message-id:reply-to; bh=e9qPDufKwJ2D829rkwtE2gLLoHhqJVh73tXcfpjyJ6U=; b=FEjDqUnXrrtFJvgvfmFOvsje365o3ArahkxauxRqNvvUKycugOtTBWaguLJ8oiaBxN vfpZZ/7wWyQeEx/VmEcQdlImTrrKFyLuxyiVv9wvhRY8lcLMxbBntfhqCnQr7zFq4ICB nGAJ9cPw0dPsjOkQITqpB+shfq6G/zIvg8euc= X-Google-DKIM-Signature: v=1; a=rsa-sha256; c=relaxed/relaxed; d=1e100.net; s=20230601; t=1738987994; x=1739592794; h=references:in-reply-to:cc:to:from:subject:message-id:date :x-gm-message-state:from:to:cc:subject:date:message-id:reply-to; bh=e9qPDufKwJ2D829rkwtE2gLLoHhqJVh73tXcfpjyJ6U=; b=RkJV4wHC38y2aUAd6X6G9JET0mPSezL5o82UCMxtNtPWQpql8hQ51+E9NONG8epna4 cA/cifsLK9JBOC1QFPJjKuQCoA3fdZrMzNg5qcjne7MpZCX/NRAcKh+BBwa91HcOuPZd RwQ/rcJcfPM9HMGxn9TEREeibuEvD1GZ7lEOwFy/Uld2QH4TUl5ATuv0M7kyeF5rKKP/ ShLG4PxzNMbft3xdJ7umb3EAzEPgCBR0IOqf+Fuz99k8uzJ2RxATscRsXoHax1jP+AhA Wn5ZTFrcXQEJXl5Zs9HunUY8k6XDs4MdamtUMU9uQwTMU+eCQWiGniO9zjntNHeJcqX8 PsIw== X-Gm-Message-State: AOJu0YyeXd0IFpxdZGa+grqyqX8I5l4n5WtEPJZ4436V7DZaDNk+gavU RMgQ1P9+X2X7x3M7fCvo2SDEGE0xAoM9uyRIAEGs4HupkXi1rcJlbrncQUelDUtWIuQ+MEudrGh kSha44fmx+BSjSXoKXPRXNOriwuJ5yA60p6/gPS0i X-Gm-Gg: ASbGnct45puGn8xo0fcbU44IvfA/LF/NsgVZ0f/ppCxl2CeQ7/TrNLf21+Ux4+EkjD3 12PDkaIeXJhcM/n67IbR7uDIn7f+cxn83Z7M0l06CfSz0zDZHXDhlwJBkSBBrh7ltOYtCGDGmA/ 9BF6soqP/rL+eyA+N2PSqoZfDYDWULYGq1L17j+758mYKuN3UEVmXKqE5aZ282D65lx2La0ggGI OOZTOusNWKqPvBiz5DLmNUaHjwpjQSpym6Taxb+ibptAkMEdLzoP3KiSLIbBzST3KBsA9vKTFsL KVl92pq0qhNb+Wm2Jfy4JVDX5GRTiw== X-Google-Smtp-Source: AGHT+IGZsRnfE5Yd3CAgBXE3ACKBCLV9vHK3pYvNscRgF7EjklQz2+tMT7CSiFiaYHC6iDDJIEp8urwl1INv X-Received: by 2002:a17:903:1381:b0:215:e98c:c5c1 with SMTP id d9443c01a7336-21f4e70b123mr97253475ad.30.1738987994274; Fri, 07 Feb 2025 20:13:14 -0800 (PST) Received: from postal.iol.unh.edu (postal.iol.unh.edu. [132.177.123.84]) by smtp-relay.gmail.com with ESMTPS id d9443c01a7336-21f3653b0absm2670265ad.34.2025.02.07.20.13.14 (version=TLS1_2 cipher=ECDHE-ECDSA-AES128-GCM-SHA256 bits=128/128); Fri, 07 Feb 2025 20:13:14 -0800 (PST) X-Relaying-Domain: iol.unh.edu Date: Fri, 07 Feb 2025 20:13:14 -0800 (PST) Message-ID: <67a6d9da.170a0220.1388aa.db59SMTPIN_ADDED_MISSING@mx.google.com> Received: from [172.21.0.5] (unknown [172.18.0.240]) by postal.iol.unh.edu (Postfix) with ESMTP id 8B18F6052472; Fri, 7 Feb 2025 23:13:11 -0500 (EST) Subject: |SUCCESS| pw151136 [PATCH] [v5] net: add thread-safe crc api From: dpdklab@iol.unh.edu To: Test Report Cc: dpdk-test-reports@iol.unh.edu In-Reply-To: <20250207182443.9775-1-arkadiuszx.kusztal@intel.com> References: <20250207182443.9775-1-arkadiuszx.kusztal@intel.com> Content-Type: text/plain X-BeenThere: test-report@dpdk.org X-Mailman-Version: 2.1.29 Precedence: list List-Id: automatic DPDK test reports List-Unsubscribe: , List-Archive: List-Post: List-Help: List-Subscribe: , Errors-To: test-report-bounces@dpdk.org Test-Label: iol-compile-amd64-testing Test-Status: SUCCESS http://dpdk.org/patch/151136 _Testing PASS_ Submitter: Arkadiusz Kusztal Date: Friday, February 07 2025 18:24:43 DPDK git baseline: Repo:dpdk Branch: master CommitID:7125636162d67b1c40ba6802a3ff4466d125d243 151136 --> testing pass Upstream job id: Windows-Compile-DPDK-Native#26540 Test environment and result as below: +---------------------+--------------------+-------------------+-------------------------+ | Environment | dpdk_meson_compile | dpdk_msvc_compile | dpdk_llvm_clang_compile | +=====================+====================+===================+=========================+ | FreeBSD 13.4 | PASS | SKIPPED | SKIPPED | +---------------------+--------------------+-------------------+-------------------------+ | FreeBSD 14.2 | PASS | SKIPPED | SKIPPED | +---------------------+--------------------+-------------------+-------------------------+ | Windows Server 2022 | SKIPPED | PASS | PASS | +---------------------+--------------------+-------------------+-------------------------+ FreeBSD 13.4 Kernel: 13.4-RELEASE-p1 Compiler: clang 18.1.6 FreeBSD 14.2 Kernel: 14.2-RELEASE Compiler: clang 18.1.6 Windows Server 2022 Kernel: 10.0.20348.2031 Compiler: clang 15.0.7, gcc 14.1.0 (MinGW), and MSVC VS 19.39.33521 To view detailed results, visit: https://lab.dpdk.org/results/dashboard/patchsets/32530/ UNH-IOL DPDK Community Lab To manage your email subscriptions, visit: https://lab.dpdk.org/results/dashboard/preferences/subscriptions/