From mboxrd@z Thu Jan 1 00:00:00 1970 Return-Path: Received: from mails.dpdk.org (mails.dpdk.org [217.70.189.124]) by inbox.dpdk.org (Postfix) with ESMTP id CF1D3461C3 for ; Sat, 8 Feb 2025 05:22:35 +0100 (CET) Received: from mails.dpdk.org (localhost [127.0.0.1]) by mails.dpdk.org (Postfix) with ESMTP id A827B40280; Sat, 8 Feb 2025 05:22:35 +0100 (CET) Received: from mail-pj1-f100.google.com (mail-pj1-f100.google.com [209.85.216.100]) by mails.dpdk.org (Postfix) with ESMTP id 31C1440279 for ; Sat, 8 Feb 2025 05:22:34 +0100 (CET) Received: by mail-pj1-f100.google.com with SMTP id 98e67ed59e1d1-2fa2c456816so1751375a91.1 for ; Fri, 07 Feb 2025 20:22:34 -0800 (PST) DKIM-Signature: v=1; a=rsa-sha256; c=relaxed/relaxed; d=iol.unh.edu; s=unh-iol; t=1738988553; x=1739593353; darn=dpdk.org; h=references:in-reply-to:cc:to:from:subject:message-id:date:from:to :cc:subject:date:message-id:reply-to; bh=cgovaqvrmMKoTBTRcK8v+rbTXnjijPvmAc+cMlG6b34=; b=gAZWGBchd1E6bMTvZTlNJGcjCSbfmbuSXGh+fX+JFgvutRfnsQalSY/WltFOzO+kAN pLZveW6hKVp18+3MCQZwzz5mKdmw945ye3vzYrQs3W+w1oMwlepvbM8rPs2KSMwpf1vo xxuVzXcx6YCrLVtxCtdFwtEUCsCLsHUfQTebs= X-Google-DKIM-Signature: v=1; a=rsa-sha256; c=relaxed/relaxed; d=1e100.net; s=20230601; t=1738988553; x=1739593353; h=references:in-reply-to:cc:to:from:subject:message-id:date :x-gm-message-state:from:to:cc:subject:date:message-id:reply-to; bh=cgovaqvrmMKoTBTRcK8v+rbTXnjijPvmAc+cMlG6b34=; b=qyTgrw/Yd6wfvPf/dRUG1h4KVeD2ksyDg2zfukgk7BhnJA7zH0ivimIMNa4Cjzg3PT 7Txf802+BCiD2nUvMlZsTciPh7hGClsAbeqY5pUy+YzZXFKSs2zJ2nl9rqXmh2EHwC6e 7+tSn3qAVApN/VWjb8PMa2hhrZXFIRYDBsEJ4loq6xgH7vljW02gXLkBBDbQDS5aRqSO zSL+UdI9Ku2yKgf3bNSfNvLCPRlqZD1jY3JXOeoeORjzwtHbvwdoRGRZAYWVFk/c700T ZLS/p2tmklmUdzcn2iNMGgmk8569RvWXIAP7jJtj485ks5deAeolu9j14WQC/9dxy21L P+5g== X-Gm-Message-State: AOJu0Yy8SZklsW4nSPKkDNRo8srzfMynO0LblIbGxSpUHjOJ6R43wViR R4WaG5OtMREUe/+hwQZ/cmAb28Wk3aREtQlbCh9OhU8fcoBiIX8uPcGNj0j+tsUZL0cO+ppYzqO pxk/Lco9UC6MaPTFDuDqW+MSIhhq4zOW3q0bcdTb6 X-Gm-Gg: ASbGncsy8CwU1altsS0Rx+Kero3PaMxrqVefbV2AIsJRID4IV4+X+lQ4X86Szmiz49H BYqMimWWfHjECu++Vy5fnBpXrKJPTxf5bIdyHeKuOkmTB1IyqSjcG1/NOaTsufjb6ZmgtUQFQqw RgQl9P7wwyPdwLkAE3meYvv1hSk+oW9IWI9yZrskkZd0gPQnRK+rE5Fr1oR/BHyLR5Yvv3GWFja kTOrlqRiA/7eScbShS2Jc9PoSj1A84o5OCYTVdoelmyfIehAJPtCbURuqlSUcMURaZ0NLiyHHmB kEJTWhwDMzjXW4thTch1k7v9tFf0SA== X-Google-Smtp-Source: AGHT+IGjSfngq3jrM581yGVMQwm93S73hSEZ8YY3g/dQYBQvG3nJYnRDbKARbURG2WKZLzhzD+dNL1CVqP0h X-Received: by 2002:a05:6a00:c86:b0:725:e73c:c415 with SMTP id d2e1a72fcca58-7305d505ad8mr9952811b3a.18.1738988553196; Fri, 07 Feb 2025 20:22:33 -0800 (PST) Received: from postal.iol.unh.edu (postal.iol.unh.edu. [132.177.123.84]) by smtp-relay.gmail.com with ESMTPS id d2e1a72fcca58-73048adab88sm241471b3a.10.2025.02.07.20.22.33 (version=TLS1_2 cipher=ECDHE-ECDSA-AES128-GCM-SHA256 bits=128/128); Fri, 07 Feb 2025 20:22:33 -0800 (PST) X-Relaying-Domain: iol.unh.edu Date: Fri, 07 Feb 2025 20:22:33 -0800 (PST) Message-ID: <67a6dc09.a70a0220.1e289c.c959SMTPIN_ADDED_MISSING@mx.google.com> Received: from [172.21.0.5] (unknown [172.18.0.240]) by postal.iol.unh.edu (Postfix) with ESMTP id 267476052471; Fri, 7 Feb 2025 23:22:02 -0500 (EST) Subject: |SUCCESS| pw151138-151140 [PATCH] [v1,3/3] net/intel: add Tx time qu From: dpdklab@iol.unh.edu To: Test Report Cc: dpdk-test-reports@iol.unh.edu In-Reply-To: <20250207124300.1022523-4-soumyadeep.hore@intel.com> References: <20250207124300.1022523-4-soumyadeep.hore@intel.com> Content-Type: text/plain X-BeenThere: test-report@dpdk.org X-Mailman-Version: 2.1.29 Precedence: list List-Id: automatic DPDK test reports List-Unsubscribe: , List-Archive: List-Post: List-Help: List-Subscribe: , Errors-To: test-report-bounces@dpdk.org Test-Label: iol-compile-amd64-testing Test-Status: SUCCESS http://dpdk.org/patch/151140 _Testing PASS_ Submitter: Soumyadeep Hore Date: Friday, February 07 2025 12:43:00 DPDK git baseline: Repo:dpdk Branch: master CommitID:cebec711bdc507d1b271b50ea1e696db86a3a202 151138-151140 --> testing pass Upstream job id: Windows-Compile-DPDK-Native#26542 Test environment and result as below: +---------------------+--------------------+-------------------+-------------------------+ | Environment | dpdk_meson_compile | dpdk_msvc_compile | dpdk_llvm_clang_compile | +=====================+====================+===================+=========================+ | FreeBSD 13.4 | PASS | SKIPPED | SKIPPED | +---------------------+--------------------+-------------------+-------------------------+ | FreeBSD 14.2 | PASS | SKIPPED | SKIPPED | +---------------------+--------------------+-------------------+-------------------------+ | Windows Server 2022 | SKIPPED | PASS | PASS | +---------------------+--------------------+-------------------+-------------------------+ FreeBSD 13.4 Kernel: 13.4-RELEASE-p1 Compiler: clang 18.1.6 FreeBSD 14.2 Kernel: 14.2-RELEASE Compiler: clang 18.1.6 Windows Server 2022 Kernel: 10.0.20348.2031 Compiler: clang 15.0.7, gcc 14.1.0 (MinGW), and MSVC VS 19.39.33521 To view detailed results, visit: https://lab.dpdk.org/results/dashboard/patchsets/32532/ UNH-IOL DPDK Community Lab To manage your email subscriptions, visit: https://lab.dpdk.org/results/dashboard/preferences/subscriptions/