From mboxrd@z Thu Jan 1 00:00:00 1970 Return-Path: Received: from mails.dpdk.org (mails.dpdk.org [217.70.189.124]) by inbox.dpdk.org (Postfix) with ESMTP id 45339461C3 for ; Sat, 8 Feb 2025 05:26:45 +0100 (CET) Received: from mails.dpdk.org (localhost [127.0.0.1]) by mails.dpdk.org (Postfix) with ESMTP id 3D9FD40280; Sat, 8 Feb 2025 05:26:45 +0100 (CET) Received: from mail-il1-f226.google.com (mail-il1-f226.google.com [209.85.166.226]) by mails.dpdk.org (Postfix) with ESMTP id 1F7E740279 for ; Sat, 8 Feb 2025 05:26:44 +0100 (CET) Received: by mail-il1-f226.google.com with SMTP id e9e14a558f8ab-3d149f4c64aso2228715ab.0 for ; Fri, 07 Feb 2025 20:26:44 -0800 (PST) DKIM-Signature: v=1; a=rsa-sha256; c=relaxed/relaxed; d=iol.unh.edu; s=unh-iol; t=1738988803; x=1739593603; darn=dpdk.org; h=references:in-reply-to:cc:to:from:subject:message-id:date:from:to :cc:subject:date:message-id:reply-to; bh=Ge97EvCCU0vovrRpzQIPGgaWAEnNJIqzleDWAd3ZqGU=; b=ApXD0FESSFuVvqlf1lP//lbVA68lXMVALzcA+E9KxbX/jPk0YxpJf3rmS23JQaEVuM oKvDxPL83qdiCPImjeg6dC8exEK+getCBZ0lYc1I34AetdaCOHbwkMv2HCS/QgPCnT4G JL+Vz2L4nkM3vzBOC0QeXnBQ5Z9q44ZZeweAU= X-Google-DKIM-Signature: v=1; a=rsa-sha256; c=relaxed/relaxed; d=1e100.net; s=20230601; t=1738988803; x=1739593603; h=references:in-reply-to:cc:to:from:subject:message-id:date :x-gm-message-state:from:to:cc:subject:date:message-id:reply-to; bh=Ge97EvCCU0vovrRpzQIPGgaWAEnNJIqzleDWAd3ZqGU=; b=G9kWT1JFCKQ32m9N2069+IkJq4bxvwToXy+LWLF0nKy+oG5wIRan9ti14EyvH0s84A HGJ4Q1e9qj+OljjGRPTXdZBBzx+dyQz8uhEXRqIHVCWN4RNVohSUiPi5c9WbZJNEaKBT 8CUscWpQFVRimzsNKzNYWTNEEb+3hqD+Rc3QaQeMAmeF7Ww8X71hRcDtC7DhtJIFCWrq Ef/sBDETqvZf6tNZycod/E4JQxZNx0h+71fPI16EIBlFQDaGl6roGv+QdDLTdioRqwCB 6g+Uer4b7OcX78V1duykCsFKSvYCkvs7d73CTPIIsenk+5bm4PR4oNAzLxkaXzRvq22w IHpA== X-Gm-Message-State: AOJu0Yw0zhNU7uFEwhONrvnh0yGXwko5qB/sGKppQ4GHfRDk2vjnNmAh mitMq6T96qGRG4FI6LWTLhtmBGbDMR4k/y5ScejYAigNKg8R4SZ/2Hz6KhTWyUUghriRklWwkfE NWqhj8J8rC2VY9LXX81C2NViBmfobAL7jmCLzitT4 X-Gm-Gg: ASbGncsjX3WH0pV9N34wInu0K7HgnQZd9RgM+EtYdiW5IhE7zMB3Wh/Zkgvz6dycibx 5Ch+HcYYINpbwqvriMSEJNzrpjjKC3S7ZvcEsI+W7FBOI0a8yVdzFWHamHZhTXKOOMSakmkRNXE s7r2RbkE3RVb7fjkcvL+eOqs8MHZUYSrKpXhhGxQU0vKpezH0T8TMszgsn+WOazj1fa8Fs3pO5g ZULay/aulsnOAmjTmakdDLO1gBk0j0Uv4A6kks+r6ZLzlOmA8ZnGDB3T7qTpDdKvo4DzUitVBTN XthzTFH3OCNrassfo87P5XBikyVFgQ== X-Google-Smtp-Source: AGHT+IFy3oNczBgGPdrLOYuLHbnYqqYycNxy6HQzbN2G2tiQDbNpME1+FbFzQUYZm8PiyWkrH3b0Vg6n/aRx X-Received: by 2002:a05:6e02:378f:b0:3d0:24c0:bd37 with SMTP id e9e14a558f8ab-3d13de87a06mr44201855ab.11.1738988803437; Fri, 07 Feb 2025 20:26:43 -0800 (PST) Received: from postal.iol.unh.edu (postal.iol.unh.edu. [132.177.123.84]) by smtp-relay.gmail.com with ESMTPS id e9e14a558f8ab-3d148395784sm1273995ab.39.2025.02.07.20.26.43 (version=TLS1_2 cipher=ECDHE-ECDSA-AES128-GCM-SHA256 bits=128/128); Fri, 07 Feb 2025 20:26:43 -0800 (PST) X-Relaying-Domain: iol.unh.edu Date: Fri, 07 Feb 2025 20:26:43 -0800 (PST) Message-ID: <67a6dd03.050a0220.3215ee.5fe4SMTPIN_ADDED_MISSING@mx.google.com> Received: from [172.21.0.5] (unknown [172.18.0.240]) by postal.iol.unh.edu (Postfix) with ESMTP id E1E586052471; Fri, 7 Feb 2025 23:26:42 -0500 (EST) Subject: |SUCCESS| pw151138-151140 [PATCH] [v1,3/3] net/intel: add Tx time qu From: dpdklab@iol.unh.edu To: Test Report Cc: dpdk-test-reports@iol.unh.edu In-Reply-To: <20250207124300.1022523-4-soumyadeep.hore@intel.com> References: <20250207124300.1022523-4-soumyadeep.hore@intel.com> Content-Type: text/plain X-BeenThere: test-report@dpdk.org X-Mailman-Version: 2.1.29 Precedence: list List-Id: automatic DPDK test reports List-Unsubscribe: , List-Archive: List-Post: List-Help: List-Subscribe: , Errors-To: test-report-bounces@dpdk.org Test-Label: iol-compile-amd64-testing Test-Status: SUCCESS http://dpdk.org/patch/151140 _Testing PASS_ Submitter: Soumyadeep Hore Date: Friday, February 07 2025 12:43:00 DPDK git baseline: Repo:dpdk Branch: master CommitID:cebec711bdc507d1b271b50ea1e696db86a3a202 151138-151140 --> testing pass Upstream job id: Windows-Compile-DPDK-Native#26543 Test environment and result as below: +---------------------+--------------------+-------------------+-------------------------+----------------------+ | Environment | dpdk_meson_compile | dpdk_msvc_compile | dpdk_llvm_clang_compile | dpdk_mingw64_compile | +=====================+====================+===================+=========================+======================+ | FreeBSD 13.4 | PASS | SKIPPED | SKIPPED | SKIPPED | +---------------------+--------------------+-------------------+-------------------------+----------------------+ | FreeBSD 14.2 | PASS | SKIPPED | SKIPPED | SKIPPED | +---------------------+--------------------+-------------------+-------------------------+----------------------+ | Windows Server 2022 | SKIPPED | PASS | PASS | PASS | +---------------------+--------------------+-------------------+-------------------------+----------------------+ FreeBSD 13.4 Kernel: 13.4-RELEASE-p1 Compiler: clang 18.1.6 FreeBSD 14.2 Kernel: 14.2-RELEASE Compiler: clang 18.1.6 Windows Server 2022 Kernel: 10.0.20348.2031 Compiler: clang 15.0.7, gcc 14.1.0 (MinGW), and MSVC VS 19.39.33521 To view detailed results, visit: https://lab.dpdk.org/results/dashboard/patchsets/32532/ UNH-IOL DPDK Community Lab To manage your email subscriptions, visit: https://lab.dpdk.org/results/dashboard/preferences/subscriptions/