From mboxrd@z Thu Jan 1 00:00:00 1970 Return-Path: Received: from mails.dpdk.org (mails.dpdk.org [217.70.189.124]) by inbox.dpdk.org (Postfix) with ESMTP id 32590461C3 for ; Sat, 8 Feb 2025 05:32:52 +0100 (CET) Received: from mails.dpdk.org (localhost [127.0.0.1]) by mails.dpdk.org (Postfix) with ESMTP id 0553640280; Sat, 8 Feb 2025 05:32:52 +0100 (CET) Received: from mail-il1-f226.google.com (mail-il1-f226.google.com [209.85.166.226]) by mails.dpdk.org (Postfix) with ESMTP id 8207740279 for ; Sat, 8 Feb 2025 05:32:50 +0100 (CET) Received: by mail-il1-f226.google.com with SMTP id e9e14a558f8ab-3ce87d31480so8511515ab.2 for ; Fri, 07 Feb 2025 20:32:50 -0800 (PST) DKIM-Signature: v=1; a=rsa-sha256; c=relaxed/relaxed; d=iol.unh.edu; s=unh-iol; t=1738989170; x=1739593970; darn=dpdk.org; h=cc:to:from:subject:message-id:date:from:to:cc:subject:date :message-id:reply-to; bh=b7E/zoAOx8+HQUPefhpxrpI+57Wsd+MnNsfq7GvmG2g=; b=V4Eel6bi1ZgAC56OUzDD59fsIvpW9yn/oqO5qX/tg/9Vm+1svkKsj5HkVNi8vUSlT6 zqMfR1akIlLWSMete65bUs6O/L1lC4fofQDzGhWn4xLnXiGzsA1Yw0A+9VYFldEwqDFY LjIa+oLTyw3fDUmkHfuy0FZd3LmKvSQoT2wH0= X-Google-DKIM-Signature: v=1; a=rsa-sha256; c=relaxed/relaxed; d=1e100.net; s=20230601; t=1738989170; x=1739593970; h=cc:to:from:subject:message-id:date:x-gm-message-state:from:to:cc :subject:date:message-id:reply-to; bh=b7E/zoAOx8+HQUPefhpxrpI+57Wsd+MnNsfq7GvmG2g=; b=punJY1oMPbiQvVzcEWvH1eI9tGd8IlI9aFgEjskiEwHvwxAF4I43iroaByx1zfDV2d RI/LSMoZ8kHBaqoyO9whNPklCHkWp/SRzdFka6bM0lkP5zZG/bUwDArLEDZn6WqNiw5R fg+4RKzp1k5dnnosqc/kg9/DC/aupdL4Z5jO73cjq2cD2ceiCMmIQIF0B/MkwzM71Qc8 L5GacrsfiHwLgCraisOSeCn7WAbMrhChJStFOZFx6/7cAEKBEoaBGA1R+/WGtZQZ+72a AO25D34pfEQcMK/gr8UOOFHXcGoRVW4cLiQBm3p1Vds9XlRA6cHY8laET4WZynfK7ycM LOFA== X-Gm-Message-State: AOJu0Yz3OCIHD+WkNeqyLdiH0HADDF8jAajha577RwWQTEAwmzhTXg+T huD4qrUHxTWwP46yqL21XOm5nUWisrTC2KblX5Pe/MBurP0QsLSEHEoZIhkP9IHwUlRqVm9fZks cZ1fphgPzth4lEy91BO1K9B2IQgkbBFYlnCtx2thC X-Gm-Gg: ASbGncvryonwnl2rfES2u0zJovg50hd92s9ep3fvel2M4NugbCjFvQrvAMYnwn8hFo8 vFECK3RbnmY3ewoUqU9iZp0b2649QM+Nr3i7VNzff6wwJSyXKPZRTaIhcmPtDC1V+SQYuMdI5QU /hTg12h6p+wEqwjAwCoxfCxJcg3mrKr2R1AS42GdKGXFQgyI3GYuKZEtCBY3KeNvA6w3IhZhy1U t860ixIjwhtl6tkCtn/HKNnzrjErpJoLUpwCN4kTFkpbisfHkQqpNuYp9+E9UkGhi1v6jq7CiJ3 n2AWVsbBLSe6+XZrQJf+ruGkjS0uVA== X-Google-Smtp-Source: AGHT+IFPF6hK2vhuaaPL8c5JcRbTvAPywOIiTOOG93cFThvFzCBusQJ1VLkv7YnbQJgDqkZt7J1wlwn5a0CK X-Received: by 2002:a05:6e02:b29:b0:3ce:5af3:79d5 with SMTP id e9e14a558f8ab-3d13dd0b071mr42046115ab.6.1738989169756; Fri, 07 Feb 2025 20:32:49 -0800 (PST) Received: from postal.iol.unh.edu (postal.iol.unh.edu. [132.177.123.84]) by smtp-relay.gmail.com with ESMTPS id e9e14a558f8ab-3d15233ed1bsm126515ab.15.2025.02.07.20.32.49 (version=TLS1_2 cipher=ECDHE-ECDSA-AES128-GCM-SHA256 bits=128/128); Fri, 07 Feb 2025 20:32:49 -0800 (PST) X-Relaying-Domain: iol.unh.edu Date: Fri, 07 Feb 2025 20:32:49 -0800 (PST) Message-ID: <67a6de71.050a0220.1975ca.0823SMTPIN_ADDED_MISSING@mx.google.com> Received: from [172.21.0.6] (unknown [172.18.0.240]) by postal.iol.unh.edu (Postfix) with ESMTP id 29AAA6052471; Fri, 7 Feb 2025 23:32:49 -0500 (EST) Subject: |SUCCESS| [GIT MASTER] 388b1abe291544106e406cb0a200b5b0c96fe599 From: dpdklab@iol.unh.edu To: Test Report Cc: dpdk-test-reports@iol.unh.edu Content-Type: text/plain X-BeenThere: test-report@dpdk.org X-Mailman-Version: 2.1.29 Precedence: list List-Id: automatic DPDK test reports List-Unsubscribe: , List-Archive: List-Post: List-Help: List-Subscribe: , Errors-To: test-report-bounces@dpdk.org _Testing PASS_ Branch: dpdk 388b1abe291544106e406cb0a200b5b0c96fe599 --> testing pass Upstream job id: Windows-Compile-DPDK-Native#26544 Test environment and result as below: +---------------------+--------------------+-------------------+-------------------------+ | Environment | dpdk_meson_compile | dpdk_msvc_compile | dpdk_llvm_clang_compile | +=====================+====================+===================+=========================+ | FreeBSD 13.4 | PASS | SKIPPED | SKIPPED | +---------------------+--------------------+-------------------+-------------------------+ | FreeBSD 14.2 | PASS | SKIPPED | SKIPPED | +---------------------+--------------------+-------------------+-------------------------+ | Windows Server 2022 | SKIPPED | PASS | PASS | +---------------------+--------------------+-------------------+-------------------------+ FreeBSD 13.4 Kernel: 13.4-RELEASE-p1 Compiler: clang 18.1.6 FreeBSD 14.2 Kernel: 14.2-RELEASE Compiler: clang 18.1.6 Windows Server 2022 Kernel: 10.0.20348.2031 Compiler: clang 15.0.7, gcc 14.1.0 (MinGW), and MSVC VS 19.39.33521 To view detailed results, visit: https://lab.dpdk.org/results/dashboard/tarballs/32502/ UNH-IOL DPDK Community Lab To manage your email subscriptions, visit: https://lab.dpdk.org/results/dashboard/preferences/subscriptions/