From mboxrd@z Thu Jan 1 00:00:00 1970 Return-Path: Received: from mails.dpdk.org (mails.dpdk.org [217.70.189.124]) by inbox.dpdk.org (Postfix) with ESMTP id 9BD93461C3 for ; Sat, 8 Feb 2025 05:36:20 +0100 (CET) Received: from mails.dpdk.org (localhost [127.0.0.1]) by mails.dpdk.org (Postfix) with ESMTP id 73F1640280; Sat, 8 Feb 2025 05:36:20 +0100 (CET) Received: from mail-qt1-f225.google.com (mail-qt1-f225.google.com [209.85.160.225]) by mails.dpdk.org (Postfix) with ESMTP id 17D4440279 for ; Sat, 8 Feb 2025 05:36:19 +0100 (CET) Received: by mail-qt1-f225.google.com with SMTP id d75a77b69052e-467a6ecaa54so23530121cf.0 for ; Fri, 07 Feb 2025 20:36:19 -0800 (PST) DKIM-Signature: v=1; a=rsa-sha256; c=relaxed/relaxed; d=iol.unh.edu; s=unh-iol; t=1738989378; x=1739594178; darn=dpdk.org; h=cc:to:from:subject:message-id:date:from:to:cc:subject:date :message-id:reply-to; bh=I/LaiO0n0Ny/8MZH+6uMcgYCpCnIHKbP1qu3H+9X0KU=; b=jx+bmUW5JCEftsCNAU05tCYZwf1XZ8GnPe8h3EMBE+M24DSXVWv0D15foyNy1T9Fcu CsAfjKvAp1oqnDA07tJ5pqGMdvsNmIymDpO/THfuN/1A3hjB2PJ2KQYSXuduzGDy0hnc sds0Oe7Hx8BQv6abHaJceHv98PAK6Vq2+UkxI= X-Google-DKIM-Signature: v=1; a=rsa-sha256; c=relaxed/relaxed; d=1e100.net; s=20230601; t=1738989378; x=1739594178; h=cc:to:from:subject:message-id:date:x-gm-message-state:from:to:cc :subject:date:message-id:reply-to; bh=I/LaiO0n0Ny/8MZH+6uMcgYCpCnIHKbP1qu3H+9X0KU=; b=kBwnorKlFNm30TGvQwT1Vn1V0zhsnAgU3stPmTjfCxL9AAUoQ2S10IVOGvsSWgI8eS uQAJGpxGx05lf4UBtitZgjBBnw5ZfcZhKOHCN7bSg5bbPbi9ADXKsgkGfv1I9RJHvdwY 7fMTZCve8agVt+sBlUTSYgtyJtDoFe3vimob094gmdQSoZwuJxOzzwBqxO5Pgmezpo1v hqZHyARPMTphJAbBlL2hGZX3CPyIv7rW7miInQH5nOTYX4YELgS4KL9lH00ZMY7Vm1P3 Rnr0B5pAI/Bcgck9TGbh4+Q/u+Jp+w4K+BN7qzASU56ya1QEm9Uzcvh1rAdZS2TlGzr8 zUMQ== X-Gm-Message-State: AOJu0YxpHPuIG+JxPX0oNTUSUxtmipplKck/MC7vZdqU2MqDh7vwIe3O HmzUyfcy+6Za5ymGdk0u6FkxZiPnno5CstopwJHnv3iHmTMANn3ptBqz7fRqnzFOMRUKYWhr0ED g97s5JPOxWIZ4YKyxy/gDxPujW2cpQ9mkZekTdc5+ X-Gm-Gg: ASbGncvX4NhauQnh5YcOxds/qMxSvBRBy55Pn2TfiQEHXRpyYbgtSj483pgG54Vc8yA gJEV3kG0Oebl8CWLpt0/OCUf7xAWzxx3uyHS7cfOixV7b58t5iA1H0VTNBspc3UmshcA4XUbB7y ie2d2y4kQtdD3zn7v9q/NdlvNFmhXHOI6q4h2zWYn298zmPmLltHNJez+qhMkbNzOc1srTSM7za aC3uSiyjJcprKSL64Vdkak/WlKr5iuhHMl/owuw8HmHxhdbOHM3PmScX7YqDaIlaT5wsY5Kqxnm Z9Zp2gESEoMUOC8xqNytAGvNmaTuYg== X-Google-Smtp-Source: AGHT+IEjdl00dTDrZzz5YQZ/znhMsSTVlC11YXsghSib84FXW1p8oLlQTFitS9+IEfjo204b220KmPsF+Sbf X-Received: by 2002:ad4:5caf:0:b0:6da:dc79:a3cd with SMTP id 6a1803df08f44-6e4453fdde1mr89181456d6.0.1738989378419; Fri, 07 Feb 2025 20:36:18 -0800 (PST) Received: from postal.iol.unh.edu (postal.iol.unh.edu. [132.177.123.84]) by smtp-relay.gmail.com with ESMTPS id 6a1803df08f44-6e43bb260besm2979896d6.67.2025.02.07.20.36.18 (version=TLS1_2 cipher=ECDHE-ECDSA-AES128-GCM-SHA256 bits=128/128); Fri, 07 Feb 2025 20:36:18 -0800 (PST) X-Relaying-Domain: iol.unh.edu Date: Fri, 07 Feb 2025 20:36:18 -0800 (PST) Message-ID: <67a6df42.050a0220.5123e.f043SMTPIN_ADDED_MISSING@mx.google.com> Received: from [172.21.0.7] (unknown [172.18.0.240]) by postal.iol.unh.edu (Postfix) with ESMTP id 1F8B26052477; Fri, 7 Feb 2025 23:36:18 -0500 (EST) Subject: |SUCCESS| [GIT MASTER] 388b1abe291544106e406cb0a200b5b0c96fe599 From: dpdklab@iol.unh.edu To: Test Report Cc: dpdk-test-reports@iol.unh.edu Content-Type: text/plain X-BeenThere: test-report@dpdk.org X-Mailman-Version: 2.1.29 Precedence: list List-Id: automatic DPDK test reports List-Unsubscribe: , List-Archive: List-Post: List-Help: List-Subscribe: , Errors-To: test-report-bounces@dpdk.org _Testing PASS_ Branch: dpdk 388b1abe291544106e406cb0a200b5b0c96fe599 --> testing pass Upstream job id: Windows-Compile-DPDK-Native#26545 Test environment and result as below: +---------------------+--------------------+-------------------+-------------------------+----------------------+ | Environment | dpdk_meson_compile | dpdk_msvc_compile | dpdk_llvm_clang_compile | dpdk_mingw64_compile | +=====================+====================+===================+=========================+======================+ | FreeBSD 13.4 | PASS | SKIPPED | SKIPPED | SKIPPED | +---------------------+--------------------+-------------------+-------------------------+----------------------+ | FreeBSD 14.2 | PASS | SKIPPED | SKIPPED | SKIPPED | +---------------------+--------------------+-------------------+-------------------------+----------------------+ | Windows Server 2022 | SKIPPED | PASS | PASS | PASS | +---------------------+--------------------+-------------------+-------------------------+----------------------+ FreeBSD 13.4 Kernel: 13.4-RELEASE-p1 Compiler: clang 18.1.6 FreeBSD 14.2 Kernel: 14.2-RELEASE Compiler: clang 18.1.6 Windows Server 2022 Kernel: 10.0.20348.2031 Compiler: clang 15.0.7, gcc 14.1.0 (MinGW), and MSVC VS 19.39.33521 To view detailed results, visit: https://lab.dpdk.org/results/dashboard/tarballs/32502/ UNH-IOL DPDK Community Lab To manage your email subscriptions, visit: https://lab.dpdk.org/results/dashboard/preferences/subscriptions/