From mboxrd@z Thu Jan 1 00:00:00 1970 Return-Path: Received: from mails.dpdk.org (mails.dpdk.org [217.70.189.124]) by inbox.dpdk.org (Postfix) with ESMTP id 98DE4461C3 for ; Sat, 8 Feb 2025 05:43:56 +0100 (CET) Received: from mails.dpdk.org (localhost [127.0.0.1]) by mails.dpdk.org (Postfix) with ESMTP id 90CF140280; Sat, 8 Feb 2025 05:43:56 +0100 (CET) Received: from mail-pj1-f98.google.com (mail-pj1-f98.google.com [209.85.216.98]) by mails.dpdk.org (Postfix) with ESMTP id 6FF7140279 for ; Sat, 8 Feb 2025 05:43:54 +0100 (CET) Received: by mail-pj1-f98.google.com with SMTP id 98e67ed59e1d1-2f9bac7699aso4066433a91.1 for ; Fri, 07 Feb 2025 20:43:54 -0800 (PST) DKIM-Signature: v=1; a=rsa-sha256; c=relaxed/relaxed; d=iol.unh.edu; s=unh-iol; t=1738989833; x=1739594633; darn=dpdk.org; h=references:in-reply-to:cc:to:from:subject:message-id:date:from:to :cc:subject:date:message-id:reply-to; bh=W4hIlr/yD4Q0go1kXakn5q/MiCSbuHfUOXCGpuThnn4=; b=FexE7333hE03m6taMhPYMKOT5S7JTrS7fv7OCqP2VLRfTN97/esNWfqUn7AQSw9D0+ uLkfsZ71mBQtRMOf6TlHip3o/3Yz3Meb/821SAkIJuYUF/1m+uiJ/GzbqWjMvC1fhiRC Q8PNYlvGX1uPF6JxAq2wPFpFGbbIv5E531StA= X-Google-DKIM-Signature: v=1; a=rsa-sha256; c=relaxed/relaxed; d=1e100.net; s=20230601; t=1738989833; x=1739594633; h=references:in-reply-to:cc:to:from:subject:message-id:date :x-gm-message-state:from:to:cc:subject:date:message-id:reply-to; bh=W4hIlr/yD4Q0go1kXakn5q/MiCSbuHfUOXCGpuThnn4=; b=keeZ/8zXlPBjatJaEDH6NwuHWR4QYLJINsCBdra3FPAa3nECYVbXOSa+4Lv+wKxGBQ k5ptmyJ/BLJeJNJ7BROoQjG/S+J6xdTTe1jWZHnKVnYW8DyPULO19sCvnZ7JTcHC75bA AwrKjhcW+V+Cn8MPJ7YD0qQxq5YD/5lJfoXfP2gBaA1udwpA1uzxyY0IGlMpv88agwzF /QFNlI4J2pb6ZemjycI73RrKx+vc/O56cW/rc1Va27RK3kfRVc1T67FYqqR79B9mAm8A V8npQcf6GwsbE74kF2Bs4IJ2vNOOZOGAWOXfWWuDMgwd8HJDqTJSfT0lmHU0c4LVlRGZ sViw== X-Gm-Message-State: AOJu0YxyABb1qYln6U/8YJDXyuANjdRa/CWqylGUd3UTvctVrfRpD8Z5 PckVbkmx+9eL3qVAVXVwsxG7+4MtL3j3XJTQg2wsBlzE/XRG86134PgKbULHo3REaLpste6IGNV DonsgdY8Q1PE+S+/sama7KVSo/A6OLOzU7SXcRzhN X-Gm-Gg: ASbGncuUy9wEFwlUXllqj5hkPZ8MjB0OM+FoPWMnf1q2wroEAIWDCNvxcel1FKhFEJr uL7uwE0ng4mSAQsySl+IBMz1eHbSO5XVNWsdio0f6QkAtYyJq0Ric2hsYZtZnAaN418uwjUzxtW YJVgG/L01Xm4cUVvrmJfZJJ5Qau5uptv8ZOkVBtaUEtbajzoCVB5B3pX/QIIXv7mgYlIm8OFk/t +ZfxEvj8MCyjlN5QzDBixLXsOrcXhmWeNxdTMMh/Bbj9t2HdL6kIgcJjfGh0OPx1mbH2s9fp52D jAiUERgFlA1DqC/e8Fw1yzFsfXlj7w== X-Google-Smtp-Source: AGHT+IGQVrAF3OuYH73iHV1kN3Dy8Z7e2PaH2lIwmltU5w8Ra4iY1bdsTC5qOqOCJpJzWGerW3Q/YDUwa1Dq X-Received: by 2002:a17:90b:368f:b0:2fa:1f1b:3db9 with SMTP id 98e67ed59e1d1-2fa243f05b1mr7623380a91.26.1738989833480; Fri, 07 Feb 2025 20:43:53 -0800 (PST) Received: from postal.iol.unh.edu (postal.iol.unh.edu. [132.177.123.84]) by smtp-relay.gmail.com with ESMTPS id 98e67ed59e1d1-2f9e1d7c70dsm555650a91.5.2025.02.07.20.43.53 (version=TLS1_2 cipher=ECDHE-ECDSA-AES128-GCM-SHA256 bits=128/128); Fri, 07 Feb 2025 20:43:53 -0800 (PST) X-Relaying-Domain: iol.unh.edu Date: Fri, 07 Feb 2025 20:43:53 -0800 (PST) Message-ID: <67a6e109.170a0220.154f45.b2b2SMTPIN_ADDED_MISSING@mx.google.com> Received: from [172.21.0.5] (unknown [172.18.0.240]) by postal.iol.unh.edu (Postfix) with ESMTP id 930C66052471; Fri, 7 Feb 2025 23:43:22 -0500 (EST) Subject: |SUCCESS| pw151141 [PATCH] net/mana: use mana_local_data for trackin From: dpdklab@iol.unh.edu To: Test Report Cc: dpdk-test-reports@iol.unh.edu In-Reply-To: <1738970505-7864-1-git-send-email-longli@linuxonhyperv.com> References: <1738970505-7864-1-git-send-email-longli@linuxonhyperv.com> Content-Type: text/plain X-BeenThere: test-report@dpdk.org X-Mailman-Version: 2.1.29 Precedence: list List-Id: automatic DPDK test reports List-Unsubscribe: , List-Archive: List-Post: List-Help: List-Subscribe: , Errors-To: test-report-bounces@dpdk.org Test-Label: iol-compile-amd64-testing Test-Status: SUCCESS http://dpdk.org/patch/151141 _Testing PASS_ Submitter: Long Li Date: Friday, February 07 2025 23:21:45 DPDK git baseline: Repo:dpdk Branch: master CommitID:b82daa7d47bda76b3879ef6d715b2d3eb737793f 151141 --> testing pass Upstream job id: Windows-Compile-DPDK-Native#26546 Test environment and result as below: +---------------------+--------------------+-------------------+-------------------------+ | Environment | dpdk_meson_compile | dpdk_msvc_compile | dpdk_llvm_clang_compile | +=====================+====================+===================+=========================+ | FreeBSD 13.4 | PASS | SKIPPED | SKIPPED | +---------------------+--------------------+-------------------+-------------------------+ | FreeBSD 14.2 | PASS | SKIPPED | SKIPPED | +---------------------+--------------------+-------------------+-------------------------+ | Windows Server 2022 | SKIPPED | PASS | PASS | +---------------------+--------------------+-------------------+-------------------------+ FreeBSD 13.4 Kernel: 13.4-RELEASE-p1 Compiler: clang 18.1.6 FreeBSD 14.2 Kernel: 14.2-RELEASE Compiler: clang 18.1.6 Windows Server 2022 Kernel: 10.0.20348.2031 Compiler: clang 15.0.7, gcc 14.1.0 (MinGW), and MSVC VS 19.39.33521 To view detailed results, visit: https://lab.dpdk.org/results/dashboard/patchsets/32533/ UNH-IOL DPDK Community Lab To manage your email subscriptions, visit: https://lab.dpdk.org/results/dashboard/preferences/subscriptions/