From mboxrd@z Thu Jan 1 00:00:00 1970 Return-Path: Received: from mails.dpdk.org (mails.dpdk.org [217.70.189.124]) by inbox.dpdk.org (Postfix) with ESMTP id 58356461C3 for ; Sat, 8 Feb 2025 05:50:45 +0100 (CET) Received: from mails.dpdk.org (localhost [127.0.0.1]) by mails.dpdk.org (Postfix) with ESMTP id 533D640280; Sat, 8 Feb 2025 05:50:45 +0100 (CET) Received: from mail-il1-f227.google.com (mail-il1-f227.google.com [209.85.166.227]) by mails.dpdk.org (Postfix) with ESMTP id BE12440279 for ; Sat, 8 Feb 2025 05:50:43 +0100 (CET) Received: by mail-il1-f227.google.com with SMTP id e9e14a558f8ab-3ce87d31480so8532135ab.2 for ; Fri, 07 Feb 2025 20:50:43 -0800 (PST) DKIM-Signature: v=1; a=rsa-sha256; c=relaxed/relaxed; d=iol.unh.edu; s=unh-iol; t=1738990243; x=1739595043; darn=dpdk.org; h=references:in-reply-to:cc:to:from:subject:message-id:date:from:to :cc:subject:date:message-id:reply-to; bh=/SsI7aGxal0XabjbQv2jfyPxMUSvPAsyutnyDBYdTVo=; b=GhAklugRjFlj8NjQmvOFrj8XDAEaysjx0AStL6xa7e58LEMaD1tk+GrHi9PVzz6ipM jMvuM3xJ25xKPah/ZQCaKPMFw9NOKQV2xYxcw1idSXhPyLaERW/ID2iu7J7jROvD0Qjq Y4Opq2zD7Nts8DW2iANyVZvdeb9UF+lFIRbeA= X-Google-DKIM-Signature: v=1; a=rsa-sha256; c=relaxed/relaxed; d=1e100.net; s=20230601; t=1738990243; x=1739595043; h=references:in-reply-to:cc:to:from:subject:message-id:date :x-gm-message-state:from:to:cc:subject:date:message-id:reply-to; bh=/SsI7aGxal0XabjbQv2jfyPxMUSvPAsyutnyDBYdTVo=; b=I7UaFxKijPKzeexKrIZ39pA17gjH/APOvJOLkYm+t8N+moj6UrPhBROqkoFqYLLx0y rCiQoSnlX+/RSIu4AN5tyJ3HzUsgq66OqDwISpw2RtoW4NNi77WGCbLLvjxCpQcHtD47 DaILvH/e2iBU5P2t8QSvonKg6wBQdVT6/ZM/2+sSAGhmn6FUtcjsKgj9KS92+1FpCV4v 9IOd0JVWCR6+lZ/6Zcb88YOW8oh5NxoErni9XIyzua6WkpV0t8XIO6waa9+9pD/JrXQv sTIj5FD6Jlg71hLJCOBfzx7+ggoX5yUnMETB2OGkncv+24YJc4WeuFuMxtanMYhIO/zy jioA== X-Gm-Message-State: AOJu0YzuDKzM4Ugc1636olgep7rfNm46TkowOviFTGXneNkBU4DvUJdl ffiL0otd4FB9nJHpSevIGVI4vnm70H48W2cAKeTCUOcMHROlv5/tDrP9GOc2CzgUhph2lbPtafo is2OakujTiAio5B7Zyt/ShMFp5TF8onwYyUt3zttq X-Gm-Gg: ASbGncucwGVjUbx7H06vUdU+6HkQQLQAbaZVjcbCYfDbNpda4xEisBMnpfLwuXtcxvz Kj+iaNFsiLq9bvA5fcsn53TfPzhGuUFshd8o8LdAf2yr8ztX/G3K1EjuVEmD7XP5s5VswEOuv76 Oa/DWy5PPvg44eb0xG4qSs1Z/pv+vrN+PUFvNJQMFHL3aqKELu292uZrVSiwD/D+a+yD/zsk0TM ufj069JO6k3k6zpDZ6ExtGahS0MJ0cZ8tpDr5w5WBj1117u5N0UzsKYWMw6hRSZhIFUIL+EM36V k07CxYW3GYLKZl73976lVo/X2fq3gg== X-Google-Smtp-Source: AGHT+IEaqmjBxsv2bxGjpSYuuN+sMFaJaGvF8mflYU7b5CCZRTojmIkiwbRVtAszXXJrCLr0bB2XRuod5g7F X-Received: by 2002:a05:6e02:b29:b0:3ce:5af3:79d5 with SMTP id e9e14a558f8ab-3d13dd0b071mr42266485ab.6.1738990242779; Fri, 07 Feb 2025 20:50:42 -0800 (PST) Received: from postal.iol.unh.edu (postal.iol.unh.edu. [132.177.123.84]) by smtp-relay.gmail.com with ESMTPS id e9e14a558f8ab-3d05ea1be66sm3171745ab.57.2025.02.07.20.50.42 (version=TLS1_2 cipher=ECDHE-ECDSA-AES128-GCM-SHA256 bits=128/128); Fri, 07 Feb 2025 20:50:42 -0800 (PST) X-Relaying-Domain: iol.unh.edu Date: Fri, 07 Feb 2025 20:50:42 -0800 (PST) Message-ID: <67a6e2a2.920a0220.3d94a8.ff31SMTPIN_ADDED_MISSING@mx.google.com> Received: from [172.21.0.5] (unknown [172.18.0.240]) by postal.iol.unh.edu (Postfix) with ESMTP id 464A96052471; Fri, 7 Feb 2025 23:50:42 -0500 (EST) Subject: |SUCCESS| pw151141 [PATCH] net/mana: use mana_local_data for trackin From: dpdklab@iol.unh.edu To: Test Report Cc: dpdk-test-reports@iol.unh.edu In-Reply-To: <1738970505-7864-1-git-send-email-longli@linuxonhyperv.com> References: <1738970505-7864-1-git-send-email-longli@linuxonhyperv.com> Content-Type: text/plain X-BeenThere: test-report@dpdk.org X-Mailman-Version: 2.1.29 Precedence: list List-Id: automatic DPDK test reports List-Unsubscribe: , List-Archive: List-Post: List-Help: List-Subscribe: , Errors-To: test-report-bounces@dpdk.org Test-Label: iol-compile-amd64-testing Test-Status: SUCCESS http://dpdk.org/patch/151141 _Testing PASS_ Submitter: Long Li Date: Friday, February 07 2025 23:21:45 DPDK git baseline: Repo:dpdk Branch: master CommitID:b82daa7d47bda76b3879ef6d715b2d3eb737793f 151141 --> testing pass Upstream job id: Windows-Compile-DPDK-Native#26547 Test environment and result as below: +---------------------+--------------------+-------------------+-------------------------+----------------------+ | Environment | dpdk_meson_compile | dpdk_msvc_compile | dpdk_llvm_clang_compile | dpdk_mingw64_compile | +=====================+====================+===================+=========================+======================+ | FreeBSD 13.4 | PASS | SKIPPED | SKIPPED | SKIPPED | +---------------------+--------------------+-------------------+-------------------------+----------------------+ | FreeBSD 14.2 | PASS | SKIPPED | SKIPPED | SKIPPED | +---------------------+--------------------+-------------------+-------------------------+----------------------+ | Windows Server 2022 | SKIPPED | PASS | PASS | PASS | +---------------------+--------------------+-------------------+-------------------------+----------------------+ FreeBSD 13.4 Kernel: 13.4-RELEASE-p1 Compiler: clang 18.1.6 FreeBSD 14.2 Kernel: 14.2-RELEASE Compiler: clang 18.1.6 Windows Server 2022 Kernel: 10.0.20348.2031 Compiler: clang 15.0.7, gcc 14.1.0 (MinGW), and MSVC VS 19.39.33521 To view detailed results, visit: https://lab.dpdk.org/results/dashboard/patchsets/32533/ UNH-IOL DPDK Community Lab To manage your email subscriptions, visit: https://lab.dpdk.org/results/dashboard/preferences/subscriptions/