From mboxrd@z Thu Jan 1 00:00:00 1970 Return-Path: Received: from mails.dpdk.org (mails.dpdk.org [217.70.189.124]) by inbox.dpdk.org (Postfix) with ESMTP id 24EAB461C4 for ; Sat, 8 Feb 2025 06:08:01 +0100 (CET) Received: from mails.dpdk.org (localhost [127.0.0.1]) by mails.dpdk.org (Postfix) with ESMTP id 034EE40280; Sat, 8 Feb 2025 06:08:01 +0100 (CET) Received: from mail-oa1-f98.google.com (mail-oa1-f98.google.com [209.85.160.98]) by mails.dpdk.org (Postfix) with ESMTP id 5B18440279 for ; Sat, 8 Feb 2025 06:07:59 +0100 (CET) Received: by mail-oa1-f98.google.com with SMTP id 586e51a60fabf-2b863fdc25aso62343fac.2 for ; Fri, 07 Feb 2025 21:07:59 -0800 (PST) DKIM-Signature: v=1; a=rsa-sha256; c=relaxed/relaxed; d=iol.unh.edu; s=unh-iol; t=1738991278; x=1739596078; darn=dpdk.org; h=references:in-reply-to:cc:to:from:subject:message-id:date:from:to :cc:subject:date:message-id:reply-to; bh=qz65myLG5bf84EYquQtfcObSJPxlIvj+jo8NV5L23Aw=; b=V72Q74QXOUigdmkgTFS73SrT9BAxdLnXOMq1hNKdDlJMP3CJQSceVHtD1vSBUXyLcf XQxJeVZu2b1060fjKttny6EN6KCZCt2WAQfZtG6xN+41WIzWVKvxj1vyrU/PCv+uILu0 dI0EOWnIzTHrsnd8Rp/EdUdE6Ya0bm4cH+Jkk= X-Google-DKIM-Signature: v=1; a=rsa-sha256; c=relaxed/relaxed; d=1e100.net; s=20230601; t=1738991278; x=1739596078; h=references:in-reply-to:cc:to:from:subject:message-id:date :x-gm-message-state:from:to:cc:subject:date:message-id:reply-to; bh=qz65myLG5bf84EYquQtfcObSJPxlIvj+jo8NV5L23Aw=; b=tMrV02SN7Y/evNXe4m41B+ovxF4a2JzjXyFRlbvexaS8PnnrysFM1iID1w5F8pwhRl GhV4voDAKcXkNY5jkNdA099zFeVThFA9pykZgwR8jNWwSw/SQbN+71smYn/TL0gPxlCU Pb+/LRwfXdfo5e2n0dGdZ5RguJXhGOAWvqlZDaKe99LNLqMzINVmsgDces4xeFtpDjQN RuDRJ5CG3EBpFFdXAuMQ3NSt2P7vpV8brKbTwOYssA/c0dr+0UKYvfW8FNGbdM9HrRUe uvdCasd0WM3uWrZtsNnReV2qo3OnsWQbgBZhd/sxngdDbNcfZYtQw4r9gPXeW4fFYUXp Hw6w== X-Gm-Message-State: AOJu0YxWEpZmI0y1fZ6ywSTkuhUb7RXKCa9Wb1vRGEHy8oTob70ReXQH CtbjPFiXcD/6Q4hC1E96mSDqNpgfAK8hNv4VVeURmWsxujv04MBNtkGtGqxpxwV9RhYtM1NHdWj TmBrAFdt9i7mZ7gjgxQUgAh4GLkn9LQ4SxkQbGgzK X-Gm-Gg: ASbGncvapxUPbPAgToYODcNluqCg5YZY0LBZmjnlgX6lyqmZ5PnxWBSEEb6sfxn1Aec DXb0C/7EzHR9KLHGo6PFe6sKVBoYqJQ/gFSVu+sgrSVdLJdUCVexzqpgexV1LuO32e6yNG7iCVv 7Q6RvNDSiVgmormGMZoxTxsFT5QqXxENarL5+h3NUq2AjW967qHrxeZ8bij6mMXVd5/lzCanj/P SeGRaUF2JlH+TkOU7gzPNqRFxdqzDba9cpJy09BacPL5CxizKCLck4e1Rg4ZWANeASa0jQJQO3c yyWKL2nDDQ3hxI2kuL9xI2HwpRNwKQ== X-Google-Smtp-Source: AGHT+IE1o+tq2va2oBKvzIxcCl7XHDBUk3rHa9mgf/Yu45hKgAeEacaeAEA7jTgMo8BwMr2o/4yo55hRdVUT X-Received: by 2002:a05:6870:c0b:b0:29e:3132:5897 with SMTP id 586e51a60fabf-2b83eba9bf7mr3577116fac.5.1738991278372; Fri, 07 Feb 2025 21:07:58 -0800 (PST) Received: from postal.iol.unh.edu (postal.iol.unh.edu. [132.177.123.84]) by smtp-relay.gmail.com with ESMTPS id 586e51a60fabf-2b8261ea17dsm246866fac.30.2025.02.07.21.07.58 (version=TLS1_2 cipher=ECDHE-ECDSA-AES128-GCM-SHA256 bits=128/128); Fri, 07 Feb 2025 21:07:58 -0800 (PST) X-Relaying-Domain: iol.unh.edu Date: Fri, 07 Feb 2025 21:07:58 -0800 (PST) Message-ID: <67a6e6ae.050a0220.fda1d.c733SMTPIN_ADDED_MISSING@mx.google.com> Received: from [172.21.0.6] (unknown [172.18.0.240]) by postal.iol.unh.edu (Postfix) with ESMTP id 7B8B26052471; Sat, 8 Feb 2025 00:07:27 -0500 (EST) Subject: |SUCCESS| pw151134 [PATCH] [v6] eal: define __SIZEOF_LONG__ when usi From: dpdklab@iol.unh.edu To: Test Report Cc: dpdk-test-reports@iol.unh.edu In-Reply-To: <1738940668-21653-1-git-send-email-andremue@linux.microsoft.com> References: <1738940668-21653-1-git-send-email-andremue@linux.microsoft.com> Content-Type: text/plain X-BeenThere: test-report@dpdk.org X-Mailman-Version: 2.1.29 Precedence: list List-Id: automatic DPDK test reports List-Unsubscribe: , List-Archive: List-Post: List-Help: List-Subscribe: , Errors-To: test-report-bounces@dpdk.org Test-Label: iol-unit-arm64-testing Test-Status: SUCCESS http://dpdk.org/patch/151134 _Testing PASS_ Submitter: Andre Muezerie Date: Friday, February 07 2025 15:04:28 DPDK git baseline: Repo:dpdk Branch: master CommitID:388b1abe291544106e406cb0a200b5b0c96fe599 151134 --> testing pass Upstream job id: Generic-Unit-Test-DPDK#312982 Test environment and result as below: +-----------------------------+----------------+---------------------------+--------------+------------------------------+ | Environment | dpdk_unit_test | cryptodev_sw_zuc_autotest | lpm_autotest | cryptodev_sw_snow3g_autotest | +=============================+================+===========================+==============+==============================+ | 32-bit Ubuntu 22.04.4 (ARM) | PASS | SKIPPED | SKIPPED | SKIPPED | +-----------------------------+----------------+---------------------------+--------------+------------------------------+ | Debian 12 (arm) | PASS | PASS | SKIPPED | PASS | +-----------------------------+----------------+---------------------------+--------------+------------------------------+ | CentOS Stream 9 (ARM) | PASS | SKIPPED | SKIPPED | SKIPPED | +-----------------------------+----------------+---------------------------+--------------+------------------------------+ | Debian 11 (Buster) (ARM) | PASS | SKIPPED | SKIPPED | SKIPPED | +-----------------------------+----------------+---------------------------+--------------+------------------------------+ | Fedora 40 (ARM) | PASS | SKIPPED | SKIPPED | SKIPPED | +-----------------------------+----------------+---------------------------+--------------+------------------------------+ | Fedora 41 (ARM) | PASS | SKIPPED | SKIPPED | SKIPPED | +-----------------------------+----------------+---------------------------+--------------+------------------------------+ | Fedora 40 (ARM Clang) | PASS | SKIPPED | SKIPPED | SKIPPED | +-----------------------------+----------------+---------------------------+--------------+------------------------------+ | Ubuntu 22.04 (ARM) | PASS | SKIPPED | SKIPPED | SKIPPED | +-----------------------------+----------------+---------------------------+--------------+------------------------------+ | Fedora 41 (ARM Clang) | PASS | SKIPPED | SKIPPED | SKIPPED | +-----------------------------+----------------+---------------------------+--------------+------------------------------+ | Ubuntu 20.04 (ARM) | PASS | SKIPPED | SKIPPED | SKIPPED | +-----------------------------+----------------+---------------------------+--------------+------------------------------+ | RHEL9 (ARM) | PASS | SKIPPED | SKIPPED | SKIPPED | +-----------------------------+----------------+---------------------------+--------------+------------------------------+ | Ubuntu 24.04 (ARM) | PASS | SKIPPED | SKIPPED | SKIPPED | +-----------------------------+----------------+---------------------------+--------------+------------------------------+ | Ubuntu 20.04 ARM SVE | SKIPPED | SKIPPED | PASS | SKIPPED | +-----------------------------+----------------+---------------------------+--------------+------------------------------+ 32-bit Ubuntu 22.04.4 (ARM) Kernel: 5.15.83+ aarch64 Compiler: gcc (Ubuntu 11.4.0-1ubuntu1~22.04) 11.4.0 Debian 12 (arm) Kernel: Depends on container host Compiler: gcc (Debian 12.2.0-14) 12.2.0 CentOS Stream 9 (ARM) Kernel: Depends on container host Compiler: gcc 11.5.0 20240719 (Red Hat 11.5.0-2) Debian 11 (Buster) (ARM) Kernel: Depends on container host Compiler: gcc (Debian 10.2.1-6) 10.2.1 20210110 Fedora 40 (ARM) Kernel: Depends on container host Compiler: gcc 14.2.1 20240912 (Red Hat 14.2.1-3) Fedora 41 (ARM) Kernel: Depends on container host Compiler: gcc 14.2.1 20240912 (Red Hat 14.2.1-3) Fedora 40 (ARM Clang) Kernel: Depends on container host Compiler: clang 18.1.8 (Fedora 18.1.8-1.fc40) Ubuntu 22.04 (ARM) Kernel: Depends on container host Compiler: gcc (Ubuntu 11.4.0-1ubuntu1~22.04) 11.4.0 Fedora 41 (ARM Clang) Kernel: Depends on container host Compiler: clang 19.1.5 (Fedora 19.1.5-1.fc41) Ubuntu 20.04 (ARM) Kernel: Depends on container host Compiler: gcc (Ubuntu 9.4.0-1ubuntu1~20.04.2) 9.4.0 RHEL9 (ARM) Kernel: Depends on container host Compiler: gcc 11.5.0 20240719 (Red Hat 11.5.0-2) Ubuntu 24.04 (ARM) Kernel: Depends on container host Compiler: gcc (Ubuntu 13.3.0-6ubuntu2~24.04) 13.3.0 Ubuntu 20.04 ARM SVE Kernel: Depends on container host Compiler: gcc (Ubuntu 10.5.0-1ubuntu1~20.04) 10.5.0 To view detailed results, visit: https://lab.dpdk.org/results/dashboard/patchsets/32528/ UNH-IOL DPDK Community Lab To manage your email subscriptions, visit: https://lab.dpdk.org/results/dashboard/preferences/subscriptions/