From mboxrd@z Thu Jan 1 00:00:00 1970 Return-Path: Received: from mails.dpdk.org (mails.dpdk.org [217.70.189.124]) by inbox.dpdk.org (Postfix) with ESMTP id 3D428461C4 for ; Sat, 8 Feb 2025 06:10:55 +0100 (CET) Received: from mails.dpdk.org (localhost [127.0.0.1]) by mails.dpdk.org (Postfix) with ESMTP id 6AFA340280; Sat, 8 Feb 2025 06:10:54 +0100 (CET) Received: from mail-pl1-f225.google.com (mail-pl1-f225.google.com [209.85.214.225]) by mails.dpdk.org (Postfix) with ESMTP id A60B240279 for ; Sat, 8 Feb 2025 06:10:53 +0100 (CET) Received: by mail-pl1-f225.google.com with SMTP id d9443c01a7336-21f48ebaadfso39828535ad.2 for ; Fri, 07 Feb 2025 21:10:53 -0800 (PST) DKIM-Signature: v=1; a=rsa-sha256; c=relaxed/relaxed; d=iol.unh.edu; s=unh-iol; t=1738991453; x=1739596253; darn=dpdk.org; h=references:in-reply-to:cc:to:from:subject:message-id:date:from:to :cc:subject:date:message-id:reply-to; bh=9Hwfec+gdJFgiv0fK1AvtCjCOqnXtBk43mQEgLdmsA4=; b=cPkmT5s9w13x0cT9DGHKrcXz/QNjrwx4WKig2Co74iGRcjKMbFTGzsuhbUmwc7LcmP k1uvbId+Ux0b3F0VHHqTz895+LtgO6hgReF+wfz5Uc7vapPFYC6n/HtDBuLkNKIu13VB xtQBab9CGF94iXwBqDYqkDz73anNocjiOfVPE= X-Google-DKIM-Signature: v=1; a=rsa-sha256; c=relaxed/relaxed; d=1e100.net; s=20230601; t=1738991453; x=1739596253; h=references:in-reply-to:cc:to:from:subject:message-id:date :x-gm-message-state:from:to:cc:subject:date:message-id:reply-to; bh=9Hwfec+gdJFgiv0fK1AvtCjCOqnXtBk43mQEgLdmsA4=; b=uLTiK8x+jcghsmZxHvB7rRAalND4e+dYvAZXQDdsy7BkSsgY8wWz2u94rt066NPctq TQ7E7g9pfkUgyMrtWDvhPEHOOg6tMst7F1bx13AAApEbYG0MtuHXrIrKmKk1yQ9HgMSP cf4l9euxgwvMZDD6VO7Ftn+JwJQ28ayVfC8oaNcp/JxYZL9Q2UEcE7jXEc4ZVaEsotWG 14Tb8Y65PErISgXbLJuFSYOXC+gY6Lr36vm92NjyYXYT58+Xe+sw8qNQgCOv0TTl/dXv /iadvXtgBfl6lmSS0zkKD5ZtBvjhycnpmbZspUg0T8CrfhQR2rDQppBDw4lbbDYkuepT BYqg== X-Gm-Message-State: AOJu0YyAj4X0BTA54C9zY12Ay7XbD/ejlJ0YMzJze5bLDHl+qQic5WuT 0fgvfzVCKP4chg4CIB8Z+kOlb4ZM0XJS0pDHpd9T49DIJ2gb1A3VIVa3r/GN1Kp7aVN3cbRDGB0 FO9k7Q0MQ4wnMisuV5YD/rBsE3ZlZYZGekdEnPy24 X-Gm-Gg: ASbGncuz67Ujdn1LQ0L7kR+zS1M+CiL2HcVsK5eUUYXYO3YLKaCxUBNwSLmmw5lrzkd 9Na68OwwNwTx+F0LmCH7bs9AZZRIUC/Z+5zaXzCOyhYblpUZyfZBc/+bxFzpaZXWKCU0Etk4jjr LU7vSZXwKM5a045Q5hZO11YoMybXVz/a+fBuOqAgrSewiUqjwg44Qb832p9YZT2UwfGt2gZGXgC 05xnJe0sMVwCaqhXuoYGIYMQV+M3fG1HoHRDL2v/cvE6VFA/MlZjpnXK6SGZ94jRK5a5lyMK67G oAieADpZRpCopnr5enbVWMqyiB+Ptw== X-Google-Smtp-Source: AGHT+IGhV3RUg46DFgc+eMgUPHISgWi2laWDgYwMZ/x5Ext4olS1BkEM43IaSJ5+pQmhw/KYqaE7un6lKiS7 X-Received: by 2002:a17:903:2309:b0:216:485f:bf90 with SMTP id d9443c01a7336-21f4e6ce9ebmr45993175ad.27.1738991452804; Fri, 07 Feb 2025 21:10:52 -0800 (PST) Received: from postal.iol.unh.edu (postal.iol.unh.edu. [132.177.123.84]) by smtp-relay.gmail.com with ESMTPS id d9443c01a7336-21f3650ccefsm2848945ad.11.2025.02.07.21.10.52 (version=TLS1_2 cipher=ECDHE-ECDSA-AES128-GCM-SHA256 bits=128/128); Fri, 07 Feb 2025 21:10:52 -0800 (PST) X-Relaying-Domain: iol.unh.edu Date: Fri, 07 Feb 2025 21:10:52 -0800 (PST) Message-ID: <67a6e75c.170a0220.7bdb0.f1ceSMTPIN_ADDED_MISSING@mx.google.com> Received: from [172.21.0.5] (unknown [172.18.0.240]) by postal.iol.unh.edu (Postfix) with ESMTP id DA2CC6052471; Sat, 8 Feb 2025 00:10:51 -0500 (EST) Subject: |SUCCESS| pw151134 [PATCH] [v6] eal: define __SIZEOF_LONG__ when usi From: dpdklab@iol.unh.edu To: Test Report Cc: dpdk-test-reports@iol.unh.edu In-Reply-To: <1738940668-21653-1-git-send-email-andremue@linux.microsoft.com> References: <1738940668-21653-1-git-send-email-andremue@linux.microsoft.com> Content-Type: text/plain X-BeenThere: test-report@dpdk.org X-Mailman-Version: 2.1.29 Precedence: list List-Id: automatic DPDK test reports List-Unsubscribe: , List-Archive: List-Post: List-Help: List-Subscribe: , Errors-To: test-report-bounces@dpdk.org Test-Label: iol-compile-arm64-testing Test-Status: SUCCESS http://dpdk.org/patch/151134 _Testing PASS_ Submitter: Andre Muezerie Date: Friday, February 07 2025 15:04:28 DPDK git baseline: Repo:dpdk Branch: master CommitID:388b1abe291544106e406cb0a200b5b0c96fe599 151134 --> testing pass Upstream job id: Generic-DPDK-Compile-Meson#359297 Test environment and result as below: +----------------------------------------+--------------------+ | Environment | dpdk_meson_compile | +========================================+====================+ | RHEL9 (ARM) | PASS | +----------------------------------------+--------------------+ | Ubuntu 20.04 ARM GCC Cross Compile | PASS | +----------------------------------------+--------------------+ | Ubuntu 20.04 ARM SVE | PASS | +----------------------------------------+--------------------+ | Debian 12 with MUSDK | PASS | +----------------------------------------+--------------------+ | Fedora 40 (ARM) | PASS | +----------------------------------------+--------------------+ | Fedora 40 (ARM Clang) | PASS | +----------------------------------------+--------------------+ | Fedora 41 (ARM Clang) | PASS | +----------------------------------------+--------------------+ | Ubuntu 20.04 (ARM) | PASS | +----------------------------------------+--------------------+ | Ubuntu 22.04 (ARM) | PASS | +----------------------------------------+--------------------+ | Ubuntu 24.04 (ARM) | PASS | +----------------------------------------+--------------------+ | CentOS Stream 9 (ARM) | PASS | +----------------------------------------+--------------------+ | Debian 11 (Buster) (ARM) | PASS | +----------------------------------------+--------------------+ | Debian 12 (arm) | PASS | +----------------------------------------+--------------------+ | Ubuntu 20.04 ARM Clang Cross Compile | PASS | +----------------------------------------+--------------------+ | Ubuntu 20.04 aarch32 GCC Cross Compile | PASS | +----------------------------------------+--------------------+ | Fedora 41 (ARM) | PASS | +----------------------------------------+--------------------+ RHEL9 (ARM) Kernel: Depends on container host Compiler: gcc 11.5.0 20240719 (Red Hat 11.5.0-2) Ubuntu 20.04 ARM GCC Cross Compile Kernel: Depends on container host Compiler: aarch64-linux-gnu-gcc (Ubuntu 9.4.0-1ubuntu1~20.04.2) 9.4.0 Ubuntu 20.04 ARM SVE Kernel: Depends on container host Compiler: gcc (Ubuntu 10.5.0-1ubuntu1~20.04) 10.5.0 Debian 12 with MUSDK Kernel: Depends on container host Compiler: gcc (Debian 12.2.0-14) 12.2.0 Fedora 40 (ARM) Kernel: Depends on container host Compiler: gcc 14.2.1 20240912 (Red Hat 14.2.1-3) Fedora 40 (ARM Clang) Kernel: Depends on container host Compiler: clang 18.1.8 (Fedora 18.1.8-1.fc40) Fedora 41 (ARM Clang) Kernel: Depends on container host Compiler: clang 19.1.5 (Fedora 19.1.5-1.fc41) Ubuntu 20.04 (ARM) Kernel: Depends on container host Compiler: gcc (Ubuntu 9.4.0-1ubuntu1~20.04.2) 9.4.0 Ubuntu 22.04 (ARM) Kernel: Depends on container host Compiler: gcc (Ubuntu 11.4.0-1ubuntu1~22.04) 11.4.0 Ubuntu 24.04 (ARM) Kernel: Depends on container host Compiler: gcc (Ubuntu 13.3.0-6ubuntu2~24.04) 13.3.0 CentOS Stream 9 (ARM) Kernel: Depends on container host Compiler: gcc 11.5.0 20240719 (Red Hat 11.5.0-2) Debian 11 (Buster) (ARM) Kernel: Depends on container host Compiler: gcc (Debian 10.2.1-6) 10.2.1 20210110 Debian 12 (arm) Kernel: Depends on container host Compiler: gcc (Debian 12.2.0-14) 12.2.0 Ubuntu 20.04 ARM Clang Cross Compile Kernel: Depends on container host Compiler: clang 10.0.0-4ubuntu1 Ubuntu 20.04 aarch32 GCC Cross Compile Kernel: Depends on container host Compiler: gcc 9.4.0 Fedora 41 (ARM) Kernel: Depends on container host Compiler: gcc 14.2.1 20240912 (Red Hat 14.2.1-3) To view detailed results, visit: https://lab.dpdk.org/results/dashboard/patchsets/32528/ UNH-IOL DPDK Community Lab To manage your email subscriptions, visit: https://lab.dpdk.org/results/dashboard/preferences/subscriptions/