From mboxrd@z Thu Jan 1 00:00:00 1970 Return-Path: Received: from mails.dpdk.org (mails.dpdk.org [217.70.189.124]) by inbox.dpdk.org (Postfix) with ESMTP id C66D5461C4 for ; Sat, 8 Feb 2025 06:31:21 +0100 (CET) Received: from mails.dpdk.org (localhost [127.0.0.1]) by mails.dpdk.org (Postfix) with ESMTP id BFEC940280; Sat, 8 Feb 2025 06:31:21 +0100 (CET) Received: from mail-pj1-f99.google.com (mail-pj1-f99.google.com [209.85.216.99]) by mails.dpdk.org (Postfix) with ESMTP id 7880740279 for ; Sat, 8 Feb 2025 06:31:20 +0100 (CET) Received: by mail-pj1-f99.google.com with SMTP id 98e67ed59e1d1-2f9f6a2fa8dso3931581a91.1 for ; Fri, 07 Feb 2025 21:31:20 -0800 (PST) DKIM-Signature: v=1; a=rsa-sha256; c=relaxed/relaxed; d=iol.unh.edu; s=unh-iol; t=1738992679; x=1739597479; darn=dpdk.org; h=references:in-reply-to:cc:to:from:subject:message-id:date:from:to :cc:subject:date:message-id:reply-to; bh=fyYz5Sr8MzxVNXDazTNOnlv879w+xz7CvqZXSDxEBvo=; b=W8s+K78jOfoUuNikHYX7/QSYSP3mE+6WjhYGeZl5Lw4q4TLR4pQCyZug3yj9XmNm2m /IvSS6T9/jf6DQe4/RDvEL25efYHQsK0g2D9otLlhkU8JsscmDPQlAWh2H1LZUcAt7AT ANp+fjJyZMvIQkkcvod+YMZAEwHCPdWEg4gas= X-Google-DKIM-Signature: v=1; a=rsa-sha256; c=relaxed/relaxed; d=1e100.net; s=20230601; t=1738992679; x=1739597479; h=references:in-reply-to:cc:to:from:subject:message-id:date :x-gm-message-state:from:to:cc:subject:date:message-id:reply-to; bh=fyYz5Sr8MzxVNXDazTNOnlv879w+xz7CvqZXSDxEBvo=; b=OEQyVNFOEG0/Gt7rgxvw+6mR3BLcIqY2yhtRHk+TP/T3mfDRZvQ8Jd0WD690Q7uCy0 Uc0TQ24blZ1ioA0hDSZL6+i97lEk9BhfdW5TU62N7GTeTEszH7BgHC47089ZIbNhQZia 4udbisONsPXUkM33O9DQFFisx9SEopBCVn487YvsTfdZrXqvVA+3frtKaYb97aqaZ9TR QdQ+v0/dGkoKSb7Iuz6CzqbWvsl9Q4gAonLnp3TS5TDCN0FPCP5tI7ExyfzEQp3PmbdA q8MWA7y+bXk+I5LXUWpDKoy7L8nYAc7t+XpcJx4H5Or+ewNpO+BJzMKbeovZ1nLeZfDw NONQ== X-Gm-Message-State: AOJu0YyszocvIA+cVNVzkJ0j7AnhLoUeKkwP1dG6q64Uq2mgAy/iJSPk iobKRZBUBX/1dpiZHt7rMfX8HBnwEyC2YF6Cv1MFwm4+Py9tKy8/caaQgwZyk7W3A1iY8kn+zCc Aihf4ycML5DTACFDvJlsFwIMV4L6ZxfCYFAg26Vk6 X-Gm-Gg: ASbGncsC2ip7L3hQ6yhs8fKFMqnitwNxqTmJCiApGSoHbYKwFrNzRDf4zQMDoM3e2OJ 2z9msJJONpCoONjvm8L4eeZU67v63RxYWOXbFT735kEtRY03BkdriYQi/tDAgfaXVIoHc+D5xa8 TDJDN44S2mVIdr5RBTv6Eqo431xfmKPRHLV4kqcbS3BZhRHxsHcRfuteBMZHEiC/nm+gNFn1UhR BWIf0puHwwuORs4Zx3op1B5IRmj+fF4jp6jnzSWlCZHgCesGGhX/r4aBxuwI0ZShKm316/lMpL2 sccYK3SHJ8BZsJ67bq0o5mekZWBQ/w== X-Google-Smtp-Source: AGHT+IH/PYtCWzO/P1oeGdjJWHWVWOd7e6R1UCnik0PqyQENn8eIAf/YKYyvKAr3J20x3YjVM9e+6DEb5gAu X-Received: by 2002:a17:90b:4d0c:b0:2f1:4715:5987 with SMTP id 98e67ed59e1d1-2fa240642f5mr8942432a91.9.1738992679551; Fri, 07 Feb 2025 21:31:19 -0800 (PST) Received: from postal.iol.unh.edu (postal.iol.unh.edu. [132.177.123.84]) by smtp-relay.gmail.com with ESMTPS id d9443c01a7336-21f3650cf7bsm2751175ad.5.2025.02.07.21.31.19 (version=TLS1_2 cipher=ECDHE-ECDSA-AES128-GCM-SHA256 bits=128/128); Fri, 07 Feb 2025 21:31:19 -0800 (PST) X-Relaying-Domain: iol.unh.edu Date: Fri, 07 Feb 2025 21:31:19 -0800 (PST) Message-ID: <67a6ec27.170a0220.3ca86a.d8baSMTPIN_ADDED_MISSING@mx.google.com> Received: from [172.21.0.5] (unknown [172.18.0.240]) by postal.iol.unh.edu (Postfix) with ESMTP id B3AC66052471; Sat, 8 Feb 2025 00:31:18 -0500 (EST) Subject: |SUCCESS| pw151133 [PATCH] [v4] test: improve resiliency of malloc a From: dpdklab@iol.unh.edu To: Test Report Cc: dpdk-test-reports@iol.unh.edu In-Reply-To: <20250207143234.850682-1-bruce.richardson@intel.com> References: <20250207143234.850682-1-bruce.richardson@intel.com> Content-Type: text/plain X-BeenThere: test-report@dpdk.org X-Mailman-Version: 2.1.29 Precedence: list List-Id: automatic DPDK test reports List-Unsubscribe: , List-Archive: List-Post: List-Help: List-Subscribe: , Errors-To: test-report-bounces@dpdk.org Test-Label: iol-compile-amd64-testing Test-Status: SUCCESS http://dpdk.org/patch/151133 _Testing PASS_ Submitter: Bruce Richardson Date: Friday, February 07 2025 14:32:34 DPDK git baseline: Repo:dpdk Branch: master CommitID:388b1abe291544106e406cb0a200b5b0c96fe599 151133 --> testing pass Upstream job id: Generic-DPDK-Compile-Meson#359358 Test environment and result as below: +---------------------+--------------------+------------------+-------------------+-------------------+-------------------------+----------------------+ | Environment | dpdk_meson_compile | dpdk_compile_ovs | dpdk_compile_spdk | dpdk_msvc_compile | dpdk_llvm_clang_compile | dpdk_mingw64_compile | +=====================+====================+==================+===================+===================+=========================+======================+ | FreeBSD 13.4 | PASS | SKIPPED | SKIPPED | SKIPPED | SKIPPED | SKIPPED | +---------------------+--------------------+------------------+-------------------+-------------------+-------------------------+----------------------+ | FreeBSD 14.2 | PASS | SKIPPED | SKIPPED | SKIPPED | SKIPPED | SKIPPED | +---------------------+--------------------+------------------+-------------------+-------------------+-------------------------+----------------------+ | CentOS Stream 9 | PASS | PASS | PASS | SKIPPED | SKIPPED | SKIPPED | +---------------------+--------------------+------------------+-------------------+-------------------+-------------------------+----------------------+ | Debian Bullseye | PASS | PASS | PASS | SKIPPED | SKIPPED | SKIPPED | +---------------------+--------------------+------------------+-------------------+-------------------+-------------------------+----------------------+ | Debian 12 | PASS | PASS | PASS | SKIPPED | SKIPPED | SKIPPED | +---------------------+--------------------+------------------+-------------------+-------------------+-------------------------+----------------------+ | Fedora 40 (Clang) | PASS | PASS | PASS | SKIPPED | SKIPPED | SKIPPED | +---------------------+--------------------+------------------+-------------------+-------------------+-------------------------+----------------------+ | Fedora 40 | PASS | PASS | PASS | SKIPPED | SKIPPED | SKIPPED | +---------------------+--------------------+------------------+-------------------+-------------------+-------------------------+----------------------+ | Fedora 41 (Clang) | PASS | PASS | PASS | SKIPPED | SKIPPED | SKIPPED | +---------------------+--------------------+------------------+-------------------+-------------------+-------------------------+----------------------+ | Fedora 41 | PASS | PASS | PASS | SKIPPED | SKIPPED | SKIPPED | +---------------------+--------------------+------------------+-------------------+-------------------+-------------------------+----------------------+ | openSUSE Leap 15 | PASS | SKIPPED | SKIPPED | SKIPPED | SKIPPED | SKIPPED | +---------------------+--------------------+------------------+-------------------+-------------------+-------------------------+----------------------+ | RHEL8 | PASS | PASS | SKIPPED | SKIPPED | SKIPPED | SKIPPED | +---------------------+--------------------+------------------+-------------------+-------------------+-------------------------+----------------------+ | Ubuntu 20.04 | PASS | SKIPPED | SKIPPED | SKIPPED | SKIPPED | SKIPPED | +---------------------+--------------------+------------------+-------------------+-------------------+-------------------------+----------------------+ | Ubuntu 22.04 | PASS | PASS | PASS | SKIPPED | SKIPPED | SKIPPED | +---------------------+--------------------+------------------+-------------------+-------------------+-------------------------+----------------------+ | Ubuntu 24.04 | PASS | PASS | PASS | SKIPPED | SKIPPED | SKIPPED | +---------------------+--------------------+------------------+-------------------+-------------------+-------------------------+----------------------+ | Alpine | PASS | PASS | SKIPPED | SKIPPED | SKIPPED | SKIPPED | +---------------------+--------------------+------------------+-------------------+-------------------+-------------------------+----------------------+ | RHEL9 | PASS | PASS | SKIPPED | SKIPPED | SKIPPED | SKIPPED | +---------------------+--------------------+------------------+-------------------+-------------------+-------------------------+----------------------+ | Windows Server 2022 | SKIPPED | SKIPPED | SKIPPED | PASS | PASS | PASS | +---------------------+--------------------+------------------+-------------------+-------------------+-------------------------+----------------------+ FreeBSD 13.4 Kernel: 13.4-RELEASE-p1 Compiler: clang 18.1.6 FreeBSD 14.2 Kernel: 14.2-RELEASE Compiler: clang 18.1.6 CentOS Stream 9 Kernel: Depends on container host Compiler: gcc 11.5.0 20240719 (Red Hat 11.5.0-2) Debian Bullseye Kernel: Depends on container host Compiler: gcc (Debian 10.2.1-6) 10.2.1 20210110 Debian 12 Kernel: Depends on container host Compiler: gcc (Debian 12.2.0-14) 12.2.0 Fedora 40 (Clang) Kernel: Depends on container host Compiler: clang 18.1.8 (Fedora 18.1.8-1.fc40) Fedora 40 Kernel: Depends on container host Compiler: gcc 14.2.1 20240912 (Red Hat 14.2.1-3) Fedora 41 (Clang) Kernel: Depends on container host Compiler: clang 19.1.5 (Fedora 19.1.5-1.fc41) Fedora 41 Kernel: Depends on container host Compiler: gcc 14.2.1 20240912 (Red Hat 14.2.1-3) openSUSE Leap 15 Kernel: Depends on container host Compiler: gcc (SUSE Linux) 7.5.0 RHEL8 Kernel: Depends on container host Compiler: gcc 8.5.0 20210514 (Red Hat 8.5.0-22) Ubuntu 20.04 Kernel: Depends on container host Compiler: gcc (Ubuntu 9.4.0-1ubuntu1~20.04.2) 9.4.0 Ubuntu 22.04 Kernel: Depends on container host Compiler: gcc (Ubuntu 11.4.0-1ubuntu1~22.04) 11.4.0 Ubuntu 24.04 Kernel: Depends on container host Compiler: gcc (Ubuntu 13.3.0-6ubuntu2~24.04) 13.3.0 Alpine Kernel: Depends on container host Compiler: gcc (Alpine 14.2.0) 14.2.0 RHEL9 Kernel: Depends on container host Compiler: gcc 11.5.0 20240719 (Red Hat 11.5.0-2) Windows Server 2022 Kernel: 10.0.20348.2031 Compiler: clang 15.0.7, gcc 14.1.0 (MinGW), and MSVC VS 19.39.33521 To view detailed results, visit: https://lab.dpdk.org/results/dashboard/patchsets/32527/ UNH-IOL DPDK Community Lab To manage your email subscriptions, visit: https://lab.dpdk.org/results/dashboard/preferences/subscriptions/