From mboxrd@z Thu Jan 1 00:00:00 1970 Return-Path: Received: from mails.dpdk.org (mails.dpdk.org [217.70.189.124]) by inbox.dpdk.org (Postfix) with ESMTP id 598D3461C4 for ; Sat, 8 Feb 2025 06:34:00 +0100 (CET) Received: from mails.dpdk.org (localhost [127.0.0.1]) by mails.dpdk.org (Postfix) with ESMTP id 5515E40280; Sat, 8 Feb 2025 06:34:00 +0100 (CET) Received: from mail-il1-f227.google.com (mail-il1-f227.google.com [209.85.166.227]) by mails.dpdk.org (Postfix) with ESMTP id C15D340279 for ; Sat, 8 Feb 2025 06:33:58 +0100 (CET) Received: by mail-il1-f227.google.com with SMTP id e9e14a558f8ab-3d13e4dd0f2so11871255ab.3 for ; Fri, 07 Feb 2025 21:33:58 -0800 (PST) DKIM-Signature: v=1; a=rsa-sha256; c=relaxed/relaxed; d=iol.unh.edu; s=unh-iol; t=1738992838; x=1739597638; darn=dpdk.org; h=references:in-reply-to:cc:to:from:subject:message-id:date:from:to :cc:subject:date:message-id:reply-to; bh=TK2kJW+uXqa/hxvviaTKBl4yH0mY7yPoMT7CEPpIfkM=; b=RcK+L9uZ6B8ZZpSO4alQJlmwYK/zwgLdo8QDzshF9IEYwDiUkqfHDEH20rTAzX9pEK Al1W4suWkvtbW5HHo+UZ3Ya8/kkNh+ALE2DPTR1yK3IluJzXBB8Zo3SqKJA8payLUuQQ p/TZE6DgLII79HGQFQ5u/Uk1YWkPeYlnIcJFA= X-Google-DKIM-Signature: v=1; a=rsa-sha256; c=relaxed/relaxed; d=1e100.net; s=20230601; t=1738992838; x=1739597638; h=references:in-reply-to:cc:to:from:subject:message-id:date :x-gm-message-state:from:to:cc:subject:date:message-id:reply-to; bh=TK2kJW+uXqa/hxvviaTKBl4yH0mY7yPoMT7CEPpIfkM=; b=Zoohkll+yg3oxWcnyxsOfpxWuWjtmK50RMDK5AA5NnqqIc4PDd/3exR03dUG2E5Ztm yUjQlBP92cIO8YO4p29j3pSZkR9SIxxZc05JDCL6+kY6sAUWLyytvruocisNGug3IXy4 7cILM2UM+9eGJtn6o1DuUBKJ2N7FUqYKndqORbQGHgxIrnBDJNdMKTMReAmUSEiUXsu+ ZWrkonT+MjnDv6cSgy4I3TAlh04xr5EDHgfSHawgOlrPtVyfwQaPU9YjmGqzKJS91suF XxF8EOfYTEMxkLOPvhPjIFU9dhdIuzBlbSgtdAiGDuSMGuj8NQBh0COlb/q0i8LnANh3 iTvg== X-Gm-Message-State: AOJu0Yy9rc0Bdg4zgYSUGRWr3PgQM3T+IOTA6L7ArsjJZfsitNSi6hW3 REaUbQ6TLmvkzmE+rmXA0U3bNJHdV/V+VT/p8iz2/d7dhFQz41J455w4fQH/udi28MxLWTE81hA GsI0vXZEDL3a4BoO+B8z+ahuvtyu8tDSDQEL3AXL5 X-Gm-Gg: ASbGncuo2J4ZBNMPRMb2e4Io3BJ6iIc9vQUiQyYYWX4hDatdPRO1Y/FB+uyUj7/bcrG Y2BErPKSZFVgwjtSSRdIJKy1koIHpMnyHUnnv03SX8DdTfYIyVekS3y3X5VSZt2cF5QJYuTr3tv LM4jOdVbuqplaVzwIUTfWDm/uKXpTpZBkLzsOCqzjDhQrjc/Ajr7nTgL/7XJLhWnxMQhwXpZHK4 QYAr6LiObAZoHCdrpsM1QzbgbM+UQxMwR181rkpW4A7dug4vKApNZYUF1LRcynJPAwDWFYG5f0X EsQzCHOiZxe+BDw06BLo/PnDu5oPwg== X-Google-Smtp-Source: AGHT+IHfpGnAAT4GMtBYWnLsb2A3Bp47OV833iWZ1rsIaa6CPiWZ+7IsqFgTykIe+3GMPznXW4jZ6yyfdJdj X-Received: by 2002:a92:cd8d:0:b0:3d0:4b3d:75ce with SMTP id e9e14a558f8ab-3d13df0fdeamr41111795ab.17.1738992838173; Fri, 07 Feb 2025 21:33:58 -0800 (PST) Received: from postal.iol.unh.edu (postal.iol.unh.edu. [132.177.123.84]) by smtp-relay.gmail.com with ESMTPS id e9e14a558f8ab-3d05e8da749sm3351755ab.4.2025.02.07.21.33.58 (version=TLS1_2 cipher=ECDHE-ECDSA-AES128-GCM-SHA256 bits=128/128); Fri, 07 Feb 2025 21:33:58 -0800 (PST) X-Relaying-Domain: iol.unh.edu Date: Fri, 07 Feb 2025 21:33:58 -0800 (PST) Message-ID: <67a6ecc6.050a0220.27bd31.1232SMTPIN_ADDED_MISSING@mx.google.com> Received: from [172.21.0.6] (unknown [172.18.0.240]) by postal.iol.unh.edu (Postfix) with ESMTP id A906F6052471; Sat, 8 Feb 2025 00:33:57 -0500 (EST) Subject: |SUCCESS| pw151136 [PATCH] [v5] net: add thread-safe crc api From: dpdklab@iol.unh.edu To: Test Report Cc: dpdk-test-reports@iol.unh.edu In-Reply-To: <20250207182443.9775-1-arkadiuszx.kusztal@intel.com> References: <20250207182443.9775-1-arkadiuszx.kusztal@intel.com> Content-Type: text/plain X-BeenThere: test-report@dpdk.org X-Mailman-Version: 2.1.29 Precedence: list List-Id: automatic DPDK test reports List-Unsubscribe: , List-Archive: List-Post: List-Help: List-Subscribe: , Errors-To: test-report-bounces@dpdk.org Test-Label: iol-abi-testing Test-Status: SUCCESS http://dpdk.org/patch/151136 _Testing PASS_ Submitter: Arkadiusz Kusztal Date: Friday, February 07 2025 18:24:43 DPDK git baseline: Repo:dpdk Branch: master CommitID:7125636162d67b1c40ba6802a3ff4466d125d243 151136 --> testing pass Upstream job id: Generic-DPDK-Compile-ABI#115379 Test environment and result as below: +-------------------+----------+ | Environment | abi_test | +===================+==========+ | openSUSE Leap 15 | PASS | +-------------------+----------+ | Fedora 41 | PASS | +-------------------+----------+ | Fedora 41 (Clang) | PASS | +-------------------+----------+ | Ubuntu 24.04 | PASS | +-------------------+----------+ openSUSE Leap 15 Kernel: Depends on container host Compiler: gcc (SUSE Linux) 7.5.0 Fedora 41 Kernel: Depends on container host Compiler: gcc 14.2.1 20240912 (Red Hat 14.2.1-3) Fedora 41 (Clang) Kernel: Depends on container host Compiler: clang 19.1.5 (Fedora 19.1.5-1.fc41) Ubuntu 24.04 Kernel: Depends on container host Compiler: gcc (Ubuntu 13.3.0-6ubuntu2~24.04) 13.3.0 To view detailed results, visit: https://lab.dpdk.org/results/dashboard/patchsets/32530/ UNH-IOL DPDK Community Lab To manage your email subscriptions, visit: https://lab.dpdk.org/results/dashboard/preferences/subscriptions/