From mboxrd@z Thu Jan  1 00:00:00 1970
Return-Path: <test-report-bounces@dpdk.org>
Received: from mails.dpdk.org (mails.dpdk.org [217.70.189.124])
	by inbox.dpdk.org (Postfix) with ESMTP id 6F548461C4
	for <public@inbox.dpdk.org>; Sat,  8 Feb 2025 06:53:18 +0100 (CET)
Received: from mails.dpdk.org (localhost [127.0.0.1])
	by mails.dpdk.org (Postfix) with ESMTP id 4FBD340280;
	Sat,  8 Feb 2025 06:53:18 +0100 (CET)
Received: from mail-il1-f226.google.com (mail-il1-f226.google.com
 [209.85.166.226])
 by mails.dpdk.org (Postfix) with ESMTP id AF8B640279
 for <test-report@dpdk.org>; Sat,  8 Feb 2025 06:53:16 +0100 (CET)
Received: by mail-il1-f226.google.com with SMTP id
 e9e14a558f8ab-3d0521f966aso7170645ab.2
 for <test-report@dpdk.org>; Fri, 07 Feb 2025 21:53:16 -0800 (PST)
DKIM-Signature: v=1; a=rsa-sha256; c=relaxed/relaxed;
 d=iol.unh.edu; s=unh-iol; t=1738993996; x=1739598796; darn=dpdk.org;
 h=references:in-reply-to:cc:to:from:subject:message-id:date:from:to
 :cc:subject:date:message-id:reply-to;
 bh=Vhsnzdm2LVLAVanZAw7vyTZ/jY3hybXSY8ulUYYuEVE=;
 b=c5kfDM5uYcKci083mVdQAT4gDHDF4oB0dkLQ1ZFezbjNzlr/L0Qz7DSeesDjKqU1h/
 apepiOgVqfBz3WbZzLpH60C0TDfXiuKB08TNgVcI3vZcuW4K6TV3JvhibbwPwCJ7klEw
 7OyevjGe87Usw/+mkt/Z44Xww+JOfbGEHJ2kg=
X-Google-DKIM-Signature: v=1; a=rsa-sha256; c=relaxed/relaxed;
 d=1e100.net; s=20230601; t=1738993996; x=1739598796;
 h=references:in-reply-to:cc:to:from:subject:message-id:date
 :x-gm-message-state:from:to:cc:subject:date:message-id:reply-to;
 bh=Vhsnzdm2LVLAVanZAw7vyTZ/jY3hybXSY8ulUYYuEVE=;
 b=OujeX9bryrl2du7QjPrYqF2EpdAMGNvftsOoJRcLWn9DA1UMCIFqB6b3knLVAS5/ti
 h1xqwaUYnWpFvROiAXImj+w1A366Pa3lsjYSkInVCDL7R3ck3NLE05uwF5CBiQYa8tOg
 uf6UGVyaXD70fJiQFJNA0w7sRcfQOW6W13zqIo/ExKm4Gp42DF7HfOs70c0W/s9tZnmW
 VN5V9m3oSrLyNz/9TCvGe8wTOU0WCGb8uiAozvpanyGXikm1kkU8zAOKBD4TJhpUTA1x
 t0a8Y0mqjDm8dcC9DVb+oy0XTXJzTBfYBqPpkuvV2RnrYiRizcHx5dyFXz/M34anSmIi
 Dl9A==
X-Gm-Message-State: AOJu0Yy9eQTWNRU6Q/bIew0arrC6p5B99x/eo2jsslIE35DI5Ab+sZaM
 IayaPoUXKnatdt8b1RLjEPTF7vxtsQTt5jWjlIVR0vA6OObGaAX5J06Am9kd8fGnyLlBiA69PwK
 hixwSa1pY8SSEFRmUJhE2Owq7ECkyVwiKy3je1Vdx
X-Gm-Gg: ASbGncuV//mc35KLqclxaO0Ilj2bnFmoOvc8hD4NmbNKtdm+Y4dT00+FAhioNzkojB/
 /iwx2IDP7EqLI3swRT6p0FcnndKw31EkCNKJ1ku1ACJI4E6QTI54QxNBfnx7LCOSWIKcCk2deOC
 zrdjEbU4ewTqbah89dapZLR4hoA1lkaefk+kak5wu+ggDL+hJq8RZRFJkjLEi7PpluSzsCCcbcS
 vvqKo0qjWqg4rC9lNlR9ebRH4+3JB0W0oUpoNPfozhs8Hqej9ux5waTobXRUqbqcwzBPKpORc+Y
 MN66h9QWawwjn1yLIRefM6eDQzLz6w==
X-Google-Smtp-Source: AGHT+IHv/TFdmWi+nx0jkhO9QTYzPO8/FIxyQspB4wlrX10h5rTNOuoGBdo2c3JdFzwXGoXl2jMHMAy758pc
X-Received: by 2002:a05:6e02:1aa3:b0:3cf:b012:9f9d with SMTP id
 e9e14a558f8ab-3d13df26199mr39061965ab.14.1738993995946; 
 Fri, 07 Feb 2025 21:53:15 -0800 (PST)
Received: from postal.iol.unh.edu (postal.iol.unh.edu. [132.177.123.84])
 by smtp-relay.gmail.com with ESMTPS id
 e9e14a558f8ab-3d05ea1be66sm3244445ab.57.2025.02.07.21.53.15
 (version=TLS1_2 cipher=ECDHE-ECDSA-AES128-GCM-SHA256 bits=128/128);
 Fri, 07 Feb 2025 21:53:15 -0800 (PST)
X-Relaying-Domain: iol.unh.edu
Date: Fri, 07 Feb 2025 21:53:15 -0800 (PST)
Message-ID: <67a6f14b.920a0220.3d94a8.045eSMTPIN_ADDED_MISSING@mx.google.com>
Received: from [172.21.0.6] (unknown [172.18.0.240])
 by postal.iol.unh.edu (Postfix) with ESMTP id 59E216052471;
 Sat,  8 Feb 2025 00:53:15 -0500 (EST)
Subject: |SUCCESS| pw151134 [PATCH] [v6] eal: define __SIZEOF_LONG__ when usi
From: dpdklab@iol.unh.edu
To: Test Report <test-report@dpdk.org>
Cc: dpdk-test-reports@iol.unh.edu
In-Reply-To: <1738940668-21653-1-git-send-email-andremue@linux.microsoft.com>
References: <1738940668-21653-1-git-send-email-andremue@linux.microsoft.com>
Content-Type: text/plain
X-BeenThere: test-report@dpdk.org
X-Mailman-Version: 2.1.29
Precedence: list
List-Id: automatic DPDK test reports <test-report.dpdk.org>
List-Unsubscribe: <https://mails.dpdk.org/options/test-report>,
 <mailto:test-report-request@dpdk.org?subject=unsubscribe>
List-Archive: <http://mails.dpdk.org/archives/test-report/>
List-Post: <mailto:test-report@dpdk.org>
List-Help: <mailto:test-report-request@dpdk.org?subject=help>
List-Subscribe: <https://mails.dpdk.org/listinfo/test-report>,
 <mailto:test-report-request@dpdk.org?subject=subscribe>
Errors-To: test-report-bounces@dpdk.org

Test-Label: iol-compile-amd64-testing
Test-Status: SUCCESS
http://dpdk.org/patch/151134

_Testing PASS_

Submitter: Andre Muezerie <andremue@linux.microsoft.com>
Date: Friday, February 07 2025 15:04:28 
DPDK git baseline: Repo:dpdk
  Branch: master
  CommitID:388b1abe291544106e406cb0a200b5b0c96fe599

151134 --> testing pass

Upstream job id: Generic-DPDK-Compile-Meson#359315

Test environment and result as below:

+---------------------+--------------------+-------------------+------------------+-------------------+-------------------------+----------------------+
|     Environment     | dpdk_meson_compile | dpdk_msvc_compile | dpdk_compile_ovs | dpdk_compile_spdk | dpdk_llvm_clang_compile | dpdk_mingw64_compile |
+=====================+====================+===================+==================+===================+=========================+======================+
| FreeBSD 13.4        | PASS               | SKIPPED           | SKIPPED          | SKIPPED           | SKIPPED                 | SKIPPED              |
+---------------------+--------------------+-------------------+------------------+-------------------+-------------------------+----------------------+
| FreeBSD 14.2        | PASS               | SKIPPED           | SKIPPED          | SKIPPED           | SKIPPED                 | SKIPPED              |
+---------------------+--------------------+-------------------+------------------+-------------------+-------------------------+----------------------+
| CentOS Stream 9     | PASS               | SKIPPED           | PASS             | PASS              | SKIPPED                 | SKIPPED              |
+---------------------+--------------------+-------------------+------------------+-------------------+-------------------------+----------------------+
| Debian Bullseye     | PASS               | SKIPPED           | PASS             | PASS              | SKIPPED                 | SKIPPED              |
+---------------------+--------------------+-------------------+------------------+-------------------+-------------------------+----------------------+
| Debian 12           | PASS               | SKIPPED           | PASS             | PASS              | SKIPPED                 | SKIPPED              |
+---------------------+--------------------+-------------------+------------------+-------------------+-------------------------+----------------------+
| Fedora 40           | PASS               | SKIPPED           | PASS             | PASS              | SKIPPED                 | SKIPPED              |
+---------------------+--------------------+-------------------+------------------+-------------------+-------------------------+----------------------+
| Fedora 41 (Clang)   | PASS               | SKIPPED           | PASS             | PASS              | SKIPPED                 | SKIPPED              |
+---------------------+--------------------+-------------------+------------------+-------------------+-------------------------+----------------------+
| Fedora 41           | PASS               | SKIPPED           | PASS             | PASS              | SKIPPED                 | SKIPPED              |
+---------------------+--------------------+-------------------+------------------+-------------------+-------------------------+----------------------+
| openSUSE Leap 15    | PASS               | SKIPPED           | SKIPPED          | SKIPPED           | SKIPPED                 | SKIPPED              |
+---------------------+--------------------+-------------------+------------------+-------------------+-------------------------+----------------------+
| RHEL8               | PASS               | SKIPPED           | PASS             | SKIPPED           | SKIPPED                 | SKIPPED              |
+---------------------+--------------------+-------------------+------------------+-------------------+-------------------------+----------------------+
| RHEL9               | PASS               | SKIPPED           | PASS             | SKIPPED           | SKIPPED                 | SKIPPED              |
+---------------------+--------------------+-------------------+------------------+-------------------+-------------------------+----------------------+
| Ubuntu 20.04        | PASS               | SKIPPED           | SKIPPED          | SKIPPED           | SKIPPED                 | SKIPPED              |
+---------------------+--------------------+-------------------+------------------+-------------------+-------------------------+----------------------+
| Ubuntu 22.04        | PASS               | SKIPPED           | PASS             | PASS              | SKIPPED                 | SKIPPED              |
+---------------------+--------------------+-------------------+------------------+-------------------+-------------------------+----------------------+
| Ubuntu 24.04        | PASS               | SKIPPED           | PASS             | PASS              | SKIPPED                 | SKIPPED              |
+---------------------+--------------------+-------------------+------------------+-------------------+-------------------------+----------------------+
| Alpine              | PASS               | SKIPPED           | PASS             | SKIPPED           | SKIPPED                 | SKIPPED              |
+---------------------+--------------------+-------------------+------------------+-------------------+-------------------------+----------------------+
| Fedora 40 (Clang)   | PASS               | SKIPPED           | PASS             | PASS              | SKIPPED                 | SKIPPED              |
+---------------------+--------------------+-------------------+------------------+-------------------+-------------------------+----------------------+
| Windows Server 2022 | SKIPPED            | PASS              | SKIPPED          | SKIPPED           | PASS                    | PASS                 |
+---------------------+--------------------+-------------------+------------------+-------------------+-------------------------+----------------------+


FreeBSD 13.4
	Kernel: 13.4-RELEASE-p1
	Compiler: clang 18.1.6

FreeBSD 14.2
	Kernel: 14.2-RELEASE
	Compiler: clang 18.1.6

CentOS Stream 9
	Kernel: Depends on container host
	Compiler: gcc 11.5.0 20240719 (Red Hat 11.5.0-2)

Debian Bullseye
	Kernel: Depends on container host
	Compiler: gcc (Debian 10.2.1-6) 10.2.1 20210110

Debian 12
	Kernel: Depends on container host
	Compiler: gcc (Debian 12.2.0-14) 12.2.0

Fedora 40
	Kernel: Depends on container host
	Compiler: gcc 14.2.1 20240912 (Red Hat 14.2.1-3)

Fedora 41 (Clang)
	Kernel: Depends on container host
	Compiler: clang 19.1.5 (Fedora 19.1.5-1.fc41)

Fedora 41
	Kernel: Depends on container host
	Compiler: gcc 14.2.1 20240912 (Red Hat 14.2.1-3)

openSUSE Leap 15
	Kernel: Depends on container host
	Compiler: gcc (SUSE Linux) 7.5.0

RHEL8
	Kernel: Depends on container host
	Compiler: gcc 8.5.0 20210514 (Red Hat 8.5.0-22)

RHEL9
	Kernel: Depends on container host
	Compiler: gcc 11.5.0 20240719 (Red Hat 11.5.0-2)

Ubuntu 20.04
	Kernel: Depends on container host
	Compiler: gcc (Ubuntu 9.4.0-1ubuntu1~20.04.2) 9.4.0

Ubuntu 22.04
	Kernel: Depends on container host
	Compiler: gcc (Ubuntu 11.4.0-1ubuntu1~22.04) 11.4.0

Ubuntu 24.04
	Kernel: Depends on container host
	Compiler: gcc (Ubuntu 13.3.0-6ubuntu2~24.04) 13.3.0

Alpine
	Kernel: Depends on container host
	Compiler: gcc (Alpine 14.2.0) 14.2.0

Fedora 40 (Clang)
	Kernel: Depends on container host
	Compiler: clang 18.1.8 (Fedora 18.1.8-1.fc40)

Windows Server 2022
	Kernel: 10.0.20348.2031
	Compiler: clang 15.0.7, gcc 14.1.0 (MinGW), and MSVC VS 19.39.33521

To view detailed results, visit:
https://lab.dpdk.org/results/dashboard/patchsets/32528/

UNH-IOL DPDK Community Lab

To manage your email subscriptions, visit: 
https://lab.dpdk.org/results/dashboard/preferences/subscriptions/