From mboxrd@z Thu Jan 1 00:00:00 1970 Return-Path: Received: from mails.dpdk.org (mails.dpdk.org [217.70.189.124]) by inbox.dpdk.org (Postfix) with ESMTP id A4F66461C4 for ; Sat, 8 Feb 2025 07:05:22 +0100 (CET) Received: from mails.dpdk.org (localhost [127.0.0.1]) by mails.dpdk.org (Postfix) with ESMTP id 6F93840280; Sat, 8 Feb 2025 07:05:22 +0100 (CET) Received: from mail-pl1-f227.google.com (mail-pl1-f227.google.com [209.85.214.227]) by mails.dpdk.org (Postfix) with ESMTP id 430B540279 for ; Sat, 8 Feb 2025 07:05:21 +0100 (CET) Received: by mail-pl1-f227.google.com with SMTP id d9443c01a7336-21ddab8800bso40142225ad.3 for ; Fri, 07 Feb 2025 22:05:21 -0800 (PST) DKIM-Signature: v=1; a=rsa-sha256; c=relaxed/relaxed; d=iol.unh.edu; s=unh-iol; t=1738994720; x=1739599520; darn=dpdk.org; h=references:in-reply-to:cc:to:from:subject:message-id:date:from:to :cc:subject:date:message-id:reply-to; bh=Vll5vhkeQCLfuKEpg1DyohVI7QvOMgsdGAxULAnEB0k=; b=RaL4nmQfH7db0sp8CCwcwOzzn8uQmP6VMszJGIXycSdjw1q7UJ5jAYAE0xLm24SJgB xrXhb+8vRzJ2AcJW4bp7oS/6cYxm510w6BP7nRcrvg3DrJvEk4HDJEzjtikhRuqNm+u+ YiIiiXwFrbi/nK6NVz1yLUhgUF8QXPVYBfo6U= X-Google-DKIM-Signature: v=1; a=rsa-sha256; c=relaxed/relaxed; d=1e100.net; s=20230601; t=1738994720; x=1739599520; h=references:in-reply-to:cc:to:from:subject:message-id:date :x-gm-message-state:from:to:cc:subject:date:message-id:reply-to; bh=Vll5vhkeQCLfuKEpg1DyohVI7QvOMgsdGAxULAnEB0k=; b=cAOGgwNS2DrQ66/oGVzVk63H9aNa0iYgFBdgzx7mfxIakRic7Y3xp9ZCecmPzd54lj rVvzBoLOkvY/gjmI79fi/6EP7XBaWp7gGdyYcY0Wc7YcFFsV6GK/1WTYRLthtgRzL9Lk t6jZQKEeLTz7RQ1VEUXqqJcDYlrWanJeBD8zIEMQI5rjVxhigs+MIIr66hj/bZracmlR c1+u+ct3rRZ1YAQ+3rhn8GhUmg/GeCPVps2eJohNivcyDoGMsU4UM1wBsJPkHWRs5ljr 4mAibYERcpfUgGFQ7FSQQo+ksrNBvWfvheIEOPAfJbLYuz9pJySs2modRN1EUEhQiq40 jYfg== X-Gm-Message-State: AOJu0Yyg2CKlFLUR3b8wxv0WEGRJ4sT1Dk9bh8omzet4+k4XIACxp//k QIqwwAI7L4hDVnD91QyWvOmChMmlWSWUOOgzk95IgyKsDGowdXV5soi2XQ9D56lRFJaYJdpvDrl MtMg7fZJLCO1e0lJbidwKhFwqR+v5hirS6SpsqaSd X-Gm-Gg: ASbGncuZP5pKgZ+Hixg0tUd9oHTkHWKaDQ/T/wE+i8qSXxKS1zr5+NPG70Zn8QLO0wz 2zSA+luc4szQeGhSaJcpRJXsmWFdMGOeaVvUsEr/rShSapSORYWUzFYU4E4IyKh8KWMq5Ox8ZRO jmXwc1JiEXHCSg3qYdw6IthR5jybaeXEVlmfXTuIOqzMdSvkIXM5CCbzg36wt6xGDjnOqGlFlly KPGy4Cw9324XKlD4kAmzxfCJ/U4T66tG3+m8TIz/0JXfuT3497i/tq1DADTSLV98omVy/6+sd/6 HCSVNm6sKwrjJ9A+Ti/0mvObHPp3vQ== X-Google-Smtp-Source: AGHT+IFEndBMQ1OjxS0ZEDwmF4qfy1UlGSN/oPIHSLsCza5Dv9wcq2f2UXq4/hxCB/k6Q0DNSBcBBw6Va6i9 X-Received: by 2002:a05:6a21:998c:b0:1e8:bff6:8356 with SMTP id adf61e73a8af0-1ee03a8f4d7mr10844692637.20.1738994719956; Fri, 07 Feb 2025 22:05:19 -0800 (PST) Received: from postal.iol.unh.edu (postal.iol.unh.edu. [132.177.123.84]) by smtp-relay.gmail.com with ESMTPS id d2e1a72fcca58-73079db2f2fsm11109b3a.16.2025.02.07.22.05.19 (version=TLS1_2 cipher=ECDHE-ECDSA-AES128-GCM-SHA256 bits=128/128); Fri, 07 Feb 2025 22:05:19 -0800 (PST) X-Relaying-Domain: iol.unh.edu Date: Fri, 07 Feb 2025 22:05:19 -0800 (PST) Message-ID: <67a6f41f.050a0220.3bed77.07d0SMTPIN_ADDED_MISSING@mx.google.com> Received: from [172.21.0.7] (unknown [172.18.0.240]) by postal.iol.unh.edu (Postfix) with ESMTP id 27CB36052483; Sat, 8 Feb 2025 01:05:19 -0500 (EST) Subject: |SUCCESS| pw151136 [PATCH] [v5] net: add thread-safe crc api From: dpdklab@iol.unh.edu To: Test Report Cc: dpdk-test-reports@iol.unh.edu In-Reply-To: <20250207182443.9775-1-arkadiuszx.kusztal@intel.com> References: <20250207182443.9775-1-arkadiuszx.kusztal@intel.com> Content-Type: text/plain X-BeenThere: test-report@dpdk.org X-Mailman-Version: 2.1.29 Precedence: list List-Id: automatic DPDK test reports List-Unsubscribe: , List-Archive: List-Post: List-Help: List-Subscribe: , Errors-To: test-report-bounces@dpdk.org Test-Label: iol-unit-amd64-testing Test-Status: SUCCESS http://dpdk.org/patch/151136 _Testing PASS_ Submitter: Arkadiusz Kusztal Date: Friday, February 07 2025 18:24:43 DPDK git baseline: Repo:dpdk Branch: master CommitID:7125636162d67b1c40ba6802a3ff4466d125d243 151136 --> testing pass Upstream job id: Generic-Unit-Test-DPDK#313052 Test environment and result as below: +---------------------+----------------+ | Environment | dpdk_unit_test | +=====================+================+ | Fedora 40 | PASS | +---------------------+----------------+ | CentOS Stream 9 | PASS | +---------------------+----------------+ | Fedora 41 | PASS | +---------------------+----------------+ | Debian Bullseye | PASS | +---------------------+----------------+ | Debian 12 | PASS | +---------------------+----------------+ | RHEL8 | PASS | +---------------------+----------------+ | Fedora 41 (Clang) | PASS | +---------------------+----------------+ | Ubuntu 20.04 | PASS | +---------------------+----------------+ | Fedora 40 (Clang) | PASS | +---------------------+----------------+ | RHEL9 | PASS | +---------------------+----------------+ | Ubuntu 22.04 | PASS | +---------------------+----------------+ | Ubuntu 24.04 | PASS | +---------------------+----------------+ | Windows Server 2022 | PASS | +---------------------+----------------+ Fedora 40 Kernel: Depends on container host Compiler: gcc 14.2.1 20240912 (Red Hat 14.2.1-3) CentOS Stream 9 Kernel: Depends on container host Compiler: gcc 11.5.0 20240719 (Red Hat 11.5.0-2) Fedora 41 Kernel: Depends on container host Compiler: gcc 14.2.1 20240912 (Red Hat 14.2.1-3) Debian Bullseye Kernel: Depends on container host Compiler: gcc (Debian 10.2.1-6) 10.2.1 20210110 Debian 12 Kernel: Depends on container host Compiler: gcc (Debian 12.2.0-14) 12.2.0 RHEL8 Kernel: Depends on container host Compiler: gcc 8.5.0 20210514 (Red Hat 8.5.0-22) Fedora 41 (Clang) Kernel: Depends on container host Compiler: clang 19.1.5 (Fedora 19.1.5-1.fc41) Ubuntu 20.04 Kernel: Depends on container host Compiler: gcc (Ubuntu 9.4.0-1ubuntu1~20.04.2) 9.4.0 Fedora 40 (Clang) Kernel: Depends on container host Compiler: clang 18.1.8 (Fedora 18.1.8-1.fc40) RHEL9 Kernel: Depends on container host Compiler: gcc 11.5.0 20240719 (Red Hat 11.5.0-2) Ubuntu 22.04 Kernel: Depends on container host Compiler: gcc (Ubuntu 11.4.0-1ubuntu1~22.04) 11.4.0 Ubuntu 24.04 Kernel: Depends on container host Compiler: gcc (Ubuntu 13.3.0-6ubuntu2~24.04) 13.3.0 Windows Server 2022 Kernel: 10.0.20348.2031 Compiler: clang 15.0.7, gcc 14.1.0 (MinGW), and MSVC VS 19.39.33521 To view detailed results, visit: https://lab.dpdk.org/results/dashboard/patchsets/32530/ UNH-IOL DPDK Community Lab To manage your email subscriptions, visit: https://lab.dpdk.org/results/dashboard/preferences/subscriptions/