From mboxrd@z Thu Jan 1 00:00:00 1970 Return-Path: Received: from mails.dpdk.org (mails.dpdk.org [217.70.189.124]) by inbox.dpdk.org (Postfix) with ESMTP id 12AA5461C4 for ; Sat, 8 Feb 2025 07:40:35 +0100 (CET) Received: from mails.dpdk.org (localhost [127.0.0.1]) by mails.dpdk.org (Postfix) with ESMTP id 0B10540280; Sat, 8 Feb 2025 07:40:35 +0100 (CET) Received: from mail-pj1-f99.google.com (mail-pj1-f99.google.com [209.85.216.99]) by mails.dpdk.org (Postfix) with ESMTP id 90C9240279 for ; Sat, 8 Feb 2025 07:40:33 +0100 (CET) Received: by mail-pj1-f99.google.com with SMTP id 98e67ed59e1d1-2fa1e25e337so2853810a91.1 for ; Fri, 07 Feb 2025 22:40:33 -0800 (PST) DKIM-Signature: v=1; a=rsa-sha256; c=relaxed/relaxed; d=iol.unh.edu; s=unh-iol; t=1738996832; x=1739601632; darn=dpdk.org; h=references:in-reply-to:cc:to:from:subject:message-id:date:from:to :cc:subject:date:message-id:reply-to; bh=edTEhNEGyQuPd1WG06meOAajB5HHSJXhXss89K+NdDQ=; b=jBiIgGVNmVlWTV39KSpYkFGcmROdXVLi5OgagnIcDddwk9kpxiyw32bIESpuUlu4vv 1qd3jWtBul2HqnjeqJw/3PRTe2dXynD0nBxXKMK1TdlUVTxTWl44hXFMrEeoOIbQykCW npSNl1ZHrBwY0x3pdfOWhYlQUDu3ADCXEw7ZQ= X-Google-DKIM-Signature: v=1; a=rsa-sha256; c=relaxed/relaxed; d=1e100.net; s=20230601; t=1738996832; x=1739601632; h=references:in-reply-to:cc:to:from:subject:message-id:date :x-gm-message-state:from:to:cc:subject:date:message-id:reply-to; bh=edTEhNEGyQuPd1WG06meOAajB5HHSJXhXss89K+NdDQ=; b=HDJAOiQav76Lw86NRl9ppkyXkaHGvT9GvNZ6OC4DllxHZ/PNOamICHeSkpi6uqhYFC ormK9QhEMsBbn+WRo0fdUaYjx5Oj92miTJqfJyWTM5ruH3C8PtbvYH22Skh82dX8z9lz ZW5RnikuhLzLAEEc/Tcz6mfFWqXxaDcpHwVmlADE/xIzxHv+lRV3OQNft5/HFEbqd09i svhmAj9IQuX/s6J+567rQ8XDizx3erWnWrlve4Wh5umxioX3dKpzJ/duA/+NexKy6ONa u8qAzjFAHFjjEtSW9Wn3Zw6vpLmiEb3tZI3Amt1pYp8jOyPeqRA3mFCZbYrV7Ba5d4bx adzA== X-Gm-Message-State: AOJu0YwR/sihBqX0t7YFPW02vi4VT6vRUG+Mz0P+BMfe2nodfWshfZ7I QUt9ZqS1TLQttRjKq5okylnTOceSAzhMnp6WvntdunrgSqtd7X3c5OsES2K1aF+DM1nJ9Lwwuro rbEc4tKGPnmqY334cG57NkhMRUZqAxkWLiMzA3UoF X-Gm-Gg: ASbGnctZHsBwjNlALJqRca4VwIGlGADOC9N2YRE9FWJzfXoRT4BrfeLLi967AdMEHYJ wGFSO4ewQR0m17GZzd/FhGOqFqwpqsA4rJ6bSSVBqCgV2OII+2Y9YmwJc3ouZ/URxg5mwo7Gz1C MxRdUKwldkTvEhXRPW4iGdEvJaT0T4af8vTQmJI7urz7sXj01s7emQzyUBHue3my7XIbLXqll+N K2TWtNhdQaOysnw6tw8j2myZvnV1myO4NHkQLf2MDMfnjY72bcgWyNQ/QwUQKvFt0nQqB2da+vC Fo6mCuhYGomqThT2RNW+ZEsMGpuMAQ== X-Google-Smtp-Source: AGHT+IFFx4Cbmw174GepaFz1cveYcdQAc7O7UOnv7pY3d0s6XQ/VxHJrSP3YAuY8XQGJPM+7He+aA3J0Rf/w X-Received: by 2002:a17:90a:6fa1:b0:2f8:b2c:5ef3 with SMTP id 98e67ed59e1d1-2fa24063babmr10308018a91.14.1738996832533; Fri, 07 Feb 2025 22:40:32 -0800 (PST) Received: from postal.iol.unh.edu (postal.iol.unh.edu. [132.177.123.84]) by smtp-relay.gmail.com with ESMTPS id 98e67ed59e1d1-2fa09b60fcdsm382392a91.10.2025.02.07.22.40.32 (version=TLS1_2 cipher=ECDHE-ECDSA-AES128-GCM-SHA256 bits=128/128); Fri, 07 Feb 2025 22:40:32 -0800 (PST) X-Relaying-Domain: iol.unh.edu Date: Fri, 07 Feb 2025 22:40:32 -0800 (PST) Message-ID: <67a6fc60.170a0220.33a10.3765SMTPIN_ADDED_MISSING@mx.google.com> Received: from [172.21.0.5] (unknown [172.18.0.240]) by postal.iol.unh.edu (Postfix) with ESMTP id B04276052471; Sat, 8 Feb 2025 01:40:31 -0500 (EST) Subject: |SUCCESS| pw151136 [PATCH] [v5] net: add thread-safe crc api From: dpdklab@iol.unh.edu To: Test Report Cc: dpdk-test-reports@iol.unh.edu In-Reply-To: <20250207182443.9775-1-arkadiuszx.kusztal@intel.com> References: <20250207182443.9775-1-arkadiuszx.kusztal@intel.com> Content-Type: text/plain X-BeenThere: test-report@dpdk.org X-Mailman-Version: 2.1.29 Precedence: list List-Id: automatic DPDK test reports List-Unsubscribe: , List-Archive: List-Post: List-Help: List-Subscribe: , Errors-To: test-report-bounces@dpdk.org Test-Label: iol-unit-arm64-testing Test-Status: SUCCESS http://dpdk.org/patch/151136 _Testing PASS_ Submitter: Arkadiusz Kusztal Date: Friday, February 07 2025 18:24:43 DPDK git baseline: Repo:dpdk Branch: master CommitID:7125636162d67b1c40ba6802a3ff4466d125d243 151136 --> testing pass Upstream job id: Generic-Unit-Test-DPDK#313053 Test environment and result as below: +-----------------------------+----------------+---------------------------+--------------+------------------------------+ | Environment | dpdk_unit_test | cryptodev_sw_zuc_autotest | lpm_autotest | cryptodev_sw_snow3g_autotest | +=============================+================+===========================+==============+==============================+ | 32-bit Ubuntu 22.04.4 (ARM) | PASS | SKIPPED | SKIPPED | SKIPPED | +-----------------------------+----------------+---------------------------+--------------+------------------------------+ | Debian 11 (Buster) (ARM) | PASS | SKIPPED | SKIPPED | SKIPPED | +-----------------------------+----------------+---------------------------+--------------+------------------------------+ | CentOS Stream 9 (ARM) | PASS | SKIPPED | SKIPPED | SKIPPED | +-----------------------------+----------------+---------------------------+--------------+------------------------------+ | Debian 12 (arm) | PASS | PASS | SKIPPED | PASS | +-----------------------------+----------------+---------------------------+--------------+------------------------------+ | Fedora 40 (ARM) | PASS | SKIPPED | SKIPPED | SKIPPED | +-----------------------------+----------------+---------------------------+--------------+------------------------------+ | Fedora 41 (ARM Clang) | PASS | SKIPPED | SKIPPED | SKIPPED | +-----------------------------+----------------+---------------------------+--------------+------------------------------+ | RHEL9 (ARM) | PASS | SKIPPED | SKIPPED | SKIPPED | +-----------------------------+----------------+---------------------------+--------------+------------------------------+ | Fedora 40 (ARM Clang) | PASS | SKIPPED | SKIPPED | SKIPPED | +-----------------------------+----------------+---------------------------+--------------+------------------------------+ | Fedora 41 (ARM) | PASS | SKIPPED | SKIPPED | SKIPPED | +-----------------------------+----------------+---------------------------+--------------+------------------------------+ | Ubuntu 22.04 (ARM) | PASS | SKIPPED | SKIPPED | SKIPPED | +-----------------------------+----------------+---------------------------+--------------+------------------------------+ | Ubuntu 20.04 (ARM) | PASS | SKIPPED | SKIPPED | SKIPPED | +-----------------------------+----------------+---------------------------+--------------+------------------------------+ | Ubuntu 24.04 (ARM) | PASS | SKIPPED | SKIPPED | SKIPPED | +-----------------------------+----------------+---------------------------+--------------+------------------------------+ | Ubuntu 20.04 ARM SVE | SKIPPED | SKIPPED | PASS | SKIPPED | +-----------------------------+----------------+---------------------------+--------------+------------------------------+ 32-bit Ubuntu 22.04.4 (ARM) Kernel: 5.15.83+ aarch64 Compiler: gcc (Ubuntu 11.4.0-1ubuntu1~22.04) 11.4.0 Debian 11 (Buster) (ARM) Kernel: Depends on container host Compiler: gcc (Debian 10.2.1-6) 10.2.1 20210110 CentOS Stream 9 (ARM) Kernel: Depends on container host Compiler: gcc 11.5.0 20240719 (Red Hat 11.5.0-2) Debian 12 (arm) Kernel: Depends on container host Compiler: gcc (Debian 12.2.0-14) 12.2.0 Fedora 40 (ARM) Kernel: Depends on container host Compiler: gcc 14.2.1 20240912 (Red Hat 14.2.1-3) Fedora 41 (ARM Clang) Kernel: Depends on container host Compiler: clang 19.1.5 (Fedora 19.1.5-1.fc41) RHEL9 (ARM) Kernel: Depends on container host Compiler: gcc 11.5.0 20240719 (Red Hat 11.5.0-2) Fedora 40 (ARM Clang) Kernel: Depends on container host Compiler: clang 18.1.8 (Fedora 18.1.8-1.fc40) Fedora 41 (ARM) Kernel: Depends on container host Compiler: gcc 14.2.1 20240912 (Red Hat 14.2.1-3) Ubuntu 22.04 (ARM) Kernel: Depends on container host Compiler: gcc (Ubuntu 11.4.0-1ubuntu1~22.04) 11.4.0 Ubuntu 20.04 (ARM) Kernel: Depends on container host Compiler: gcc (Ubuntu 9.4.0-1ubuntu1~20.04.2) 9.4.0 Ubuntu 24.04 (ARM) Kernel: Depends on container host Compiler: gcc (Ubuntu 13.3.0-6ubuntu2~24.04) 13.3.0 Ubuntu 20.04 ARM SVE Kernel: Depends on container host Compiler: gcc (Ubuntu 10.5.0-1ubuntu1~20.04) 10.5.0 To view detailed results, visit: https://lab.dpdk.org/results/dashboard/patchsets/32530/ UNH-IOL DPDK Community Lab To manage your email subscriptions, visit: https://lab.dpdk.org/results/dashboard/preferences/subscriptions/