From mboxrd@z Thu Jan 1 00:00:00 1970 Return-Path: Received: from mails.dpdk.org (mails.dpdk.org [217.70.189.124]) by inbox.dpdk.org (Postfix) with ESMTP id E665D461C4 for ; Sat, 8 Feb 2025 07:56:13 +0100 (CET) Received: from mails.dpdk.org (localhost [127.0.0.1]) by mails.dpdk.org (Postfix) with ESMTP id BBF2040280; Sat, 8 Feb 2025 07:56:13 +0100 (CET) Received: from mail-pl1-f228.google.com (mail-pl1-f228.google.com [209.85.214.228]) by mails.dpdk.org (Postfix) with ESMTP id 32EA240279 for ; Sat, 8 Feb 2025 07:56:12 +0100 (CET) Received: by mail-pl1-f228.google.com with SMTP id d9443c01a7336-2166f1e589cso72938505ad.3 for ; Fri, 07 Feb 2025 22:56:12 -0800 (PST) DKIM-Signature: v=1; a=rsa-sha256; c=relaxed/relaxed; d=iol.unh.edu; s=unh-iol; t=1738997771; x=1739602571; darn=dpdk.org; h=references:in-reply-to:cc:to:from:subject:message-id:date:from:to :cc:subject:date:message-id:reply-to; bh=q4mqdfjQz1Bym40nqP0vS6rvReKBj5KHjRd5HI42V3w=; b=byWEIzfThhkAvTLB35uL7V/q/abSGHEGg7XdPqx5ez/OB7WG4u4jTik4rtobziNdG5 UXp5jzFH7E54R929z1WcrLhPNWRSKA+kstPd8e+l6Jg/QIDf16Uk9GEjsL6i2+HJEmCs KsaqD0CyHco5hgcLldByia+g93THOqfoERbzU= X-Google-DKIM-Signature: v=1; a=rsa-sha256; c=relaxed/relaxed; d=1e100.net; s=20230601; t=1738997771; x=1739602571; h=references:in-reply-to:cc:to:from:subject:message-id:date :x-gm-message-state:from:to:cc:subject:date:message-id:reply-to; bh=q4mqdfjQz1Bym40nqP0vS6rvReKBj5KHjRd5HI42V3w=; b=Lrw/SCfg0BMeqIValFAALigZZNh1t3oJjomtJWSi/CfhPDEhMSH4ZYYXQJHGk6K0o0 E7ZoH2oeqDajrQZv7k0eSn32xYoAGgR4M1e3J3HbCW42KbkJ7zwJxVRxmErID2fbDR5+ f+lDTJW4Z8nD4OG/Jstw0/ZTEdZI/NkzmpQ2rCounkXRHwngXrMpO1Q0TiRqLLDAj89U yj/6Y0GQwftbCETqbfuXXRyK9t24Z6vtM3tBXl6u6Lk/DqUJZBkr3+T0uVkluqyOozin ELnqexGHQnFkarAJ4CRUVOj1TnluRiz5G0ow9Ecas5kZxM8gvI/PLBUQICGL1X/gB47T Du7A== X-Gm-Message-State: AOJu0YyLGjt9b+2bUbnBlxqhsUr4fygVvz+5h3jN0ZP5V+kF9v1r9xG0 R3UswltCNsukckYJZrce4woems/H8sz4h0hGaimMGfcvxzJYeHfBxhqrV8h52Z+Y0XuJPLL+ZCa fEVdgnGwXrXGsehEQquubz2s/kNAApuwWYAwn0CUP X-Gm-Gg: ASbGnct0cGvH6gYsHWtMAUFn48j5JiSzP7rAwl+TKdixCuxwR/hGRte8ntUXVdM6436 YzTMHDueqmxnc1MIFl/TNeRHVa6oFHYiz1MhjZzlVE/l/J7r7FUh3xcZTpwZnXSx0WJavtKah0j 7w1HzcZONW9S8BElI0RrT2/hagKmxw3eR1QlJlufsbYKZ1zvFnCISSPCjiJfepJAy0E9hBXstTB rEFBpTyW2CZAdg5WTFqcgDcVHltwHCdFlB4lhgB9r9yvGX5bifcWfcTqtqDrQQf+qePEaQl4zuL 6uQXWObfk/3f+StMhuzFEMh/xNw5Qg== X-Google-Smtp-Source: AGHT+IEyhpr25FVUjelOVBIsbUbIdIHVghVwwX7QXtIO511BzVLcPQnMkUuvc9E6DHfvF3Ox9s/dhoRyIKVz X-Received: by 2002:a17:902:f60a:b0:215:94eb:adb6 with SMTP id d9443c01a7336-21f4e73b2c6mr108399555ad.40.1738997771275; Fri, 07 Feb 2025 22:56:11 -0800 (PST) Received: from postal.iol.unh.edu (postal.iol.unh.edu. [132.177.123.84]) by smtp-relay.gmail.com with ESMTPS id d9443c01a7336-21f368a1ef3sm2991255ad.125.2025.02.07.22.56.11 (version=TLS1_2 cipher=ECDHE-ECDSA-AES128-GCM-SHA256 bits=128/128); Fri, 07 Feb 2025 22:56:11 -0800 (PST) X-Relaying-Domain: iol.unh.edu Date: Fri, 07 Feb 2025 22:56:11 -0800 (PST) Message-ID: <67a7000b.170a0220.aa790.f2d0SMTPIN_ADDED_MISSING@mx.google.com> Received: from [172.21.0.6] (unknown [172.18.0.240]) by postal.iol.unh.edu (Postfix) with ESMTP id 56FDF6052471; Sat, 8 Feb 2025 01:56:10 -0500 (EST) Subject: |SUCCESS| pw151138-151140 [PATCH] [v1,3/3] net/intel: add Tx time qu From: dpdklab@iol.unh.edu To: Test Report Cc: dpdk-test-reports@iol.unh.edu In-Reply-To: <20250207124300.1022523-4-soumyadeep.hore@intel.com> References: <20250207124300.1022523-4-soumyadeep.hore@intel.com> Content-Type: text/plain X-BeenThere: test-report@dpdk.org X-Mailman-Version: 2.1.29 Precedence: list List-Id: automatic DPDK test reports List-Unsubscribe: , List-Archive: List-Post: List-Help: List-Subscribe: , Errors-To: test-report-bounces@dpdk.org Test-Label: iol-unit-amd64-testing Test-Status: SUCCESS http://dpdk.org/patch/151140 _Testing PASS_ Submitter: Soumyadeep Hore Date: Friday, February 07 2025 12:43:00 DPDK git baseline: Repo:dpdk Branch: master CommitID:cebec711bdc507d1b271b50ea1e696db86a3a202 151138-151140 --> testing pass Upstream job id: Generic-Unit-Test-DPDK#313081 Test environment and result as below: +---------------------+----------------+ | Environment | dpdk_unit_test | +=====================+================+ | Debian Bullseye | PASS | +---------------------+----------------+ | CentOS Stream 9 | PASS | +---------------------+----------------+ | Fedora 41 | PASS | +---------------------+----------------+ | Fedora 40 (Clang) | PASS | +---------------------+----------------+ | Debian 12 | PASS | +---------------------+----------------+ | Fedora 40 | PASS | +---------------------+----------------+ | RHEL9 | PASS | +---------------------+----------------+ | Ubuntu 22.04 | PASS | +---------------------+----------------+ | RHEL8 | PASS | +---------------------+----------------+ | Ubuntu 20.04 | PASS | +---------------------+----------------+ | Fedora 41 (Clang) | PASS | +---------------------+----------------+ | Ubuntu 24.04 | PASS | +---------------------+----------------+ | Windows Server 2022 | PASS | +---------------------+----------------+ Debian Bullseye Kernel: Depends on container host Compiler: gcc (Debian 10.2.1-6) 10.2.1 20210110 CentOS Stream 9 Kernel: Depends on container host Compiler: gcc 11.5.0 20240719 (Red Hat 11.5.0-2) Fedora 41 Kernel: Depends on container host Compiler: gcc 14.2.1 20240912 (Red Hat 14.2.1-3) Fedora 40 (Clang) Kernel: Depends on container host Compiler: clang 18.1.8 (Fedora 18.1.8-1.fc40) Debian 12 Kernel: Depends on container host Compiler: gcc (Debian 12.2.0-14) 12.2.0 Fedora 40 Kernel: Depends on container host Compiler: gcc 14.2.1 20240912 (Red Hat 14.2.1-3) RHEL9 Kernel: Depends on container host Compiler: gcc 11.5.0 20240719 (Red Hat 11.5.0-2) Ubuntu 22.04 Kernel: Depends on container host Compiler: gcc (Ubuntu 11.4.0-1ubuntu1~22.04) 11.4.0 RHEL8 Kernel: Depends on container host Compiler: gcc 8.5.0 20210514 (Red Hat 8.5.0-22) Ubuntu 20.04 Kernel: Depends on container host Compiler: gcc (Ubuntu 9.4.0-1ubuntu1~20.04.2) 9.4.0 Fedora 41 (Clang) Kernel: Depends on container host Compiler: clang 19.1.5 (Fedora 19.1.5-1.fc41) Ubuntu 24.04 Kernel: Depends on container host Compiler: gcc (Ubuntu 13.3.0-6ubuntu2~24.04) 13.3.0 Windows Server 2022 Kernel: 10.0.20348.2031 Compiler: clang 15.0.7, gcc 14.1.0 (MinGW), and MSVC VS 19.39.33521 To view detailed results, visit: https://lab.dpdk.org/results/dashboard/patchsets/32532/ UNH-IOL DPDK Community Lab To manage your email subscriptions, visit: https://lab.dpdk.org/results/dashboard/preferences/subscriptions/