From mboxrd@z Thu Jan 1 00:00:00 1970 Return-Path: Received: from mails.dpdk.org (mails.dpdk.org [217.70.189.124]) by inbox.dpdk.org (Postfix) with ESMTP id 90CA4461C6 for ; Sat, 8 Feb 2025 08:07:19 +0100 (CET) Received: from mails.dpdk.org (localhost [127.0.0.1]) by mails.dpdk.org (Postfix) with ESMTP id BD18240280; Sat, 8 Feb 2025 08:07:18 +0100 (CET) Received: from mail-il1-f228.google.com (mail-il1-f228.google.com [209.85.166.228]) by mails.dpdk.org (Postfix) with ESMTP id 04A7140279 for ; Sat, 8 Feb 2025 08:07:17 +0100 (CET) Received: by mail-il1-f228.google.com with SMTP id e9e14a558f8ab-3d07df73412so17434935ab.1 for ; Fri, 07 Feb 2025 23:07:16 -0800 (PST) DKIM-Signature: v=1; a=rsa-sha256; c=relaxed/relaxed; d=iol.unh.edu; s=unh-iol; t=1738998436; x=1739603236; darn=dpdk.org; h=references:in-reply-to:cc:to:from:subject:message-id:date:from:to :cc:subject:date:message-id:reply-to; bh=lReqAtmsr04+Ywe9iUUZas6sHmemnov2eE1kqZEeYGM=; b=G503wl/7uNi7QXg/3sA3iJ7r+igtXssl2BW4qzvX7A4WhVme01llh/zLM7qo0uFvSe lAdT6qEPVfVxjyxNOcFkYpEf2TNROsdpIUqpHHak5C+SD1JIeWubi0cc/5Ntrkw+7bTM NKVCkR9sarMhkFq4yym3RfyD5zJY422N0Yt7g= X-Google-DKIM-Signature: v=1; a=rsa-sha256; c=relaxed/relaxed; d=1e100.net; s=20230601; t=1738998436; x=1739603236; h=references:in-reply-to:cc:to:from:subject:message-id:date :x-gm-message-state:from:to:cc:subject:date:message-id:reply-to; bh=lReqAtmsr04+Ywe9iUUZas6sHmemnov2eE1kqZEeYGM=; b=W+e9VTIgt2A37TzQU1mo3+u5iY9HxTaZkYuIvXRlCTRNIRL7kEaHBHQ/7mVzd+Lm4T gOvgX7881z57ZmllqmSwTOobZ8MpMyEUVD382sv+hFQteb+sadPF/Zj3RLNcNMx/EXYf dNgranF3pvxExRk7h0k3eYa+ng3ilLtlohM10UJZb0uExqZR7t4v5hQ0c6nl1h5W6lRw Tug3wxaTizXB8s5KYUwW6sgcWMsWPgWdJHO744iRXiTohEmKRD/GTi7WsiLcFvk9b1f/ vvbnb2GnMLmqLocK1dRjXA4ivDnZaHSHo8BLS69j8Fj2ywuddSGBCC4fbekTMVdO/vYa /7VA== X-Gm-Message-State: AOJu0Yxy8oi8MMdFky/fN/zE4dnDtGjHlQQn2h/kVe9wt8sa3xrIEuI6 X3cBhp5ZeqwM0ZexZKjaFyfiUcgJ9EyUpfw9l01kjW/rCA4ggoa9DSwYSImyEx57KhrB84edo+H 1fHCB0Nu37Ch7v1ZGvteX5SDyWjmMGYgpmy2QVLsU X-Gm-Gg: ASbGncuAmhGPMpBxPY/t9gFDkYLT7bMX5h1crdeZSs3hII+JyoeC2AkeoFBU56dmEYw LYbxaDkAfAXKkeRO5GlrHxorrYtaY5Yb3LU0ZT8GrcAACKwCRZkXs0GTMRAQnD+QPHz2/+gIeBX wwWtOUW23wdIvDZIgnzFNKWjqEk7iXIdaD/rcsa3wUnFaN5sGkuDhGcrCpPqT8t6JX4qg+D+7jZ 8avJEuuyZEPHNDZKb+ZZpibx+EaGDL7eMYdtjDOkCVOU1i8FwdQQLOoRXJi+wPmNAaAhRXEb0bN o6smYvLZ8F10UESwjuNfmLv+xbIC4g== X-Google-Smtp-Source: AGHT+IEBqOqx8hDPloJm5Tu8iMN3CyrFmvuIo7pJDBDzIDsn1DjD7DKAjyDjpDb/nP6MPleNCQJxwL4ghJnd X-Received: by 2002:a05:6e02:1c8c:b0:3cf:bb11:a3a4 with SMTP id e9e14a558f8ab-3d13df2bd00mr41292575ab.15.1738998436372; Fri, 07 Feb 2025 23:07:16 -0800 (PST) Received: from postal.iol.unh.edu (postal.iol.unh.edu. [132.177.123.84]) by smtp-relay.gmail.com with ESMTPS id e9e14a558f8ab-3d05e9f08c9sm3326365ab.53.2025.02.07.23.07.16 (version=TLS1_2 cipher=ECDHE-ECDSA-AES128-GCM-SHA256 bits=128/128); Fri, 07 Feb 2025 23:07:16 -0800 (PST) X-Relaying-Domain: iol.unh.edu Date: Fri, 07 Feb 2025 23:07:16 -0800 (PST) Message-ID: <67a702a4.050a0220.205d2d.11ebSMTPIN_ADDED_MISSING@mx.google.com> Received: from [172.21.0.5] (unknown [172.18.0.240]) by postal.iol.unh.edu (Postfix) with ESMTP id CE38D6052471; Sat, 8 Feb 2025 02:07:15 -0500 (EST) Subject: |SUCCESS| pw151138-151140 [PATCH] [v1,3/3] net/intel: add Tx time qu From: dpdklab@iol.unh.edu To: Test Report Cc: dpdk-test-reports@iol.unh.edu In-Reply-To: <20250207124300.1022523-4-soumyadeep.hore@intel.com> References: <20250207124300.1022523-4-soumyadeep.hore@intel.com> Content-Type: text/plain X-BeenThere: test-report@dpdk.org X-Mailman-Version: 2.1.29 Precedence: list List-Id: automatic DPDK test reports List-Unsubscribe: , List-Archive: List-Post: List-Help: List-Subscribe: , Errors-To: test-report-bounces@dpdk.org Test-Label: iol-abi-testing Test-Status: SUCCESS http://dpdk.org/patch/151140 _Testing PASS_ Submitter: Soumyadeep Hore Date: Friday, February 07 2025 12:43:00 DPDK git baseline: Repo:dpdk Branch: master CommitID:cebec711bdc507d1b271b50ea1e696db86a3a202 151138-151140 --> testing pass Upstream job id: Generic-DPDK-Compile-ABI#115389 Test environment and result as below: +-------------------+----------+ | Environment | abi_test | +===================+==========+ | CentOS Stream 9 | PASS | +-------------------+----------+ | Debian Bullseye | PASS | +-------------------+----------+ | Debian 12 | PASS | +-------------------+----------+ | Fedora 40 (Clang) | PASS | +-------------------+----------+ | Fedora 41 (Clang) | PASS | +-------------------+----------+ | Fedora 40 | PASS | +-------------------+----------+ | Fedora 41 | PASS | +-------------------+----------+ | Ubuntu 24.04 | PASS | +-------------------+----------+ | Ubuntu 22.04 | PASS | +-------------------+----------+ | RHEL8 | PASS | +-------------------+----------+ | openSUSE Leap 15 | PASS | +-------------------+----------+ | RHEL9 | PASS | +-------------------+----------+ CentOS Stream 9 Kernel: Depends on container host Compiler: gcc 11.5.0 20240719 (Red Hat 11.5.0-2) Debian Bullseye Kernel: Depends on container host Compiler: gcc (Debian 10.2.1-6) 10.2.1 20210110 Debian 12 Kernel: Depends on container host Compiler: gcc (Debian 12.2.0-14) 12.2.0 Fedora 40 (Clang) Kernel: Depends on container host Compiler: clang 18.1.8 (Fedora 18.1.8-1.fc40) Fedora 41 (Clang) Kernel: Depends on container host Compiler: clang 19.1.5 (Fedora 19.1.5-1.fc41) Fedora 40 Kernel: Depends on container host Compiler: gcc 14.2.1 20240912 (Red Hat 14.2.1-3) Fedora 41 Kernel: Depends on container host Compiler: gcc 14.2.1 20240912 (Red Hat 14.2.1-3) Ubuntu 24.04 Kernel: Depends on container host Compiler: gcc (Ubuntu 13.3.0-6ubuntu2~24.04) 13.3.0 Ubuntu 22.04 Kernel: Depends on container host Compiler: gcc (Ubuntu 11.4.0-1ubuntu1~22.04) 11.4.0 RHEL8 Kernel: Depends on container host Compiler: gcc 8.5.0 20210514 (Red Hat 8.5.0-22) openSUSE Leap 15 Kernel: Depends on container host Compiler: gcc (SUSE Linux) 7.5.0 RHEL9 Kernel: Depends on container host Compiler: gcc 11.5.0 20240719 (Red Hat 11.5.0-2) To view detailed results, visit: https://lab.dpdk.org/results/dashboard/patchsets/32532/ UNH-IOL DPDK Community Lab To manage your email subscriptions, visit: https://lab.dpdk.org/results/dashboard/preferences/subscriptions/