From mboxrd@z Thu Jan 1 00:00:00 1970 Return-Path: Received: from mails.dpdk.org (mails.dpdk.org [217.70.189.124]) by inbox.dpdk.org (Postfix) with ESMTP id 26206461C6 for ; Sat, 8 Feb 2025 08:20:19 +0100 (CET) Received: from mails.dpdk.org (localhost [127.0.0.1]) by mails.dpdk.org (Postfix) with ESMTP id 09FBC40280; Sat, 8 Feb 2025 08:20:19 +0100 (CET) Received: from mail-il1-f228.google.com (mail-il1-f228.google.com [209.85.166.228]) by mails.dpdk.org (Postfix) with ESMTP id 272C540279 for ; Sat, 8 Feb 2025 08:20:18 +0100 (CET) Received: by mail-il1-f228.google.com with SMTP id e9e14a558f8ab-3d13e4dd0f2so12350505ab.3 for ; Fri, 07 Feb 2025 23:20:18 -0800 (PST) DKIM-Signature: v=1; a=rsa-sha256; c=relaxed/relaxed; d=iol.unh.edu; s=unh-iol; t=1738999217; x=1739604017; darn=dpdk.org; h=references:in-reply-to:cc:to:from:subject:message-id:date:from:to :cc:subject:date:message-id:reply-to; bh=nK5B67dUOXt/iKtWnmd0uwxeMfUZjmiE1HUGu6gvh9A=; b=TjFQccf8jjZEZtrpJFIGbx1wFN4Yui761O3GQqcyvJ3b81jholdBHn44KXxHwYF2Oo /idn/iHSrw8vi+NPmSAq9g5UvuJd508tAjLWFb5CUrBFvM5VW1Trccqqyi0A+Z6NaIOp 7IxWhPjikb5hwW6xidtkYpH90HGyKI+NASHKI= X-Google-DKIM-Signature: v=1; a=rsa-sha256; c=relaxed/relaxed; d=1e100.net; s=20230601; t=1738999217; x=1739604017; h=references:in-reply-to:cc:to:from:subject:message-id:date :x-gm-message-state:from:to:cc:subject:date:message-id:reply-to; bh=nK5B67dUOXt/iKtWnmd0uwxeMfUZjmiE1HUGu6gvh9A=; b=WZDBwsIeCepeQtzteQtejLzPdndAriNBlRhpc5s0HAlovQz1dp5EaIPFlsVdUL+OvG 6tShtFRIxbI1kvDFPVvmlN7ezUCHmqeLgUDZ49+DD3crlKnYQUCJRSWnFY/1MiMBdC3X 28pqNnHJXDpBbP1Fe0vue5Ek+KfgNgdUZVrkj6C//epXyht5oqBXtMv+2hi6M/99BpfH zG+qul1QJHabO41fXF+oBVeLvPExDG4eM4cZsBTBq8WOONrA0IS0l1SzFRiuRmEVGwuN Z15fog3LDWlVjY03dq/pxJZDIHprdE8L/nuev02G2o5QNeS2OYiEMWME88b6scRGTkVK xVLw== X-Gm-Message-State: AOJu0YyFckefXj1KQB2Pq4qMn+uhXihfV9Q7QwkHkTDs+PEA3U6saXTC cz8vx2fgkyDB1VsjYGujtQjBmI1f6nniY1oWG0A/0avFOf3QU7gbCUHw4KDvuZSIb7J7x1xiL0+ 2ihmZmcPkNi6a7alkBZuMY5lxeYRaXWGHCxWET3bh X-Gm-Gg: ASbGncuv2lkljlrFZ2ekeMaFN4VsruBZRZvx9FRDThUmvUyUAFuCb69hDohqcil+Iep YMsuQYioFd8pj9fWz8PoEJ19HKOqLhPtA/iBMDxYa8buMrmbb/0VqPg7Sr2bXrOzhUu1fk1eizr YggVrbcscc/0bsB5aVwFf5eWQH2Q9KxSz/QcURZ0/7u8XLfmFCqqd1oB2j0uG2tTPOciBbJ9u7t LGLn5U5f7Gb9meifmt9P2umTa67GYFvR+ajI759voDXxqhgY/yg5PKDXp55+fkO7il1MvzuEn3B 0AOKAt5Wl5r9Q+UE8GJ/4l7ipODv9g== X-Google-Smtp-Source: AGHT+IGtGG2tbMuyv76R3akSmubqrt6S3lWDXackX/y2i3QpkmTQBBlEk49sxNL8AztSuq3WG5EBr7/A7y1i X-Received: by 2002:a05:6e02:1546:b0:3d0:21aa:a756 with SMTP id e9e14a558f8ab-3d13dd0ad54mr47656015ab.5.1738999217365; Fri, 07 Feb 2025 23:20:17 -0800 (PST) Received: from postal.iol.unh.edu (postal.iol.unh.edu. [132.177.123.84]) by smtp-relay.gmail.com with ESMTPS id e9e14a558f8ab-3d05e919183sm3375365ab.33.2025.02.07.23.20.17 (version=TLS1_2 cipher=ECDHE-ECDSA-AES128-GCM-SHA256 bits=128/128); Fri, 07 Feb 2025 23:20:17 -0800 (PST) X-Relaying-Domain: iol.unh.edu Date: Fri, 07 Feb 2025 23:20:17 -0800 (PST) Message-ID: <67a705b1.050a0220.d3497.0abcSMTPIN_ADDED_MISSING@mx.google.com> Received: from [172.21.0.6] (unknown [172.18.0.240]) by postal.iol.unh.edu (Postfix) with ESMTP id C4C326052471; Sat, 8 Feb 2025 02:20:16 -0500 (EST) Subject: |SUCCESS| pw151137 [PATCH] devtools: ignore .gitignore in SPDX check From: dpdklab@iol.unh.edu To: Test Report Cc: dpdk-test-reports@iol.unh.edu In-Reply-To: <20250207182634.168820-1-stephen@networkplumber.org> References: <20250207182634.168820-1-stephen@networkplumber.org> Content-Type: text/plain X-BeenThere: test-report@dpdk.org X-Mailman-Version: 2.1.29 Precedence: list List-Id: automatic DPDK test reports List-Unsubscribe: , List-Archive: List-Post: List-Help: List-Subscribe: , Errors-To: test-report-bounces@dpdk.org Test-Label: iol-compile-arm64-testing Test-Status: SUCCESS http://dpdk.org/patch/151137 _Testing PASS_ Submitter: Stephen Hemminger Date: Friday, February 07 2025 18:26:34 DPDK git baseline: Repo:dpdk Branch: master CommitID:388b1abe291544106e406cb0a200b5b0c96fe599 151137 --> testing pass Upstream job id: Generic-DPDK-Compile-Meson#359408 Test environment and result as below: +----------------------------------------+--------------------+ | Environment | dpdk_meson_compile | +========================================+====================+ | RHEL9 (ARM) | PASS | +----------------------------------------+--------------------+ | Ubuntu 20.04 ARM GCC Cross Compile | PASS | +----------------------------------------+--------------------+ | Ubuntu 20.04 ARM SVE | PASS | +----------------------------------------+--------------------+ | Fedora 40 (ARM Clang) | PASS | +----------------------------------------+--------------------+ | Fedora 40 (ARM) | PASS | +----------------------------------------+--------------------+ | Fedora 41 (ARM Clang) | PASS | +----------------------------------------+--------------------+ | Fedora 41 (ARM) | PASS | +----------------------------------------+--------------------+ | Ubuntu 22.04 (ARM) | PASS | +----------------------------------------+--------------------+ | Ubuntu 20.04 (ARM) | PASS | +----------------------------------------+--------------------+ | Ubuntu 24.04 (ARM) | PASS | +----------------------------------------+--------------------+ | CentOS Stream 9 (ARM) | PASS | +----------------------------------------+--------------------+ | Debian 11 (Buster) (ARM) | PASS | +----------------------------------------+--------------------+ | Debian 12 (arm) | PASS | +----------------------------------------+--------------------+ | Ubuntu 20.04 ARM Clang Cross Compile | PASS | +----------------------------------------+--------------------+ | Ubuntu 20.04 aarch32 GCC Cross Compile | PASS | +----------------------------------------+--------------------+ | Debian 12 with MUSDK | PASS | +----------------------------------------+--------------------+ RHEL9 (ARM) Kernel: Depends on container host Compiler: gcc 11.5.0 20240719 (Red Hat 11.5.0-2) Ubuntu 20.04 ARM GCC Cross Compile Kernel: Depends on container host Compiler: aarch64-linux-gnu-gcc (Ubuntu 9.4.0-1ubuntu1~20.04.2) 9.4.0 Ubuntu 20.04 ARM SVE Kernel: Depends on container host Compiler: gcc (Ubuntu 10.5.0-1ubuntu1~20.04) 10.5.0 Fedora 40 (ARM Clang) Kernel: Depends on container host Compiler: clang 18.1.8 (Fedora 18.1.8-1.fc40) Fedora 40 (ARM) Kernel: Depends on container host Compiler: gcc 14.2.1 20240912 (Red Hat 14.2.1-3) Fedora 41 (ARM Clang) Kernel: Depends on container host Compiler: clang 19.1.5 (Fedora 19.1.5-1.fc41) Fedora 41 (ARM) Kernel: Depends on container host Compiler: gcc 14.2.1 20240912 (Red Hat 14.2.1-3) Ubuntu 22.04 (ARM) Kernel: Depends on container host Compiler: gcc (Ubuntu 11.4.0-1ubuntu1~22.04) 11.4.0 Ubuntu 20.04 (ARM) Kernel: Depends on container host Compiler: gcc (Ubuntu 9.4.0-1ubuntu1~20.04.2) 9.4.0 Ubuntu 24.04 (ARM) Kernel: Depends on container host Compiler: gcc (Ubuntu 13.3.0-6ubuntu2~24.04) 13.3.0 CentOS Stream 9 (ARM) Kernel: Depends on container host Compiler: gcc 11.5.0 20240719 (Red Hat 11.5.0-2) Debian 11 (Buster) (ARM) Kernel: Depends on container host Compiler: gcc (Debian 10.2.1-6) 10.2.1 20210110 Debian 12 (arm) Kernel: Depends on container host Compiler: gcc (Debian 12.2.0-14) 12.2.0 Ubuntu 20.04 ARM Clang Cross Compile Kernel: Depends on container host Compiler: clang 10.0.0-4ubuntu1 Ubuntu 20.04 aarch32 GCC Cross Compile Kernel: Depends on container host Compiler: gcc 9.4.0 Debian 12 with MUSDK Kernel: Depends on container host Compiler: gcc (Debian 12.2.0-14) 12.2.0 To view detailed results, visit: https://lab.dpdk.org/results/dashboard/patchsets/32531/ UNH-IOL DPDK Community Lab To manage your email subscriptions, visit: https://lab.dpdk.org/results/dashboard/preferences/subscriptions/