From mboxrd@z Thu Jan  1 00:00:00 1970
Return-Path: <test-report-bounces@dpdk.org>
Received: from mails.dpdk.org (mails.dpdk.org [217.70.189.124])
	by inbox.dpdk.org (Postfix) with ESMTP id C5115461C6
	for <public@inbox.dpdk.org>; Sat,  8 Feb 2025 08:27:49 +0100 (CET)
Received: from mails.dpdk.org (localhost [127.0.0.1])
	by mails.dpdk.org (Postfix) with ESMTP id A0ABE40280;
	Sat,  8 Feb 2025 08:27:49 +0100 (CET)
Received: from mail-pl1-f227.google.com (mail-pl1-f227.google.com
 [209.85.214.227])
 by mails.dpdk.org (Postfix) with ESMTP id 8386F40279
 for <test-report@dpdk.org>; Sat,  8 Feb 2025 08:27:48 +0100 (CET)
Received: by mail-pl1-f227.google.com with SMTP id
 d9443c01a7336-21f4500a5c3so49814055ad.3
 for <test-report@dpdk.org>; Fri, 07 Feb 2025 23:27:48 -0800 (PST)
DKIM-Signature: v=1; a=rsa-sha256; c=relaxed/relaxed;
 d=iol.unh.edu; s=unh-iol; t=1738999667; x=1739604467; darn=dpdk.org;
 h=references:in-reply-to:cc:to:from:subject:message-id:date:from:to
 :cc:subject:date:message-id:reply-to;
 bh=XrsMq09XYOOOTtIK/fNUKpSYoJYv9id1c6TJfoO9mxU=;
 b=Qea5/rA3btkiMKFo+/eeAIRlmQLNTYCIxd2aAYgLbCMryhd017m7WahJoNcUTyxmLL
 nIXqyPB0fXBT/SHG6OS1hjaR0NdnJwPpj6Kq4FmoDP+RHCxEBeyyB/rJMy9tdYygJoDo
 7A4kcWOnfIzBVsGfqNzefCKko4T7kaWPVfjxc=
X-Google-DKIM-Signature: v=1; a=rsa-sha256; c=relaxed/relaxed;
 d=1e100.net; s=20230601; t=1738999667; x=1739604467;
 h=references:in-reply-to:cc:to:from:subject:message-id:date
 :x-gm-message-state:from:to:cc:subject:date:message-id:reply-to;
 bh=XrsMq09XYOOOTtIK/fNUKpSYoJYv9id1c6TJfoO9mxU=;
 b=BhJv7rGFQ0jWWzN4yT0qJ+joDDdRAbh4vSKtGma9bShZxUEs7EvkwEo3q2t5P7byWf
 SpDmTPNbXRAPz0/6mYnhEP+S723ShFjKhwoHRs3Gm/PI0WynmqsmptFNKSxraXGwR68u
 oY/8OuQo981gKDhTAb/hbLaa3tHrX1DT81AkfHN9zb9BwOmPEZt0FuJkCKbYzIKAKrNE
 m6JhbBzcGHpasf+L1irPtX/Zp/iw4K/qEkORTQM9CnxmjfnxzH0EYAuUPSRtwK2vhkDP
 JLp73uS5WyB1lFHtnNu/fdrS7RGmICdF9dPIQ9zYZNgk2H4uk/pRxfZzLsgJaNQYUi1F
 a0pQ==
X-Gm-Message-State: AOJu0YyXPLSYciIYJHvKPIepEaUv7okd8lwIkYwPIzWcJQ39jNCMVuNL
 hdIgslvZY364qTuJ03vxGJBZ3lcVKDEiJ5T/ZTTD2rDgvIUzn1bFljgXwRkei6YNH9t7jaBG9P0
 jALyFYVRlpBqz7nARTP96Rgm8/3OVuYKS516wqz51
X-Gm-Gg: ASbGncsWtkzEhtZVIxn41Bd4S4Jw0XjhUGMpcdEIIxt3XquwxdsySwlDSwrXFEWHQw9
 aOediwTYMTwxRyFdEvDmAC5plZoT43Zqq3Botn8Z1stSV3sWJtVceinpKJzUsMM7ElPb9yuuJAn
 gi12rS7D3Tb8XTxIjlUiI2jlD37TMP62qVIIwwdrOxUSW2nlptK9aRDLzwAHBL8/STipkq5v2fD
 OzZY1AHCI9P+y9d1wmUrCKFLyf3hzwRmUDWp+TGM1qZ4Thbj9F5+yW9TqFfUiRPfGcduacqHFaL
 C2vBz4Tdlv/cQzJB7B0gzgjq36qZkg==
X-Google-Smtp-Source: AGHT+IEvFhf1FwQqwC/+hdHKEN6DSMYc2Hsbx2I+BRJzHXYr+BjwLtAKTmZEwISxSLGmhheIl83oopyZz4Gn
X-Received: by 2002:a17:902:d4d2:b0:21f:5cd8:c6b with SMTP id
 d9443c01a7336-21f5cd8121bmr60386175ad.19.1738999667427; 
 Fri, 07 Feb 2025 23:27:47 -0800 (PST)
Received: from postal.iol.unh.edu (postal.iol.unh.edu. [132.177.123.84])
 by smtp-relay.gmail.com with ESMTPS id
 d9443c01a7336-21f3694df55sm2948445ad.12.2025.02.07.23.27.47
 (version=TLS1_2 cipher=ECDHE-ECDSA-AES128-GCM-SHA256 bits=128/128);
 Fri, 07 Feb 2025 23:27:47 -0800 (PST)
X-Relaying-Domain: iol.unh.edu
Date: Fri, 07 Feb 2025 23:27:47 -0800 (PST)
Message-ID: <67a70773.170a0220.8af54.f4d4SMTPIN_ADDED_MISSING@mx.google.com>
Received: from [172.21.0.5] (unknown [172.18.0.240])
 by postal.iol.unh.edu (Postfix) with ESMTP id BE4F16052471;
 Sat,  8 Feb 2025 02:27:46 -0500 (EST)
Subject: |SUCCESS| pw151138-151140 [PATCH] [v1,3/3] net/intel: add Tx time qu
From: dpdklab@iol.unh.edu
To: Test Report <test-report@dpdk.org>
Cc: dpdk-test-reports@iol.unh.edu
In-Reply-To: <20250207124300.1022523-4-soumyadeep.hore@intel.com>
References: <20250207124300.1022523-4-soumyadeep.hore@intel.com>
Content-Type: text/plain
X-BeenThere: test-report@dpdk.org
X-Mailman-Version: 2.1.29
Precedence: list
List-Id: automatic DPDK test reports <test-report.dpdk.org>
List-Unsubscribe: <https://mails.dpdk.org/options/test-report>,
 <mailto:test-report-request@dpdk.org?subject=unsubscribe>
List-Archive: <http://mails.dpdk.org/archives/test-report/>
List-Post: <mailto:test-report@dpdk.org>
List-Help: <mailto:test-report-request@dpdk.org?subject=help>
List-Subscribe: <https://mails.dpdk.org/listinfo/test-report>,
 <mailto:test-report-request@dpdk.org?subject=subscribe>
Errors-To: test-report-bounces@dpdk.org

Test-Label: iol-unit-arm64-testing
Test-Status: SUCCESS
http://dpdk.org/patch/151140

_Testing PASS_

Submitter: Soumyadeep Hore <soumyadeep.hore@intel.com>
Date: Friday, February 07 2025 12:43:00 
DPDK git baseline: Repo:dpdk
  Branch: master
  CommitID:cebec711bdc507d1b271b50ea1e696db86a3a202

151138-151140 --> testing pass

Upstream job id: Generic-Unit-Test-DPDK#313079

Test environment and result as below:

+-----------------------------+----------------+--------------+------------------------------+---------------------------+
|         Environment         | dpdk_unit_test | lpm_autotest | cryptodev_sw_snow3g_autotest | cryptodev_sw_zuc_autotest |
+=============================+================+==============+==============================+===========================+
| 32-bit Ubuntu 22.04.4 (ARM) | PASS           | SKIPPED      | SKIPPED                      | SKIPPED                   |
+-----------------------------+----------------+--------------+------------------------------+---------------------------+
| Debian 12 (arm)             | PASS           | SKIPPED      | PASS                         | PASS                      |
+-----------------------------+----------------+--------------+------------------------------+---------------------------+
| Debian 11 (Buster) (ARM)    | PASS           | SKIPPED      | SKIPPED                      | SKIPPED                   |
+-----------------------------+----------------+--------------+------------------------------+---------------------------+
| CentOS Stream 9 (ARM)       | PASS           | SKIPPED      | SKIPPED                      | SKIPPED                   |
+-----------------------------+----------------+--------------+------------------------------+---------------------------+
| Fedora 41 (ARM)             | PASS           | SKIPPED      | SKIPPED                      | SKIPPED                   |
+-----------------------------+----------------+--------------+------------------------------+---------------------------+
| Fedora 40 (ARM)             | PASS           | SKIPPED      | SKIPPED                      | SKIPPED                   |
+-----------------------------+----------------+--------------+------------------------------+---------------------------+
| Fedora 40 (ARM Clang)       | PASS           | SKIPPED      | SKIPPED                      | SKIPPED                   |
+-----------------------------+----------------+--------------+------------------------------+---------------------------+
| RHEL9 (ARM)                 | PASS           | SKIPPED      | SKIPPED                      | SKIPPED                   |
+-----------------------------+----------------+--------------+------------------------------+---------------------------+
| Fedora 41 (ARM Clang)       | PASS           | SKIPPED      | SKIPPED                      | SKIPPED                   |
+-----------------------------+----------------+--------------+------------------------------+---------------------------+
| Ubuntu 20.04 (ARM)          | PASS           | SKIPPED      | SKIPPED                      | SKIPPED                   |
+-----------------------------+----------------+--------------+------------------------------+---------------------------+
| Ubuntu 22.04 (ARM)          | PASS           | SKIPPED      | SKIPPED                      | SKIPPED                   |
+-----------------------------+----------------+--------------+------------------------------+---------------------------+
| Ubuntu 24.04 (ARM)          | PASS           | SKIPPED      | SKIPPED                      | SKIPPED                   |
+-----------------------------+----------------+--------------+------------------------------+---------------------------+
| Ubuntu 20.04 ARM SVE        | SKIPPED        | PASS         | SKIPPED                      | SKIPPED                   |
+-----------------------------+----------------+--------------+------------------------------+---------------------------+


32-bit Ubuntu 22.04.4 (ARM)
	Kernel: 5.15.83+ aarch64
	Compiler: gcc (Ubuntu 11.4.0-1ubuntu1~22.04) 11.4.0

Debian 12 (arm)
	Kernel: Depends on container host
	Compiler: gcc (Debian 12.2.0-14) 12.2.0

Debian 11 (Buster) (ARM)
	Kernel: Depends on container host
	Compiler: gcc (Debian 10.2.1-6) 10.2.1 20210110

CentOS Stream 9 (ARM)
	Kernel: Depends on container host
	Compiler: gcc 11.5.0 20240719 (Red Hat 11.5.0-2)

Fedora 41 (ARM)
	Kernel: Depends on container host
	Compiler: gcc 14.2.1 20240912 (Red Hat 14.2.1-3)

Fedora 40 (ARM)
	Kernel: Depends on container host
	Compiler: gcc 14.2.1 20240912 (Red Hat 14.2.1-3)

Fedora 40 (ARM Clang)
	Kernel: Depends on container host
	Compiler: clang 18.1.8 (Fedora 18.1.8-1.fc40)

RHEL9 (ARM)
	Kernel: Depends on container host
	Compiler: gcc 11.5.0 20240719 (Red Hat 11.5.0-2)

Fedora 41 (ARM Clang)
	Kernel: Depends on container host
	Compiler: clang 19.1.5 (Fedora 19.1.5-1.fc41)

Ubuntu 20.04 (ARM)
	Kernel: Depends on container host
	Compiler: gcc (Ubuntu 9.4.0-1ubuntu1~20.04.2) 9.4.0

Ubuntu 22.04 (ARM)
	Kernel: Depends on container host
	Compiler: gcc (Ubuntu 11.4.0-1ubuntu1~22.04) 11.4.0

Ubuntu 24.04 (ARM)
	Kernel: Depends on container host
	Compiler: gcc (Ubuntu 13.3.0-6ubuntu2~24.04) 13.3.0

Ubuntu 20.04 ARM SVE
	Kernel: Depends on container host
	Compiler: gcc (Ubuntu 10.5.0-1ubuntu1~20.04) 10.5.0

To view detailed results, visit:
https://lab.dpdk.org/results/dashboard/patchsets/32532/

UNH-IOL DPDK Community Lab

To manage your email subscriptions, visit: 
https://lab.dpdk.org/results/dashboard/preferences/subscriptions/