From mboxrd@z Thu Jan 1 00:00:00 1970 Return-Path: Received: from mails.dpdk.org (mails.dpdk.org [217.70.189.124]) by inbox.dpdk.org (Postfix) with ESMTP id DB1AA461C6 for ; Sat, 8 Feb 2025 08:28:58 +0100 (CET) Received: from mails.dpdk.org (localhost [127.0.0.1]) by mails.dpdk.org (Postfix) with ESMTP id D2EDB40280; Sat, 8 Feb 2025 08:28:58 +0100 (CET) Received: from mail-pl1-f228.google.com (mail-pl1-f228.google.com [209.85.214.228]) by mails.dpdk.org (Postfix) with ESMTP id 17BEA40279 for ; Sat, 8 Feb 2025 08:28:58 +0100 (CET) Received: by mail-pl1-f228.google.com with SMTP id d9443c01a7336-21f573ff39bso25677685ad.1 for ; Fri, 07 Feb 2025 23:28:58 -0800 (PST) DKIM-Signature: v=1; a=rsa-sha256; c=relaxed/relaxed; d=iol.unh.edu; s=unh-iol; t=1738999737; x=1739604537; darn=dpdk.org; h=cc:to:from:subject:message-id:date:from:to:cc:subject:date :message-id:reply-to; bh=gWWIHSbJxHnOC3MoMT1T+3kODmNo5eztay0pEfk5EUA=; b=VkVfgVfvbDlQBBFn+uDFdDYH3cvJy9whY1YEgphU4EBDGmQrhFuIOM6CwpPpNoW6m0 qZlJuhZdthpfgJisyAQ9bbMBTECrT1suwNDhohP22+M3I4vrp48bwRfIUkZeoQ/rgMHQ KwtcsR2G/9SHGtQTCGRSVqTy0KgVrFUbQIPRE= X-Google-DKIM-Signature: v=1; a=rsa-sha256; c=relaxed/relaxed; d=1e100.net; s=20230601; t=1738999737; x=1739604537; h=cc:to:from:subject:message-id:date:x-gm-message-state:from:to:cc :subject:date:message-id:reply-to; bh=gWWIHSbJxHnOC3MoMT1T+3kODmNo5eztay0pEfk5EUA=; b=S4V/cnktd5pzZ5k36wJkYcDmmZCAE322DAko260bR18O0/dP/7st1HNiH8P50uwmcx cQV+oDrBeH2NuXbCCUhwEcLg0UnzhRz5Q4mFKnc2AfwpQ8yCud9InwkpSVAhIZhjZedA wJMU5ciw+uUo1F1arNYs0IxnHsZwTe7fZgBSIt0+xWdohY/blFH4SjSXy4haoKk08OqU 4boH3S1x5ZtEqrzrZdTjF7JCCEwk3kbYGKLcf+PDx195OmZ4P63bHzyyu9PH/cDm806r IvD54HeVwBxVwjURH63sjjTlkmBamGWX5FK2uDxQvETHvPwufZSd9iRo1eFd6AlgN5q+ byqg== X-Gm-Message-State: AOJu0Ywmq4ccRYZExzhEm6xkgPh9WDkyOiVwUb/rrHPKx71V3LUGwQB0 oujuVDHKB0lsKMcM9+7MI3Pr51/ZPp/JkmraCyd178si2lARiJ9CtGF4vNG5QIl9+CD+hObhoED AEs9jLKmryK7hbKjOKY84t41Ot9ql+Jfl X-Gm-Gg: ASbGnct3F0H3RYZCbGmkSW2GP+tXtE2KEwKemz+iLflitbCxrsWYpRXB4MCToodPdaQ sORnvzmJ47/jm1xH5uObu3md9Hd1dJhpjJ0NXMlcnWGoch0hRQBBYCI6aWcHKarTxjHJkYAno7y yQw3pVlkpaToJpzrKnG+nCk5EJTemUgTI9li4AjdH2GOCQ1FBhsk2Qlt3GT9qeWm5U7c8mMlC1k +seuDvNSaUEUsp9WzFyrdDUw+WUysiSaGYHG1/pFLGpwNel+1wJitpSgnjqKzwOKXnLml3kmoQ1 wZPd2ujdgq/acPFqu452VgagccPr0w== X-Google-Smtp-Source: AGHT+IFhlanpF0FHkISuA2HawbfpYLqtbw/aLlCIB17Ohb9gSnubVv7JXWYNSJ/F8Q1+7DLg4W2y/6zH7DQG X-Received: by 2002:a17:903:2984:b0:21f:baa:80be with SMTP id d9443c01a7336-21f4e763c71mr82402075ad.46.1738999737260; Fri, 07 Feb 2025 23:28:57 -0800 (PST) Received: from postal.iol.unh.edu (postal.iol.unh.edu. [132.177.123.84]) by smtp-relay.gmail.com with ESMTPS id d9443c01a7336-21f3656138csm2906815ad.51.2025.02.07.23.28.57 (version=TLS1_2 cipher=ECDHE-ECDSA-AES128-GCM-SHA256 bits=128/128); Fri, 07 Feb 2025 23:28:57 -0800 (PST) X-Relaying-Domain: iol.unh.edu Date: Fri, 07 Feb 2025 23:28:57 -0800 (PST) Message-ID: <67a707b9.170a0220.399406.e57dSMTPIN_ADDED_MISSING@mx.google.com> Received: from [172.21.0.5] (unknown [172.18.0.240]) by postal.iol.unh.edu (Postfix) with ESMTP id 6C8C56052471; Sat, 8 Feb 2025 02:28:56 -0500 (EST) Subject: |WARNING| [GIT MASTER] 7ce7d3341d7e21c2a81f2fea8e451681d7306d77 From: dpdklab@iol.unh.edu To: Test Report Cc: dpdk-test-reports@iol.unh.edu, Xueming Li , Christian Ehrhardt , Kevin Traynor , Luca Boccassi Content-Type: text/plain X-BeenThere: test-report@dpdk.org X-Mailman-Version: 2.1.29 Precedence: list List-Id: automatic DPDK test reports List-Unsubscribe: , List-Archive: List-Post: List-Help: List-Subscribe: , Errors-To: test-report-bounces@dpdk.org _Testing issues_ Branch: tags/v22.11 7ce7d3341d7e21c2a81f2fea8e451681d7306d77 --> testing issues Upstream job id: ACVP-FIPS-testing#8808 Test environment and result as below: +--------------------+----------------------+----------------------+ | Environment | compressdev_zlib_pmd | dpdk_fips_validation | +====================+======================+======================+ | Ubuntu 22.04 (ARM) | PASS | SKIPPED | +--------------------+----------------------+----------------------+ | Ubuntu 22.04 | PASS | SKIPPED | +--------------------+----------------------+----------------------+ | Ubuntu 20.04 | SKIPPED | WARN | +--------------------+----------------------+----------------------+ ==== 20 line log output for Ubuntu 20.04 (dpdk_fips_validation): ==== INFO:root:Fetching verdict... INFO:root:Downloading verdict for vector set 2879203 INFO:root:Vector set verdict not ready, waiting 30 seconds... INFO:root:Vector set verdict not ready, waiting 30 seconds... INFO:root:Done INFO:root:Using response file... INFO:root:Uploading response file... INFO:root:Fetching verdict... INFO:root:Downloading verdict for vector set 2879204 INFO:root:Vector set verdict not ready, waiting 30 seconds... INFO:root:Vector set verdict not ready, waiting 30 seconds... INFO:root:Done INFO:root:Using response file... INFO:root:Uploading response file... INFO:root:Fetching verdict... INFO:root:Downloading verdict for vector set 2879205 INFO:root:Vector set verdict not ready, waiting 30 seconds... INFO:root:Vector set verdict not ready, waiting 30 seconds... INFO:root:Vector set verdict not ready, waiting 30 seconds... INFO:root:Done ==== End log output ==== Ubuntu 22.04 (ARM) Kernel: 5.15.0-97-generic Compiler: gcc gcc (Ubuntu 11.4.0-1ubuntu1~22.04) 11.4.0 Ubuntu 22.04 Kernel: 5.15.0-100-generic Compiler: gcc gcc (Ubuntu 11.4.0-1ubuntu1~22.04) 11.4.0 Ubuntu 20.04 Kernel: Depends on container host Compiler: gcc (Ubuntu 9.4.0-1ubuntu1~20.04.2) 9.4.0 To view detailed results, visit: https://lab.dpdk.org/results/dashboard/tarballs/32468/ UNH-IOL DPDK Community Lab To manage your email subscriptions, visit: https://lab.dpdk.org/results/dashboard/preferences/subscriptions/