From mboxrd@z Thu Jan 1 00:00:00 1970 Return-Path: Received: from mails.dpdk.org (mails.dpdk.org [217.70.189.124]) by inbox.dpdk.org (Postfix) with ESMTP id 6F5B0461C6 for ; Sat, 8 Feb 2025 08:44:54 +0100 (CET) Received: from mails.dpdk.org (localhost [127.0.0.1]) by mails.dpdk.org (Postfix) with ESMTP id 6B0A5402BB; Sat, 8 Feb 2025 08:44:54 +0100 (CET) Received: from mail-il1-f228.google.com (mail-il1-f228.google.com [209.85.166.228]) by mails.dpdk.org (Postfix) with ESMTP id CB12140280 for ; Sat, 8 Feb 2025 08:44:52 +0100 (CET) Received: by mail-il1-f228.google.com with SMTP id e9e14a558f8ab-3d14811cabfso3459385ab.1 for ; Fri, 07 Feb 2025 23:44:52 -0800 (PST) DKIM-Signature: v=1; a=rsa-sha256; c=relaxed/relaxed; d=iol.unh.edu; s=unh-iol; t=1739000692; x=1739605492; darn=dpdk.org; h=cc:to:from:subject:message-id:date:from:to:cc:subject:date :message-id:reply-to; bh=Y1oHusE2vtqnjWI8QlP08nv5DwKyYBibrvWEFrE/u2g=; b=Uq+0iB3J44Mkp9Z1fUM6DXmmFntoTXbhM4nuZbpGy58g0LVDKU2dL/jSDOxf1DlkFJ YjPGAOuI82N9R3gPjt9zR9b4Tc4Qe0tWtguvm5fC1UQI0qvWX8YSnBW3uLhJapPst0Zi gRlY4R5o+eDu8dS8TO7S1CPbmzmE2LyqH0qfE= X-Google-DKIM-Signature: v=1; a=rsa-sha256; c=relaxed/relaxed; d=1e100.net; s=20230601; t=1739000692; x=1739605492; h=cc:to:from:subject:message-id:date:x-gm-message-state:from:to:cc :subject:date:message-id:reply-to; bh=Y1oHusE2vtqnjWI8QlP08nv5DwKyYBibrvWEFrE/u2g=; b=ly71J7IfGK03M+fwSsYLwpsXb3KEp3sIJyDusqP4S3PQZYlBWiLjMD/M2vMjpg8Vc5 DryF66LJRgsn2cffq62oVNLpaEImsXQezEa2mo+O7kQtlDBr5ssLFySKWTkUyMB94Ly1 iqGFP0EApGZgj66oA9hgP+5fruUCUdbl7rB+KoVLr1CxJ2Zw0wKpLV1ziA/bOCwpp3Tz Nk7yqhj0NxSiWZ0XxYSVmjSN29ZLNujTFU6ExQQM736v5li0mQnYM7PF3daPbR1tuDCc GDLmNfEx4vpRndhn/8Fu0u6E0OI4+4wvucj607Pz91XjxHT7bT1xFMSRhhV4yUs4extl DeBg== X-Gm-Message-State: AOJu0Yz4ewieCPx5KzlYwojo+/YXdreHtsABl9venXqBotLjzv5GBlEe udO3qZFpBP8/2nw1r/mQ5RohpWqe+5iw/Hcov/SIBScEo8WtZPBTQBJUgEZ7GxohB9sPWAZ1d1B VS6VRdUUe2eUg5OwTpg7Abm9DuOfNqd86 X-Gm-Gg: ASbGncsc4EdRzd+XigyfdowbhuT0coL7xcCWzG2bRRppOqZUSbID6h0L0bEfh+R7yTF LSl+TJq2d6J55FlIc7n9l59iiZNC1JaltvEEn+WG5i6aixTk8g5SeBKGdvFsaFUAgCSSbr+19Ze bihYv5kKDyVQ6AR8yFydRS8yAH0ofRo5BgvVbccfeVjZ16qEgSGGLs4T3xpTOTDKuL1xJcALp/I vPGDhrU9s/lJOs4CYjsFgjYBm0znLcMS360rOir2k9gCBuVN8w62w0Ws0SKWg3Iz2j/wsILrtlQ TOhwv6h1TLTk0ferjnGn1UbmXpL7EQ== X-Google-Smtp-Source: AGHT+IEMMo74pJYvz99iTOB6HI5iztSobyvpDxY/wUeiYNvBq4W3ZtaNTSsMu/vZS/1ch9PpLz2ZdAKSUHW+ X-Received: by 2002:a92:c241:0:b0:3cf:c85c:4f60 with SMTP id e9e14a558f8ab-3d13dd4ba6amr47329295ab.11.1739000692188; Fri, 07 Feb 2025 23:44:52 -0800 (PST) Received: from postal.iol.unh.edu (postal.iol.unh.edu. [132.177.123.84]) by smtp-relay.gmail.com with ESMTPS id 8926c6da1cb9f-4eccf9a9a73sm326308173.5.2025.02.07.23.44.52 (version=TLS1_2 cipher=ECDHE-ECDSA-AES128-GCM-SHA256 bits=128/128); Fri, 07 Feb 2025 23:44:52 -0800 (PST) X-Relaying-Domain: iol.unh.edu Date: Fri, 07 Feb 2025 23:44:52 -0800 (PST) Message-ID: <67a70b74.050a0220.ab808.04a7SMTPIN_ADDED_MISSING@mx.google.com> Received: from [172.21.0.5] (unknown [172.18.0.240]) by postal.iol.unh.edu (Postfix) with ESMTP id 93D986052471; Sat, 8 Feb 2025 02:44:51 -0500 (EST) Subject: |SUCCESS| [GIT MASTER] f2eea2f37a82bb73fb01d56350708f7d70e21379 From: dpdklab@iol.unh.edu To: Test Report Cc: dpdk-test-reports@iol.unh.edu, Xueming Li , Christian Ehrhardt , Kevin Traynor , Luca Boccassi Content-Type: text/plain X-BeenThere: test-report@dpdk.org X-Mailman-Version: 2.1.29 Precedence: list List-Id: automatic DPDK test reports List-Unsubscribe: , List-Archive: List-Post: List-Help: List-Subscribe: , Errors-To: test-report-bounces@dpdk.org _Testing PASS_ Branch: tags/v24.11 f2eea2f37a82bb73fb01d56350708f7d70e21379 --> testing pass Upstream job id: Generic-VM-DPDK-Compile-Meson#33159 Test environment and result as below: +---------------------+-------------------------+-------------------+--------------------+ | Environment | dpdk_llvm_clang_compile | dpdk_msvc_compile | dpdk_meson_compile | +=====================+=========================+===================+====================+ | Windows Server 2022 | PASS | PASS | SKIPPED | +---------------------+-------------------------+-------------------+--------------------+ | FreeBSD 13.4 | SKIPPED | SKIPPED | PASS | +---------------------+-------------------------+-------------------+--------------------+ Windows Server 2022 Kernel: 10.0.20348.2031 Compiler: clang 15.0.7, gcc 14.1.0 (MinGW), and MSVC VS 19.39.33521 FreeBSD 13.4 Kernel: 13.4-RELEASE-p1 Compiler: clang 18.1.6 To view detailed results, visit: https://lab.dpdk.org/results/dashboard/tarballs/32504/ UNH-IOL DPDK Community Lab To manage your email subscriptions, visit: https://lab.dpdk.org/results/dashboard/preferences/subscriptions/