From mboxrd@z Thu Jan 1 00:00:00 1970 Return-Path: Received: from mails.dpdk.org (mails.dpdk.org [217.70.189.124]) by inbox.dpdk.org (Postfix) with ESMTP id 827A3461C6 for ; Sat, 8 Feb 2025 08:45:17 +0100 (CET) Received: from mails.dpdk.org (localhost [127.0.0.1]) by mails.dpdk.org (Postfix) with ESMTP id 7F648402BB; Sat, 8 Feb 2025 08:45:17 +0100 (CET) Received: from mail-pj1-f100.google.com (mail-pj1-f100.google.com [209.85.216.100]) by mails.dpdk.org (Postfix) with ESMTP id 9951440280 for ; Sat, 8 Feb 2025 08:45:16 +0100 (CET) Received: by mail-pj1-f100.google.com with SMTP id 98e67ed59e1d1-2f9bd7c480eso5102785a91.1 for ; Fri, 07 Feb 2025 23:45:16 -0800 (PST) DKIM-Signature: v=1; a=rsa-sha256; c=relaxed/relaxed; d=iol.unh.edu; s=unh-iol; t=1739000716; x=1739605516; darn=dpdk.org; h=cc:to:from:subject:message-id:date:from:to:cc:subject:date :message-id:reply-to; bh=Cf1XTfh9yUddcMEEn3+6Q/uLjsBoEmQZkofAPR0jPU0=; b=hXB4/Qy8Wg97lXmEGdXN3kXRAQJQhoaSeoyRg3AZ+3Dq/j9vkjDt0gbeOBScjoEJoY rtljB+2not/zQtAoUw7JATtitcfUfforH8/WNnosiCDAoMMZ+4o28AEac6Lw9r9drPAj B5osVhe1P+G6HUEvPnb8CN8DiBcbVnv526ox8= X-Google-DKIM-Signature: v=1; a=rsa-sha256; c=relaxed/relaxed; d=1e100.net; s=20230601; t=1739000716; x=1739605516; h=cc:to:from:subject:message-id:date:x-gm-message-state:from:to:cc :subject:date:message-id:reply-to; bh=Cf1XTfh9yUddcMEEn3+6Q/uLjsBoEmQZkofAPR0jPU0=; b=ABSDFBR/bMVR/+qz3TSo12bTSs3CQNwZHt5X0dBUFG8wM9W8sYeuykSy3ucsUQdnhw bGnUCTfu4EH6pUig0apCYqKwJt2ADBpPMEcFCWCh8fGgZroLzhNy7YIes9wJBDWbcxar gBPx26EkT6v9QvOlIv8F7vkX2R3fVYo4PYkjKxxlEkMwoyrnyQiVKvcpeB8p7C2mj3on HKzSnV0qDidCsTJ6CksA01iqWt/ZEQQH1jnfiW5prNbXYxI3PUB7eSelbzMioqAah0d8 uqFkm6CLzwhT/dIQ4RaJJly3XQq74hAuv8YWflxTuOUwW55xRLai7NWyAg3fZ4zFpg7Z eASw== X-Gm-Message-State: AOJu0YwTQzSGicy5gu0THFPlwYoB9/UM+0t9/x6ytps6Uh33ff731o9i jMqXvgFb3yvm6DBvjY6e/aMFkcFJXO8hp9zHIWf7mvQcAWnh9Y/ytCFSINA+OaD66Tev1DPHsBh 4uINugIaHuaXtETrK8lCDM6UQlEjPh1dB X-Gm-Gg: ASbGncsdNek10R9Ir9tr5cRyWpoDUA/u8f5W1x6dssxljTHodp5SbgT3KbZ/Fk3G53a IV/rirmXKH23kBkoShI5ToguA9nAs/VpVtNGKKPDV3rKqW9PnJvrRTI+LOJNhv/T8YHCtQtyGDt VrTUAjQIVYgCPMLvEO0WwakNiMjDSMvaXG0u1N8Srz12FN28VcJYfdRgRbpVIc2ANhzRDBSMCL5 lTzJ6ilzOv6oMa1fBtIPboFdabl5h7kGRFolBa9QKKYqY/18cTy3UTNq4qxKf326MWFvj8m/ZJY WTa+m6oZuxQ2kSU9FfWF94GMwXEyKA== X-Google-Smtp-Source: AGHT+IF7fq10t/MQtAQh6urwijVdX1I4VuLCcfjM9lPmVVoL3pWYxjJ0ypxce0cJpaFlYDXT3LBfA2Isp83o X-Received: by 2002:a05:6a00:420b:b0:72a:8b8f:a0f1 with SMTP id d2e1a72fcca58-7305d509d2fmr10586444b3a.20.1739000715844; Fri, 07 Feb 2025 23:45:15 -0800 (PST) Received: from postal.iol.unh.edu (postal.iol.unh.edu. [132.177.123.84]) by smtp-relay.gmail.com with ESMTPS id d2e1a72fcca58-73048ad5480sm251731b3a.7.2025.02.07.23.45.15 (version=TLS1_2 cipher=ECDHE-ECDSA-AES128-GCM-SHA256 bits=128/128); Fri, 07 Feb 2025 23:45:15 -0800 (PST) X-Relaying-Domain: iol.unh.edu Date: Fri, 07 Feb 2025 23:45:15 -0800 (PST) Message-ID: <67a70b8b.050a0220.980eb.cc52SMTPIN_ADDED_MISSING@mx.google.com> Received: from [172.21.0.5] (unknown [172.18.0.240]) by postal.iol.unh.edu (Postfix) with ESMTP id F3CCE6052471; Sat, 8 Feb 2025 02:45:14 -0500 (EST) Subject: |SUCCESS| [GIT MASTER] f2eea2f37a82bb73fb01d56350708f7d70e21379 From: dpdklab@iol.unh.edu To: Test Report Cc: dpdk-test-reports@iol.unh.edu, Xueming Li , Christian Ehrhardt , Kevin Traynor , Luca Boccassi Content-Type: text/plain X-BeenThere: test-report@dpdk.org X-Mailman-Version: 2.1.29 Precedence: list List-Id: automatic DPDK test reports List-Unsubscribe: , List-Archive: List-Post: List-Help: List-Subscribe: , Errors-To: test-report-bounces@dpdk.org _Testing PASS_ Branch: tags/v24.11 f2eea2f37a82bb73fb01d56350708f7d70e21379 --> testing pass Upstream job id: Windows-Compile-DPDK-VS#4869 Test environment and result as below: +---------------------+-------------------------+-------------------+--------------------+ | Environment | dpdk_llvm_clang_compile | dpdk_msvc_compile | dpdk_meson_compile | +=====================+=========================+===================+====================+ | Windows Server 2022 | PASS | PASS | SKIPPED | +---------------------+-------------------------+-------------------+--------------------+ | FreeBSD 13.4 | SKIPPED | SKIPPED | PASS | +---------------------+-------------------------+-------------------+--------------------+ Windows Server 2022 Kernel: 10.0.20348.2031 Compiler: clang 15.0.7, gcc 14.1.0 (MinGW), and MSVC VS 19.39.33521 FreeBSD 13.4 Kernel: 13.4-RELEASE-p1 Compiler: clang 18.1.6 To view detailed results, visit: https://lab.dpdk.org/results/dashboard/tarballs/32504/ UNH-IOL DPDK Community Lab To manage your email subscriptions, visit: https://lab.dpdk.org/results/dashboard/preferences/subscriptions/